BEGIN:VCALENDAR
VERSION:2.0
PRODID:-//Joe Bradley Auctioneers - ECPv6.15.20//NONSGML v1.0//EN
CALSCALE:GREGORIAN
METHOD:PUBLISH
X-WR-CALNAME:Joe Bradley Auctioneers
X-ORIGINAL-URL:https://jbauctioneers.net
X-WR-CALDESC:Events for Joe Bradley Auctioneers
REFRESH-INTERVAL;VALUE=DURATION:PT1H
X-Robots-Tag:noindex
X-PUBLISHED-TTL:PT1H
BEGIN:VTIMEZONE
TZID:America/Los_Angeles
BEGIN:DAYLIGHT
TZOFFSETFROM:-0800
TZOFFSETTO:-0700
TZNAME:PDT
DTSTART:20220313T100000
END:DAYLIGHT
BEGIN:STANDARD
TZOFFSETFROM:-0700
TZOFFSETTO:-0800
TZNAME:PST
DTSTART:20221106T090000
END:STANDARD
BEGIN:DAYLIGHT
TZOFFSETFROM:-0800
TZOFFSETTO:-0700
TZNAME:PDT
DTSTART:20230312T100000
END:DAYLIGHT
BEGIN:STANDARD
TZOFFSETFROM:-0700
TZOFFSETTO:-0800
TZNAME:PST
DTSTART:20231105T090000
END:STANDARD
BEGIN:DAYLIGHT
TZOFFSETFROM:-0800
TZOFFSETTO:-0700
TZNAME:PDT
DTSTART:20240310T100000
END:DAYLIGHT
BEGIN:STANDARD
TZOFFSETFROM:-0700
TZOFFSETTO:-0800
TZNAME:PST
DTSTART:20241103T090000
END:STANDARD
END:VTIMEZONE
BEGIN:VEVENT
DTSTART;TZID=America/Los_Angeles:20230726T123500
DTEND;TZID=America/Los_Angeles:20230726T123500
DTSTAMP:20260423T113700
CREATED:20230626T160205Z
LAST-MODIFIED:20230721T181149Z
UID:17758-1690374900-1690374900@jbauctioneers.net
SUMMARY:OTAY MESA - AUTO AUCTION
DESCRIPTION:Presented By: PUBLIC AUTO AUCTIONUp to 70 Lien Sale VehiclesWednesday July 26th  @ 12:35pm(Preview 12:00pm) Auctions held Wednesdays*** NEW LOCATION ***Otay Valley Rd & Heritage Rd\, Chula Vista(Look for signs to the new facility from this location\, actual site is up the hill on 738 Heritage Rd.)Phone: 619-694-7809For a map and directions\, click here Here are some photos of vehicles available at this week’s Western Towing Auto Auction.Click on any of the images below to see the larger picture.\n\n\n\n\nno images were found \n\n\n\nTo download a copy of the list in Adobe pdf format\, Click here.\n\n\n\n\n\n\n	NOCONTROLYEAR/MAKEMODELREF NOLS/T\n\n\n\n\n	123-170404 MAZDARX8323515LS\n\n\n	223-188207 HONDACIVIC325654LS\n\n\n	323-174608 HONDACIVIC323942LS\n\n\n	423-152501 JEEPCHEROKEE321276LS\n\n\n	523-189408 SUBARUIMPREZA325502LS\n\n\n	623-179698 TOYOTACAMRY324556LS\n\n\n	723-185601 TOYOTACAMRY325488LS\n\n\n	823-185899 HONDAACCORD325533LS\n\n\n	923-159102 FORDEXPLORER322283LS\n\n\n	10LS\n\n\n	1123-174496 FORDESCORT323759LS\n\n\n	1222-041806 TOYOTA4RUNNER263538LS\n\n\n	1323-183006 BMWX5325156LS\n\n\n	1423-173396 HONDACIVIC323983LS\n\n\n	1523-186402 PONTIACGRAND AM325700LS\n\n\n	1623-190696 HONDACIVIC326026LS\n\n\n	17N/A01 FORDEXPEDITION323737TITLE\n\n\n	1823-185306 FORDEXPLORER325317LS\n\n\n	1923-166300 MERCEDESCLK430323052LS\n\n\n	2023-176099 HONDAODYSSEY323871LS\n\n\n	2123-180207 INFINITIG35324896LS\n\n\n	2223-179802 FORDEXPLORER324833LS\n\n\n	2323-169604 TOYOTARAV4323537LS\n\n\n	2423-173400 INFINITII30324128LS\n\n\n	2523-190508 SUZUKISX4326009LS\n\n\n	2623-149811 CHEVROLETTRAVERSE320804LS\n\n\n	2723-183491 INFINITIG20325247LS\n\n\n	2823-185700 TOYOTAAVALON325532LS\n\n\n	2922-290112 FORDFOCUS291684LS\n\n\n	3022-348713 FORDESCAPE298419LS\n\n\n	3123-142901 TOYOTA4RUNNER320208LS\n\n\n	3223-188306 JEEPLIBERTY325676LS\n\n\n	3323-187698 TOYOTACAMRY325411LS\n\n\n	3423-159502 FORDRANGER322057LS\n\n\n	3523-192012 MINI COOPERHARDTOP326022LS\n\n\n	3623-169295 NISSANQUEST323534LS\n\n\n	3723-143009 NISSANALTIMA320201LS\n\n\n	3823-188006 MAZDATRIBUTE325527LS\n\n\n	3923-178998 HONDACIVIC324801LS\n\n\n	4023-178802 CHEVROLETS10324739LS\n\n\n	4123-190802 VOLKSWAGENBEETLE326038LS\n\n\n	4223-179000 TOYOTACOROLLA324834LS\n\n\n	4323-169795 HONDAODYSSEY323538LS\n\n\n	4423-185500 LEXUSES325427LS\n\n\n	4523-189712 JEEPCOMPASS326119LS\n\n\n	4623-178607 TOYOTACAMRY324699LS\n\n\n	4723-191198 BMW528i325911LS\n\n\n	4823-189801 TOYOTACAMRY326015LS\n\n\n	4923-170900 CHEVROLETGMT400323628LS\n\n\n	5023-178496 CHEVROLET`G-SERIES VAN324548LS\n\n\n\n\n\n\n\nTERMS AND CONDITIONS\n\nCash Only – All Sales are Final\n$200.00 refundable cash deposit to bid\nRefunds are available anytime during auction\nAll cars must be paid for and picked up by 4pm on Thursday ( no exceptions )\nAdditional deposits are required on vehicle’s over $1000.00\nLien sale vehicles sold to the general public are sold as is with all vaults and defects\, you are required to pay all DMV back registration and obtain a smog certificate before receiving your title from the DMV\, sales tax for your purchase will be paid directly to the DMV upon submission of the lien sale packet you will receive at the conclusion of the auction. Out of state buyers\, check with your local DMV to be sure that they will accept California lien sale documents for registration in your state.
URL:https://jbauctioneers.net/event/otay-mesa-auto-auction-20230726/
LOCATION:Western Towing\, 738 Heritage Rd.\, San Diego\, CA\, 92154\, United States
END:VEVENT
END:VCALENDAR