BEGIN:VCALENDAR
VERSION:2.0
PRODID:-//Joe Bradley Auctioneers - ECPv6.15.20//NONSGML v1.0//EN
CALSCALE:GREGORIAN
METHOD:PUBLISH
X-WR-CALNAME:Joe Bradley Auctioneers
X-ORIGINAL-URL:https://jbauctioneers.net
X-WR-CALDESC:Events for Joe Bradley Auctioneers
REFRESH-INTERVAL;VALUE=DURATION:PT1H
X-Robots-Tag:noindex
X-PUBLISHED-TTL:PT1H
BEGIN:VTIMEZONE
TZID:America/Los_Angeles
BEGIN:DAYLIGHT
TZOFFSETFROM:-0800
TZOFFSETTO:-0700
TZNAME:PDT
DTSTART:20220313T100000
END:DAYLIGHT
BEGIN:STANDARD
TZOFFSETFROM:-0700
TZOFFSETTO:-0800
TZNAME:PST
DTSTART:20221106T090000
END:STANDARD
BEGIN:DAYLIGHT
TZOFFSETFROM:-0800
TZOFFSETTO:-0700
TZNAME:PDT
DTSTART:20230312T100000
END:DAYLIGHT
BEGIN:STANDARD
TZOFFSETFROM:-0700
TZOFFSETTO:-0800
TZNAME:PST
DTSTART:20231105T090000
END:STANDARD
BEGIN:DAYLIGHT
TZOFFSETFROM:-0800
TZOFFSETTO:-0700
TZNAME:PDT
DTSTART:20240310T100000
END:DAYLIGHT
BEGIN:STANDARD
TZOFFSETFROM:-0700
TZOFFSETTO:-0800
TZNAME:PST
DTSTART:20241103T090000
END:STANDARD
END:VTIMEZONE
BEGIN:VEVENT
DTSTART;TZID=America/Los_Angeles:20230816T123500
DTEND;TZID=America/Los_Angeles:20230816T123500
DTSTAMP:20260423T102126
CREATED:20230727T221624Z
LAST-MODIFIED:20230812T141152Z
UID:18160-1692189300-1692189300@jbauctioneers.net
SUMMARY:OTAY MESA - AUTO AUCTION
DESCRIPTION:Presented By: PUBLIC AUTO AUCTIONUp to 70 Lien Sale VehiclesWednesday August 16th  @ 12:35pm(Preview 12:00pm) Auctions held Wednesdays*** NEW LOCATION ***Otay Valley Rd & Heritage Rd\, Chula Vista(Look for signs to the new facility from this location\, actual site is up the hill on 738 Heritage Rd.)Phone: 619-694-7809For a map and directions\, click here Here are some photos of vehicles available at this week’s Western Towing Auto Auction.Click on any of the images below to see the larger picture.\n\n\n\n\nno images were found \n\n\n\nTo download a copy of the list in Adobe pdf format\, Click here.\n\n\n\n\n\n\n	NOCONTROLYEAR/MAKEMODELREF NOLS/T\n\n\n\n\n	123-209090 OLDSMOBILE 98328264LS\n\n\n	223-213106 BMW325i328637LS\n\n\n	323-206803 SATURNION327999LS\n\n\n	423-205396 OLDSMOBILECUTLASS327846LS\n\n\n	523-209195 MAZDAMPV328306LS\n\n\n	623-179698 TOYOTACAMRY324556LS\n\n\n	723-207511 DODGEGRD CARAVAN328250LS\n\n\n	823-204297 LEXUSES327752LS\n\n\n	923-170511 CHEVROLETTRAVERSE323666LS\n\n\n	1023-197203 LEXUSES327018LS\n\n\n	1123-176202 CHRYSLERTOWN&COUNTRY324227LS\n\n\n	1223-196901 MERCEDESE-CLASS326989LS\n\n\n	1323-197500 NISSANMAXIMA327021LS\n\n\n	1423-212004 FORDEXPLORER328500LS\n\n\n	1523-201006 BMWX3327243LS\n\n\n	1623-206603 MINI COOPER327904LS\n\n\n	1723-199303 SATURNL200327272LS\n\n\n	1823-183100 FORDF150325183LS\n\n\n	1923-064008 BMW328i310318LS\n\n\n	2023-186901 LEXUSES325541LS\n\n\n	2123-194902 CHRYSLERSEBRING326264LS\n\n\n	2223-199003 FORDMUSTANG327369LS\n\n\n	2323-169604 TOYOTARAV4323537LS\n\n\n	2423-188413 VOLKSWAGENJETTA325529LS\n\n\n	2523-199101 FORDTAURUS327383LS\n\n\n	2623-203398 FORDMUSTANG327556LS\n\n\n	2723-180402 CHEVROLETSILVERADO324553LS\n\n\n	2823-207004 NISSANMAXIMA328194LS\n\n\n	2923-099612 VOLKSWAGENCC314821LS\n\n\n	3022-348713 FORDESCAPE298419LS\n\n\n	3122-269305 DODGERAM 1500288944LS\n\n\n	3223-206299 TOYOTACAMRY327881LS\n\n\n	3323-187698 TOYOTACAMRY325411LS\n\n\n	3423-205106 BMW330ci327802LS\n\n\n	3523-208709 NISSANALTIMA328136LS\n\n\n	3623-209513 TOYOTACOROLLA328224LS\n\n\n	3723-207395 JEEPGRD CHEROKEE328135LS\n\n\n	3823-195797 FORDF150326268LS\n\n\n	3923-198602 HONDAACCORD327154LS\n\n\n	4023-194210 MERCEDESC-CLASS326190LS\n\n\n	4123-198704 FORDEXPLORER327162LS\n\n\n	4223-204902 MERCEDESSLK CLASS327800LS\n\n\n	4323-204091 CHEVROLETTRAILBLAZER327678LS\n\n\n	4423-160200 LEXUSES300322287LS\n\n\n	4523-189712 JEEPCOMPASS326911LS\n\n\n	4623-199800 FORDF250327409LS\n\n\n	4723-159803 FORDEXPEDITION322185LS\n\n\n	4823-212703 HONDAACCORD328512LS\n\n\n	4923-200803 LANDROVERDISCOVERY327251LS\n\n\n	5023-207296 PLYMOUTHGRD VOYAGER328042LS\n\n\n\n\n\n\n\nTERMS AND CONDITIONS\n\nCash Only – All Sales are Final\n$200.00 refundable cash deposit to bid\nRefunds are available anytime during auction\nAll cars must be paid for and picked up by 4pm on Thursday ( no exceptions )\nAdditional deposits are required on vehicle’s over $1000.00\nLien sale vehicles sold to the general public are sold as is with all vaults and defects\, you are required to pay all DMV back registration and obtain a smog certificate before receiving your title from the DMV\, sales tax for your purchase will be paid directly to the DMV upon submission of the lien sale packet you will receive at the conclusion of the auction. Out of state buyers\, check with your local DMV to be sure that they will accept California lien sale documents for registration in your state.
URL:https://jbauctioneers.net/event/otay-mesa-auto-auction-20230816/
LOCATION:Western Towing\, 738 Heritage Rd.\, San Diego\, CA\, 92154\, United States
END:VEVENT
END:VCALENDAR