BEGIN:VCALENDAR
VERSION:2.0
PRODID:-//Joe Bradley Auctioneers - ECPv6.15.20//NONSGML v1.0//EN
CALSCALE:GREGORIAN
METHOD:PUBLISH
X-ORIGINAL-URL:https://jbauctioneers.net
X-WR-CALDESC:Events for Joe Bradley Auctioneers
REFRESH-INTERVAL;VALUE=DURATION:PT1H
X-Robots-Tag:noindex
X-PUBLISHED-TTL:PT1H
BEGIN:VTIMEZONE
TZID:America/Los_Angeles
BEGIN:DAYLIGHT
TZOFFSETFROM:-0800
TZOFFSETTO:-0700
TZNAME:PDT
DTSTART:20220313T100000
END:DAYLIGHT
BEGIN:STANDARD
TZOFFSETFROM:-0700
TZOFFSETTO:-0800
TZNAME:PST
DTSTART:20221106T090000
END:STANDARD
BEGIN:DAYLIGHT
TZOFFSETFROM:-0800
TZOFFSETTO:-0700
TZNAME:PDT
DTSTART:20230312T100000
END:DAYLIGHT
BEGIN:STANDARD
TZOFFSETFROM:-0700
TZOFFSETTO:-0800
TZNAME:PST
DTSTART:20231105T090000
END:STANDARD
BEGIN:DAYLIGHT
TZOFFSETFROM:-0800
TZOFFSETTO:-0700
TZNAME:PDT
DTSTART:20240310T100000
END:DAYLIGHT
BEGIN:STANDARD
TZOFFSETFROM:-0700
TZOFFSETTO:-0800
TZNAME:PST
DTSTART:20241103T090000
END:STANDARD
END:VTIMEZONE
BEGIN:VEVENT
DTSTART;TZID=America/Los_Angeles:20230822T103000
DTEND;TZID=America/Los_Angeles:20230822T143000
DTSTAMP:20260423T104813
CREATED:20230819T072224Z
LAST-MODIFIED:20230819T142301Z
UID:18430-1692700200-1692714600@jbauctioneers.net
SUMMARY:OCEANSIDE - AUTO AUCTION
DESCRIPTION:Presented By:Auctions the 1st and 3rd Tuesdays of each monthPUBLIC AUTO AUCTIONUp to 80 Selected Vehicles\nTuesday August 22nd @ 10:30am1060 Airport Rd. (in the Oceanside location towing yard)Oceanside 92058Phone. 760-722-6686For a map and directions\, click here\nHere are some photos of vehicles available at this week’s S&R Towing auction.Vehicles posted are subject to change without notice.Click on any of the images below to see the larger picture.*** BOATS ***\n\n\n\n\nno images were found \n\n\n*** RUNNERS ***\n\n\n\n\nno images were found \n\n\n*** NON-RUNNERS ***\n\n\n\nno images were found \n\n\n\nTo download a copy of the list in Adobe pdf format\, Click here.\n\n\n\n\n\n\n\n	Call #Auction #YearMakeModelPlateVINodometer\n\n\n\n\n	10283912006JaguarS-Type6VFD783SAJWA01A46FN60335\n\n\n	2450022015Chrysler200DXC94821C3CCCAB9FN667896\n\n\n	10459432000ChevroletMalibu9AIT6951G1ND52J4Y6278320\n\n\n	10735442014HyundaiACCENT8YKL477KMHCT5AE8EU157038TITLE\n\n\n	10522952004BMW3 Series7LSN930WBAEV33474KR33795\n\n\n	10677362007ToyotaCorolla5YGS8141NXBR32E67Z835883TITLE\n\n\n	10426772015Chrysler2007HRD0011C3CCCAB3FN581600\n\n\n	10460882005FordMustang9AZK9481ZVFT80N755144759\n\n\n	108626PT92004DodgeRam Pickup 1500CF80F651D7HA18NX4S586308\n\n\n	103721102010ChevroletHHR6LVF8823GNBABDV6AS558265\n\n\n	105037112001Mercedes-BenzE-ClassBOLAXWDBJF65J01B303873SAL\n\n\n	101349122003BMW3 Series5AXE359WBABN33483PG60700TITLE\n\n\n	103901132012HondaAccord7EVH5561HGCP2F61CA053578SAL\n\n\n	104610142008MazdaMazda3CCGD68JM1BK32F381144959\n\n\n	105324152012ChevroletCruze8SGL3271G1PK5SCXC7188446\n\n\n	97973161998FordF-1505X389791FTZF18W6WNA54581\n\n\n	102227172007CadillacSTS7FIT2961G6DW677370161056T / SAL\n\n\n	105487181998HondaCivicOCQ9311HGEJ6124WL005538\n\n\n	105597192020ChevroletBolt EV8USU3331G1FY6S08L4149846\n\n\n	105796202006NissanSentra9EQB3173N1CB51D06L587899SAL\n\n\n	104980212003ChevroletExpress Cargo 35007C488691GCHG35U431174812\n\n\n	105815222000ToyotaRAV44NDW793JT3HP10V3Y7166553\n\n\n	105538231999LexusLS 4009CDG569JT8BH28F0X0158630\n\n\n	108542241998JeepGrand Cherokee4EBH0941J4FX58S8WC251150TITLE\n\n\n	105803252017VolkswagenPassatPJF05941VWDT7A36HC057238\n\n\n	104969262014Chrysler3007KAL2582C3CCAAG7EH262949\n\n\n	102148272008MazdaMazdaspeed3B3SRUJM1BK34L181821624\n\n\n	100106281999HondaAccord4GOA905JHMCG6676XC026139\n\n\n	106040291997FordTaurus8SGK8891FALP52U1VA102498\n\n\n	105144312006FordExplorer8KQG1811FMEU65E26UB32286\n\n\n	106134322001ChevroletSilverado 15006YIX5682GCEC19T011257021\n\n\n	105812332007ChevroletSilverado 1500 Classic73536F22GCEK13V971183491\n\n\n	105501342013ToyotaCorolla7CTB9655YFBU4EE6DP193064TITLE\n\n\n	104079352011ChevroletAveo1A1686LKL1TD5DE7BB235109\n\n\n	105389362003FordFocus710APY1FAFP34353W115504\n\n\n	63731372013JaguarXF8SMR564SAJWA0E76D8S67794\n\n\n	104994382011Mercedes-BenzC-Class8XUC174WDDGF5EB8BR144341\n\n\n	101937392008BMW3 Series6PZF692WBAWB33568P132516\n\n\n	105186402001Mercedes-BenzC-Class6WQL096WDBRF64JX1F029918\n\n\n	109116PT412010DodgeJourney8MQR2113D4PG4FB5AT237892\n\n\n	84845422011THOM21FT 4CW3850 B-181217\n\n\n	94508431995WELLCRAFTBOAT5686AM 1ZE1MJY175A030957\n\n\n	7310044BOATCF8238EZ\n\n\n	100025452015DodgeDart11/8/20228CKB4071C3CDFBB1FD123816129\,541\n\n\n	105129462007HondaCivic11/8/20226HBM9461HGFA16587L137648221\,437SAL\n\n\n	100031472006ToyotaCorollaOOS852 CPC1NXBR30E26Z740531146\,034\n\n\n	102323482013FordFocus4/24/20227AFU5831FADP3K26DL13870182\,615\n\n\n	105454491995ToyotaCamry12/28/20233LAC2274T1GK13E3SU076549244\,298\n\n\n	104268502016DodgeDartOOSJBX4191C3CDFFA8GD82177764\,187\n\n\n	104422512011NissanVersa10/10/20226NBR2383N1BC1CPXBL413535152\,947SAL\n\n\n	104626521999HondaAccord12/2/20225SEY897JHMCG6654XC009256256\,424\n\n\n	100888532003ToyotaTundra4/30/202007220U15TBRT34123S387910169\,102\n\n\n	103438542002ChevroletSuburbanOOSJYX58463GNFK16Z02G180683339\,623\n\n\n	102005552007BMW3 Series8/26/2023WBAVB735X7VH22654109\,410\n\n\n	101147562009LexusRX 3508/8/20226FLF6232T2HK31U19C113003100\,939\n\n\n	102440582006ChevroletSilverado 15008/26/20187Y499571GCEC19T66Z120258165\,578\n\n\n	105005592004ChevroletTahoe9/20/20236HZX3011GNEC13Z24R247610251\,538\n\n\n\n\n\n\n\n\n\n\nTERMS AND CONDITIONS\n\nBuyers fees: Dealers & Dismantlers $35.00\nGeneral Public $65.00\n$200.00 cash deposit required to bid\nAll vehicles must be paid for in full CASH ONLY at the conclusion of the auction\nAll vehicles must be removed by Friday following the auction\nLien sale vehicles sold to the general public are sold as is with all vaults and defects\, you are required to pay all DMV back registration and obtain a smog certificate before receiving your title from the DMV\, sales tax for your purchase will be paid directly to the DMV upon submission of the lien sale packet you will receive at the conclusion of the auction. Out of state buyers\, check with your local DMV to be sure that they will accept California lien sale documents for registration in your state.\nFor more info call direct 760-722-6686
URL:https://jbauctioneers.net/event/oceanside-auto-auction-20230822/
LOCATION:S&R Towing\, 1060 Airport Rd.\, Oceanside\, CA\, 92058\, United States
END:VEVENT
END:VCALENDAR