BEGIN:VCALENDAR
VERSION:2.0
PRODID:-//Joe Bradley Auctioneers - ECPv6.15.20//NONSGML v1.0//EN
CALSCALE:GREGORIAN
METHOD:PUBLISH
X-WR-CALNAME:Joe Bradley Auctioneers
X-ORIGINAL-URL:https://jbauctioneers.net
X-WR-CALDESC:Events for Joe Bradley Auctioneers
REFRESH-INTERVAL;VALUE=DURATION:PT1H
X-Robots-Tag:noindex
X-PUBLISHED-TTL:PT1H
BEGIN:VTIMEZONE
TZID:America/Los_Angeles
BEGIN:DAYLIGHT
TZOFFSETFROM:-0800
TZOFFSETTO:-0700
TZNAME:PDT
DTSTART:20220313T100000
END:DAYLIGHT
BEGIN:STANDARD
TZOFFSETFROM:-0700
TZOFFSETTO:-0800
TZNAME:PST
DTSTART:20221106T090000
END:STANDARD
BEGIN:DAYLIGHT
TZOFFSETFROM:-0800
TZOFFSETTO:-0700
TZNAME:PDT
DTSTART:20230312T100000
END:DAYLIGHT
BEGIN:STANDARD
TZOFFSETFROM:-0700
TZOFFSETTO:-0800
TZNAME:PST
DTSTART:20231105T090000
END:STANDARD
BEGIN:DAYLIGHT
TZOFFSETFROM:-0800
TZOFFSETTO:-0700
TZNAME:PDT
DTSTART:20240310T100000
END:DAYLIGHT
BEGIN:STANDARD
TZOFFSETFROM:-0700
TZOFFSETTO:-0800
TZNAME:PST
DTSTART:20241103T090000
END:STANDARD
END:VTIMEZONE
BEGIN:VEVENT
DTSTART;TZID=America/Los_Angeles:20230913T123500
DTEND;TZID=America/Los_Angeles:20230913T123500
DTSTAMP:20260423T091019
CREATED:20230727T221701Z
LAST-MODIFIED:20230908T041211Z
UID:18161-1694608500-1694608500@jbauctioneers.net
SUMMARY:OTAY MESA - AUTO AUCTION
DESCRIPTION:Presented By: PUBLIC AUTO AUCTIONUp to 70 Lien Sale VehiclesWednesday September 13th  @ 12:35pm(Preview 12:00pm) Auctions held WednesdaysOtay Valley Rd & Heritage Rd\, Chula Vista(Look for signs to our facility from this location\, actual site is up the hill on 738 Heritage Rd.)Phone: 619-694-7809For a map and directions\, click here Here are some photos of vehicles available at this week’s Western Towing Auto Auction.Click on any of the images below to see the larger picture.\n\n\n\n\nno images were found \n\n\n\nTo download a copy of the list in Adobe pdf format\, Click here.\n\n\n\n\n\n\n	NOCONTROLYEAR/MAKE MODELREF#LS/T\n\n\n\n\n	123-232292 TOYOTACAMRY330486LS\n\n\n	223-216306 MAZDA6329049LS\n\n\n	323-214904 HONDAACCORD328929LS\n\n\n	423-230011 AUDIA4330368LS\n\n\n	523-215199 TOYOTASIENNA328820LS\n\n\n	623-224202 CADILLACSEVILLE329655LS\n\n\n	723-207511 DODGECARAVAN328250LS\n\n\n	823-224304 LEXUSES329657LS\n\n\n	923-223603 FORDEXPEDITION329902LS\n\n\n	1023-224111 NISSANALTIMA329854LS\n\n\n	1123-237099 SATURNSL331284LS\n\n\n	1223-227304 JEEPLIBERTY329894LS\n\n\n	1323-211811 SUBARUOUTBACK328401LS\n\n\n	1423-233705 TOYOTACOROLLA330595LS\n\n\n	1523-217096 FORDEXPLORER329081LS\n\n\n	1623-232500 HYUNDAIELANTRA330735LS\n\n\n	1723-170105 VOLVOXC90323546LS\n\n\n	1823-233906 SCIONTC330572LS\n\n\n	1923-215705 TOYOTASIENNA328962LS\n\n\n	2023-231398 MITSUBISHIGALANT330612LS\n\n\n	2123-236808 SCIONTC331262LS\n\n\n	2223-222907 CADILLACCTS329776LS\n\n\n	2323-234099 TOYOTASOLARA330602LS\n\n\n	2423-216693 NISSANPATHFINDER329069LS\n\n\n	25N/A03 HONDACIVIC332265LS\n\n\n	2623-203398 FORDMUSTANG327556LS\n\n\n	2723-220207 DODGEGRD CARAVAN329347LS\n\n\n	2823-241099 TOYOTACAMRY331826LS\n\n\n	2923-229704 HONDAACCORD330361LS\n\n\n	3023-165107 TOYOTAPRIUS323035LS\n\n\n	3122-269305 DODGERAM 1500288944LS\n\n\n	3223-219604 TOYOTAHIGHLANDER329192LS\n\n\n	3323-227713 NISSANROGUE329790LS\n\n\n	3423-227601 HONDACIVIC330028LS\n\n\n	3523-198306 JEEPCOMMANDER327408LS\n\n\n	3622-137207 LEXUSIS250274908LS\n\n\n	3723-232003 MITSUBISHILANCER331020LS\n\n\n	3823-226810 NISSANVERSA329906LS\n\n\n	3923-223905 FORD500329591LS\n\n\n	4023-229911 BMW328i330364LS\n\n\n	4123-147403 CHEVROLETTAHOE320802LS\n\n\n	4223-233593 JEEPGRD CHEROKEE330539LS\n\n\n	4323-229808 JEEPPATRIOT330329LS\n\n\n	4423-233401 HONDAPASSPORT330488LS\n\n\n	4523-241909  CHRYSLER300C331960LS\n\n\n	4623-240395 CHEVROLETGMT400331708LS\n\n\n	4723-194401 BMW525i326416LS\n\n\n	4823-224704 NISSANARMADA329792LS\n\n\n	4923-200803 LANDROVERDISCOVERY327251LS\n\n\n	5023-237299 DODGEDURANGO331361LS\n\n\n\n\n\n\n\nTERMS AND CONDITIONS\n\nCash Only – All Sales are Final\n$200.00 refundable cash deposit to bid\nRefunds are available anytime during auction\nAll cars must be paid for and picked up by 4pm on Thursday ( no exceptions )\nAdditional deposits are required on vehicle’s over $1000.00\nLien sale vehicles sold to the general public are sold as is with all vaults and defects\, you are required to pay all DMV back registration and obtain a smog certificate before receiving your title from the DMV\, sales tax for your purchase will be paid directly to the DMV upon submission of the lien sale packet you will receive at the conclusion of the auction. Out of state buyers\, check with your local DMV to be sure that they will accept California lien sale documents for registration in your state.
URL:https://jbauctioneers.net/event/otay-mesa-auto-auction-20230913/
LOCATION:Western Towing\, 738 Heritage Rd.\, San Diego\, CA\, 92154\, United States
END:VEVENT
END:VCALENDAR