BEGIN:VCALENDAR
VERSION:2.0
PRODID:-//Joe Bradley Auctioneers - ECPv6.15.20//NONSGML v1.0//EN
CALSCALE:GREGORIAN
METHOD:PUBLISH
X-WR-CALNAME:Joe Bradley Auctioneers
X-ORIGINAL-URL:https://jbauctioneers.net
X-WR-CALDESC:Events for Joe Bradley Auctioneers
REFRESH-INTERVAL;VALUE=DURATION:PT1H
X-Robots-Tag:noindex
X-PUBLISHED-TTL:PT1H
BEGIN:VTIMEZONE
TZID:America/Los_Angeles
BEGIN:DAYLIGHT
TZOFFSETFROM:-0800
TZOFFSETTO:-0700
TZNAME:PDT
DTSTART:20220313T100000
END:DAYLIGHT
BEGIN:STANDARD
TZOFFSETFROM:-0700
TZOFFSETTO:-0800
TZNAME:PST
DTSTART:20221106T090000
END:STANDARD
BEGIN:DAYLIGHT
TZOFFSETFROM:-0800
TZOFFSETTO:-0700
TZNAME:PDT
DTSTART:20230312T100000
END:DAYLIGHT
BEGIN:STANDARD
TZOFFSETFROM:-0700
TZOFFSETTO:-0800
TZNAME:PST
DTSTART:20231105T090000
END:STANDARD
BEGIN:DAYLIGHT
TZOFFSETFROM:-0800
TZOFFSETTO:-0700
TZNAME:PDT
DTSTART:20240310T100000
END:DAYLIGHT
BEGIN:STANDARD
TZOFFSETFROM:-0700
TZOFFSETTO:-0800
TZNAME:PST
DTSTART:20241103T090000
END:STANDARD
END:VTIMEZONE
BEGIN:VEVENT
DTSTART;TZID=America/Los_Angeles:20230920T123500
DTEND;TZID=America/Los_Angeles:20230920T123500
DTSTAMP:20260423T090927
CREATED:20230901T222933Z
LAST-MODIFIED:20230915T231424Z
UID:18503-1695213300-1695213300@jbauctioneers.net
SUMMARY:OTAY MESA - AUTO AUCTION
DESCRIPTION:Presented By: PUBLIC AUTO AUCTIONUp to 70 Lien Sale VehiclesWednesday September 20th  @ 12:35pm(Preview 12:00pm) Auctions held WednesdaysOtay Valley Rd & Heritage Rd\, Chula Vista(Look for signs to our facility from this location\, actual site is up the hill on 738 Heritage Rd.)Phone: 619-694-7809For a map and directions\, click here Here are some photos of vehicles available at this week’s Western Towing Auto Auction.Click on any of the images below to see the larger picture.\n\n\n\n\nno images were found \n\n\n\nTo download a copy of the list in Adobe pdf format\, Click here.\n\n\n\n\n\n\n	NOCONTROLYEAR/MAKE MODELREF#LS/T\n\n\n\n\n	123-219904 SATURNION329197LS\n\n\n	223-216007 TOYOTACAMRY328822LS\n\n\n	323-005613 MINI COOPER303306LS\n\n\n	420-227901 FORDMUSTANG203255LS\n\n\n	523-235803 CHRYSLERPT CRUISER330778LS\n\n\n	622-327812 FIAT500295909LS\n\n\n	723-206912 KIAOPTIMA327934LS\n\n\n	823-219701 FORDEXPEDITION328956LS\n\n\n	923-237408 NISSANSENTRA331190LS\n\n\n	1023-214812 CHEVROLETCRUZE328817LS\n\n\n	1123-239699 HONDAACCORD331422LS\n\n\n	1223-153013 DODGEJOURNEY321469LS\n\n\n	1323-238808 KIAAMANTI331401LS\n\n\n	1423-223105 HONDACRV329640LS\n\n\n	1523-252394 NISSANALTIMA332989LS\n\n\n	1623-233001 FORDEXPLORER330734LS\n\n\n	1723-178115 DODGEDART324522LS\n\n\n	1823-231809 HONDAACCORD330871LS\n\n\n	1923-221605 MERCEDESE500329415LS\n\n\n	2023-158105 HONDACIVIC322039LS\n\n\n	21N/A96 CHEVROLETGMT400332536TITLE\n\n\n	2223-252609 VOLKSWAGENJETTA332988LS\n\n\n	2323-224899 HONDAACCORD329892LS\n\n\n	2422-296912 FIAT500292044LS\n\n\n	2523-177412 DODGEJOURNEY324430LS\n\n\n	2623-240109 NISSANALTIMA331659LS\n\n\n	2723-235298 SATURNSL2331153LS\n\n\n	2823-239801 CADILLACDEVILLE331675LS\n\n\n	29N/A11 HYUNDAISONATAN/ATITLE\n\n\n	3023-228012 TOYOTAPRIUS330281LS\n\n\n	3123-228203 FORDFOCUS330268LS\n\n\n	3223-173104 TOYOTACAMRY323698LS\n\n\n	33N/A13 HYUNDAIELANTRA5ATITLE\n\n\n	3423-252104 TOYOTACAMRY333011LS\n\n\n	3523-243806 INFINITIM35332185LS\n\n\n	3623-225110 NISSANROGUE329860LS\n\n\n	3723-245708 CHRYSLER300332262LS\n\n\n	3822-185912 FIAT500280697LS\n\n\n	3923-015407 FORDF150304530LS\n\n\n	4023-214203 FORDEXPEDITION329028LS\n\n\n	4122-181212 DODGECHALLENGER280276LS\n\n\n	4223-241108 LINCOLNMKX331908LS\n\n\n	4323-245210 NISSANSENTRA332250LS\n\n\n	4423-260594 DODGESHADOW333826LS\n\n\n	4523-227202 MINI COOPER330047LS\n\n\n	46N/A04 TOYOTACAMRYN/ATITLE\n\n\n	4723-257387 TOYOTACAMRY333601LS\n\n\n	48N/A02 FORDF150334709LS\n\n\n	49N/A10 TOYOTACOROLLA3ATITLE\n\n\n	5023-236098 ACURACL331210LS\n\n\n	51N/A06 CHEVROLETAVEON/ALS\n\n\n\n\n\n\n\nTERMS AND CONDITIONS\n\nCash Only – All Sales are Final\n$200.00 refundable cash deposit to bid\nRefunds are available anytime during auction\nAll cars must be paid for and picked up by 4pm on Thursday ( no exceptions )\nAdditional deposits are required on vehicle’s over $1000.00\nLien sale vehicles sold to the general public are sold as is with all vaults and defects\, you are required to pay all DMV back registration and obtain a smog certificate before receiving your title from the DMV\, sales tax for your purchase will be paid directly to the DMV upon submission of the lien sale packet you will receive at the conclusion of the auction. Out of state buyers\, check with your local DMV to be sure that they will accept California lien sale documents for registration in your state.
URL:https://jbauctioneers.net/event/otay-mesa-auto-auction-20230920/
LOCATION:Western Towing\, 738 Heritage Rd.\, San Diego\, CA\, 92154\, United States
END:VEVENT
END:VCALENDAR