BEGIN:VCALENDAR
VERSION:2.0
PRODID:-//Joe Bradley Auctioneers - ECPv6.15.20//NONSGML v1.0//EN
CALSCALE:GREGORIAN
METHOD:PUBLISH
X-ORIGINAL-URL:https://jbauctioneers.net
X-WR-CALDESC:Events for Joe Bradley Auctioneers
REFRESH-INTERVAL;VALUE=DURATION:PT1H
X-Robots-Tag:noindex
X-PUBLISHED-TTL:PT1H
BEGIN:VTIMEZONE
TZID:America/Los_Angeles
BEGIN:DAYLIGHT
TZOFFSETFROM:-0800
TZOFFSETTO:-0700
TZNAME:PDT
DTSTART:20220313T100000
END:DAYLIGHT
BEGIN:STANDARD
TZOFFSETFROM:-0700
TZOFFSETTO:-0800
TZNAME:PST
DTSTART:20221106T090000
END:STANDARD
BEGIN:DAYLIGHT
TZOFFSETFROM:-0800
TZOFFSETTO:-0700
TZNAME:PDT
DTSTART:20230312T100000
END:DAYLIGHT
BEGIN:STANDARD
TZOFFSETFROM:-0700
TZOFFSETTO:-0800
TZNAME:PST
DTSTART:20231105T090000
END:STANDARD
BEGIN:DAYLIGHT
TZOFFSETFROM:-0800
TZOFFSETTO:-0700
TZNAME:PDT
DTSTART:20240310T100000
END:DAYLIGHT
BEGIN:STANDARD
TZOFFSETFROM:-0700
TZOFFSETTO:-0800
TZNAME:PST
DTSTART:20241103T090000
END:STANDARD
END:VTIMEZONE
BEGIN:VEVENT
DTSTART;TZID=America/Los_Angeles:20230927T123500
DTEND;TZID=America/Los_Angeles:20230927T123500
DTSTAMP:20260423T091035
CREATED:20230901T223015Z
LAST-MODIFIED:20230922T214749Z
UID:18504-1695818100-1695818100@jbauctioneers.net
SUMMARY:OTAY MESA - AUTO AUCTION
DESCRIPTION:Presented By: PUBLIC AUTO AUCTIONUp to 70 Lien Sale VehiclesWednesday September 27th  @ 12:35pm(Preview 12:00pm) Auctions held WednesdaysOtay Valley Rd & Heritage Rd\, Chula Vista(Look for signs to our facility from this location\, actual site is up the hill on 738 Heritage Rd.)Phone: 619-694-7809For a map and directions\, click here Here are some photos of vehicles available at this week’s Western Towing Auto Auction.Click on any of the images below to see the larger picture.\n\n\n\n\nno images were found \n\n\n\nTo download a copy of the list in Adobe pdf format\, Click here.\n\n\n\n\n\n\n	NOCONTROLYEAR/MAKE MODELREF#LS/T\n\n\n\n\n	123-235399 HONDACIVIC330876LS\n\n\n	223-258004 INFINITIG35333681LS\n\n\n	322-349115 DODGEDART298558LS\n\n\n	423-230804 DODGENEON330447LS\n\n\n	523-234196 TOYOTACAMRY330603LS\n\n\n	623-203407 TOYOTACOROLLA327549LS\n\n\n	723-253905 FORDESCAPE333113LS\n\n\n	823-230905 CHEVROLETMALIBU330583LS\n\n\n	923-263312 CHEVROLETMALIBU334245LS\n\n\n	1023-214595 MAZDAB SERIES328816LS\n\n\n	1123-244901 MERCEDESE CLASS332476LS\n\n\n	1223-246102 BMW325i332377LS\n\n\n	1323-211811 SUBARUOUTBACK328401LS\n\n\n	1423-245507 MERCEDESE CLASS332306LS\n\n\n	1523-247005 VOLKSWAGENGTI332534LS\n\n\n	1623-231996 CHEVROLETBLAZER331006LS\n\n\n	1723-260710 HYUNDAIACCENT333823LS\n\n\n	1823-261798 FORDCONTOUR333987LS\n\n\n	1923-246702 SATURNSL2332254LS\n\n\n	2023-223803 LEXUSES300329766LS\n\n\n	2123-227897 HONDACIVIC329658LS\n\n\n	2223-221506 NISSANARMADA329475LS\n\n\n	2323-257508 HYUNDAISONATA333597LS\n\n\n	2423-262202 SATURNLS1334071LS\n\n\n	2523-243394 ACURAVIGOR332212LS\n\n\n	2623-266906 TOYOTARAV4334489LS\n\n\n	2723-236208 HYUNDAIACCENT331151LS\n\n\n	28N/A02 TOYOTACAMRYN/ATITLE\n\n\n	2923-229704 HONDAACCORD330361LS\n\n\n	3023-258908 VOLKSWAGENPASSAT333690LS\n\n\n	3123-223099 MERCURYVILLAGER329927LS\n\n\n	3223-245008 VOLKSWAGENJETTA332478LS\n\n\n	3322-321214 KIARIO295262LS\n\n\n	3420-256410 BMW750il206674LS\n\n\n	3523-257114 NISSANALTIMA333133LS\n\n\n	3622-137207 LEXUSIS250274908TITLE\n\n\n	3723-262901 HONDACIVIC334045LS\n\n\n	3821-044814 CHRYSLER200223182LS\n\n\n	3923-228399 FORDEXPEDITION330162LS\n\n\n	4023-260689 CHEVROLETASTROVAN333825LS\n\n\n	4123-245806 CHEVROLETAVALANCHE332271LS\n\n\n	4223-255400 TOYOTASOLARA333229LS\n\n\n	4323-246895 HONDAACCORD332255LS\n\n\n	4423-253808 CHRYSLERPT CRUISER333390LS\n\n\n	4523-260106 NISSANALTIMA333843LS\n\n\n	4623-242398 FORDEXPLORER332058LS\n\n\n	4723-236904 FORDEXPEDITION331287LS\n\n\n	4823-253302 FORDF150333128LS\n\n\n	4923-243713 NISSANMAXIMA332135LS\n\n\n	5023-216290 CHEVROLETG SERIES328949LS\n\n\n\n\n\n\n\nTERMS AND CONDITIONS\n\nCash Only – All Sales are Final\n$200.00 refundable cash deposit to bid\nRefunds are available anytime during auction\nAll cars must be paid for and picked up by 4pm on Thursday ( no exceptions )\nAdditional deposits are required on vehicle’s over $1000.00\nLien sale vehicles sold to the general public are sold as is with all vaults and defects\, you are required to pay all DMV back registration and obtain a smog certificate before receiving your title from the DMV\, sales tax for your purchase will be paid directly to the DMV upon submission of the lien sale packet you will receive at the conclusion of the auction. Out of state buyers\, check with your local DMV to be sure that they will accept California lien sale documents for registration in your state.
URL:https://jbauctioneers.net/event/otay-mesa-auto-auction-20230927/
LOCATION:Western Towing\, 738 Heritage Rd.\, San Diego\, CA\, 92154\, United States
END:VEVENT
END:VCALENDAR