BEGIN:VCALENDAR
VERSION:2.0
PRODID:-//Joe Bradley Auctioneers - ECPv6.15.20//NONSGML v1.0//EN
CALSCALE:GREGORIAN
METHOD:PUBLISH
X-ORIGINAL-URL:https://jbauctioneers.net
X-WR-CALDESC:Events for Joe Bradley Auctioneers
REFRESH-INTERVAL;VALUE=DURATION:PT1H
X-Robots-Tag:noindex
X-PUBLISHED-TTL:PT1H
BEGIN:VTIMEZONE
TZID:America/Los_Angeles
BEGIN:DAYLIGHT
TZOFFSETFROM:-0800
TZOFFSETTO:-0700
TZNAME:PDT
DTSTART:20220313T100000
END:DAYLIGHT
BEGIN:STANDARD
TZOFFSETFROM:-0700
TZOFFSETTO:-0800
TZNAME:PST
DTSTART:20221106T090000
END:STANDARD
BEGIN:DAYLIGHT
TZOFFSETFROM:-0800
TZOFFSETTO:-0700
TZNAME:PDT
DTSTART:20230312T100000
END:DAYLIGHT
BEGIN:STANDARD
TZOFFSETFROM:-0700
TZOFFSETTO:-0800
TZNAME:PST
DTSTART:20231105T090000
END:STANDARD
BEGIN:DAYLIGHT
TZOFFSETFROM:-0800
TZOFFSETTO:-0700
TZNAME:PDT
DTSTART:20240310T100000
END:DAYLIGHT
BEGIN:STANDARD
TZOFFSETFROM:-0700
TZOFFSETTO:-0800
TZNAME:PST
DTSTART:20241103T090000
END:STANDARD
END:VTIMEZONE
BEGIN:VEVENT
DTSTART;TZID=America/Los_Angeles:20231010T103000
DTEND;TZID=America/Los_Angeles:20231010T143000
DTSTAMP:20260423T073926
CREATED:20230901T222842Z
LAST-MODIFIED:20231007T141032Z
UID:18506-1696933800-1696948200@jbauctioneers.net
SUMMARY:OCEANSIDE - AUTO AUCTION
DESCRIPTION:Presented By:Auctions the 1st and 3rd Tuesdays of each monthPUBLIC AUTO AUCTIONUp to 80 Selected Vehicles\nTuesday October 10th @ 10:30am1060 Airport Rd. (in the Oceanside location towing yard)Oceanside 92058Phone. 760-722-6686For a map and directions\, click here\nHere are some photos of vehicles available at this week’s S&R Towing auction.Vehicles posted are subject to change without notice.Click on any of the images below to see the larger picture.*** RUNNERS ***\n\n\n\n\nno images were found \n\n\n*** NON-RUNNERS ***\n\n\n\nno images were found \n\n\n\nTo download a copy of the list in Adobe pdf format\, Click here.\n\n\n\n\n\n\n\n	Call #Lot #YearMakeModelEXP DATEPlateVINOdometerT/S\n\n\n\n\n	10660111997ChevroletC/K 2500 Series5H973531GCGC29R4VE209917\n\n\n	10649321994JeepCherokee5WOS2021J4FT28SXRL226829\n\n\n	112017H31992FordE-Series Cargo4CJN6701FDEE14N3NHB14534\n\n\n	112016H41996DodgeRam Van4NWL7782B6HB21X3TK128048\n\n\n	10924052005ChevroletTrailBlazer EXT5TLU6031GNET16S656131134\n\n\n	10980162002FordMustang5ROT6761FAFP40492F237608\n\n\n	10839671995FordE-Series BW65423 1FDEE14N2SHC12658\n\n\n	11138481997ToyotaT10003380A3JT4TN14D5V0037599T\n\n\n	10989592006FordF-150THX11001FTPX125X6KB31992\n\n\n	108358102008HyundaiEntourage6YVC204KNDMC233086046706\n\n\n	109609112007BMW3 SeriesNONEWBAVA33557PG50083\n\n\n	109738122004BMW3 Series6HBJ781WBABD53484PL12232\n\n\n	108196132000SaturnL-Series4MMD5001G8JW82R7YY656765\n\n\n	108890141997ChevroletC/K 1500 Series01863Y21GCEC19W2VE149241SAL\n\n\n	108967152002ToyotaCamry4XVZ5154T1BE32K22U590400\n\n\n	107823162006CadillacSTS5PYG233 1G6DW677760147112\n\n\n	106693172014FordFiesta9AQA2283FADP4EJ8EM150647\n\n\n	109663182001HondaCivic4VCP2632HGES16241H562528\n\n\n	109746202010ChevroletCobaltCRV83661G1AD5F54A7160425\n\n\n	110111211993SubaruLegacy8PWK0324S3BJ6536P9943916\n\n\n	109745221990BMW7 Series3WKF120WBAGC8313LDC77148\n\n\n	111409231992DolphinHD 00962JT5VN94T9N0028110\n\n\n	105061242005BMW3 Series5NJS766WBABD33485PL07442\n\n\n	109945252009ChevroletHHR6TWJ3993GNCA23B39S636878\n\n\n	111864262005FordEscape6MOC9211FMYU03135KB12133T\n\n\n	109865272003ToyotaCelica5VLK200JTDDR32T130153782\n\n\n	106824282006NissanTitan58238G21N6AA06A56N560218\n\n\n	107150292006DodgeChargerAZN88082B3KA53H26H378931\n\n\n	109918302005LincolnLS5RFC1541LNHM86S75Y623750\n\n\n	108657311993Chevrolet2500T059R0 2GCFC29K6P1179578\n\n\n	110353322001ToyotaCamry6LZR9064T1BF28K41U125338T\n\n\n	107555331993FordExplorerNOPLATE1FMDU34X4PUA37002\n\n\n	108255342005FordMustang5MGZ4711ZVFT80N255210957\n\n\n	107632352002ToyotaCamry Solara4VZU8402T1FF28P52C570199\n\n\n	106402362005HondaCivic6UVU7912HGES163X5H506737SAL\n\n\n	108523372005HondaCivic6MUW4101HGES16345L019424\n\n\n	110019381997Toyota4Runner8GJA773JT3GN87R7V0028215SAL\n\n\n	108094391982FordCourier2E97832 JC2UA1223C0606909\n\n\n	110272401984ChevroletCorvette3ROC9981G1AY0784E5114210\n\n\n	110416412005KiaSpectra9DRV711KNAFE121355150960\n\n\n	111928BS421997WILDERNESS1ED5B2129V1571943\n\n\n	110232432006ToyotaMatrix5RAD2162T1KR32E06C568028\n\n\n	108725442015ToyotaSienna2/22/20237RMB4425TDYK3DC5FS68364594170\n\n\n	106949452007ScionTC4/22/20248CZP907JTKDE177570209488216478SAL\n\n\n	108604462012NissanVersa1/24/20216UUJ4623N1CN7AP4CL863476145766\n\n\n	109173472008PontiacGrand Prix11/18/20228YVZ3182G2WP552881185934127809\n\n\n	109137482002ChevroletMalibuoosLG6A3S1G1NE52J82M522275232384\n\n\n	111380492005Nissan350Z3/14/20236VEJ377JN1AZ34D35M604296191327T\n\n\n	107913501998ToyotaTacoma2/28/20208N591094TAVL52N4WZ0955842146641\n\n\n	94689512006FordFusion1/8/20236KXE8653FAHP08136R148329130559\n\n\n	107503521992IsuzuRodeo9/22/20224S2CG58Z5N4338698182532\n\n\n	109696532006SaturnVue7/2/20235UFS4395GZCZ33D86S894294209563\n\n\n	93506542010ChryslerSebring11/8/20206PJC3281C3CC5FD8AN133500110372\n\n\n	105387552012NissanAltima2/22/20228UWT3981N4AL2AP0CN519369129447\n\n\n	110030562011HondaAccord11/12/20218NQJ0971HGCP2F74BA029167106322T\n\n\n	110774572004GMCSierra 150012/31/202397426F32GTEC19T441243708168014\n\n\n	110346582002Mercedes-BenzC-Class7/8/20228JAG847WDBRF61J12F225333247322\n\n\n	105508592004ChevroletAvalanche3/31/202127918C13GNEC12T24G233476273447\n\n\n	112632JB602005VolkswagenPassat6/2/20245NPE597WVWCD63B85E121516146478\n\n\n\n\n\n\n\n\n\n\nTERMS AND CONDITIONS\n\nBuyers fees: Dealers & Dismantlers $35.00\nGeneral Public $65.00\n$200.00 cash deposit required to bid\nAll vehicles must be paid for in full CASH ONLY at the conclusion of the auction\nAll vehicles must be removed by Friday following the auction\nLien sale vehicles sold to the general public are sold as is with all vaults and defects\, you are required to pay all DMV back registration and obtain a smog certificate before receiving your title from the DMV\, sales tax for your purchase will be paid directly to the DMV upon submission of the lien sale packet you will receive at the conclusion of the auction. Out of state buyers\, check with your local DMV to be sure that they will accept California lien sale documents for registration in your state.\nFor more info call direct 760-722-6686
URL:https://jbauctioneers.net/event/oceanside-auto-auction-20231010/
LOCATION:S&R Towing\, 1060 Airport Rd.\, Oceanside\, CA\, 92058\, United States
END:VEVENT
END:VCALENDAR