BEGIN:VCALENDAR
VERSION:2.0
PRODID:-//Joe Bradley Auctioneers - ECPv6.15.20//NONSGML v1.0//EN
CALSCALE:GREGORIAN
METHOD:PUBLISH
X-WR-CALNAME:Joe Bradley Auctioneers
X-ORIGINAL-URL:https://jbauctioneers.net
X-WR-CALDESC:Events for Joe Bradley Auctioneers
REFRESH-INTERVAL;VALUE=DURATION:PT1H
X-Robots-Tag:noindex
X-PUBLISHED-TTL:PT1H
BEGIN:VTIMEZONE
TZID:America/Los_Angeles
BEGIN:DAYLIGHT
TZOFFSETFROM:-0800
TZOFFSETTO:-0700
TZNAME:PDT
DTSTART:20220313T100000
END:DAYLIGHT
BEGIN:STANDARD
TZOFFSETFROM:-0700
TZOFFSETTO:-0800
TZNAME:PST
DTSTART:20221106T090000
END:STANDARD
BEGIN:DAYLIGHT
TZOFFSETFROM:-0800
TZOFFSETTO:-0700
TZNAME:PDT
DTSTART:20230312T100000
END:DAYLIGHT
BEGIN:STANDARD
TZOFFSETFROM:-0700
TZOFFSETTO:-0800
TZNAME:PST
DTSTART:20231105T090000
END:STANDARD
BEGIN:DAYLIGHT
TZOFFSETFROM:-0800
TZOFFSETTO:-0700
TZNAME:PDT
DTSTART:20240310T100000
END:DAYLIGHT
BEGIN:STANDARD
TZOFFSETFROM:-0700
TZOFFSETTO:-0800
TZNAME:PST
DTSTART:20241103T090000
END:STANDARD
END:VTIMEZONE
BEGIN:VEVENT
DTSTART;TZID=America/Los_Angeles:20231018T123500
DTEND;TZID=America/Los_Angeles:20231018T123500
DTSTAMP:20260423T073929
CREATED:20230930T183400Z
LAST-MODIFIED:20231013T163250Z
UID:18817-1697632500-1697632500@jbauctioneers.net
SUMMARY:OTAY MESA - AUTO AUCTION
DESCRIPTION:Presented By: PUBLIC AUTO AUCTIONUp to 70 Lien Sale VehiclesWednesday October 18th  @ 12:35pm(Preview 12:00pm) Auctions held WednesdaysOtay Valley Rd & Heritage Rd\, Chula Vista(Look for signs to our facility from this location\, actual site is up the hill on 738 Heritage Rd.)Phone: 619-694-7809For a map and directions\, click here Here are some photos of vehicles available at this week’s Western Towing Auto Auction.Click on any of the images below to see the larger picture.\n\n\n\n\nno images were found \n\n\n\nTo download a copy of the list in Adobe pdf format\, Click here.\n\n\n\n\n\n\n	NOCONTROLYEAR/MAKE MODELREF#LS/T\n\n\n\n\n	123-274398 TOYOTACOROLLA335452LS\n\n\n	223-235101 HONDACIVIC331160LS\n\n\n	323-265601 VOLKSWAGENCABRIO334309LS\n\n\n	423-256799 FORDESCORT333471LS\n\n\n	523-276005 DODGEMAGNUM335477LS\n\n\n	623-274205 MITSUBISHIGALANT335280LS\n\n\n	723-253905 FORDESCAPE333113LS\n\n\n	823-230905 CHEVROLETMALIBU330583LS\n\n\n	923-276102 FORDEXPLORER335687LS\n\n\n	1023-270707 CHEVROLETCOBALT334743LS\n\n\n	1123-270896 NISSANQUEST334752LS\n\n\n	1221-334112 BMW328i252542LS\n\n\n	1323-272797 PLYMOUTHVOYAGER335818LS\n\n\n	1423-269003 HONDAACCORD334774LS\n\n\n	1523-277705 MAZDARX8335582LS\n\n\n	1623-278102 MAZDATRIBUTE335496LS\n\n\n	1723-272211 BMW328i335069LS\n\n\n	1823-266595 SATURNSL2334452LS\n\n\n	1923-271205 FORDCROWN VIC335018LS\n\n\n	2023-239596 BUICKLESABRE331406LS\n\n\n	2122-344104 PONTIACSUNFIRE297956LS\n\n\n	2223-177000 VOLKSWAGENJETTA324346LS\n\n\n	2323-232306 TOYOTASIENNA330819LS\n\n\n	2423-271109 FORDFOCUS334969LS\n\n\n	2523-252509 SATURNAURA332973LS\n\n\n	2623-255300 HONDAODYSSEY333216LS\n\n\n	2723-236200 HYUNDAIACCENT331151LS\n\n\n	2823-244701 NISSANMAXIMA332525LS\n\n\n	2923-169406 HONDAACCORD323555LS\n\n\n	3023-276207 DODGEDAKOTA335861LS\n\n\n	3123-278507 MAZDA3335864LS\n\n\n	3223-269907 TOYOTACOROLLA334808LS\n\n\n	3323-280107 JEEPPATRIOT334985LS\n\n\n	3423-239909 FORDFOCUS331516LS\n\n\n	3523-279905 FORDFOCUS336082LS\n\n\n	3623-155709 TOYOTACAMRY321820LS\n\n\n	3723-231606 FORDEXPLORER330683LS\n\n\n	3823-278006 BMW330i335607LS\n\n\n	3922-211604 DODGERAM 1500283488LS\n\n\n	4023-274993 HONDAACCORD335344LS\n\n\n	4122-374814 BMWXI301578LS\n\n\n	4223-166006 NISSANMAXIMA323157LS\n\n\n	4323-246895 HONDAACCORD332255LS\n\n\n	4423-269898 BUICKRIVIERA334704LS\n\n\n	4523-284789 TOYOTAPICKUP336439LS\n\n\n	4623-248965 OLDSMOBILE98332581LS\n\n\n	4723-194701 FORDMUSTANG326177LS\n\n\n	4823-266705 BMWX3334514LS\n\n\n	4923-277803 HONDAACCORD335584LS\n\n\n	5023-277501 INFINITII30335487LS\n\n\n\n\n\n\n\nTERMS AND CONDITIONS\n\nCash Only – All Sales are Final\n$200.00 refundable cash deposit to bid\nRefunds are available anytime during auction\nAll cars must be paid for and picked up by 4pm on Thursday ( no exceptions )\nAdditional deposits are required on vehicle’s over $1000.00\nLien sale vehicles sold to the general public are sold as is with all vaults and defects\, you are required to pay all DMV back registration and obtain a smog certificate before receiving your title from the DMV\, sales tax for your purchase will be paid directly to the DMV upon submission of the lien sale packet you will receive at the conclusion of the auction. Out of state buyers\, check with your local DMV to be sure that they will accept California lien sale documents for registration in your state.
URL:https://jbauctioneers.net/event/otay-mesa-auto-auction-20231018/
LOCATION:Western Towing\, 738 Heritage Rd.\, San Diego\, CA\, 92154\, United States
END:VEVENT
END:VCALENDAR