BEGIN:VCALENDAR
VERSION:2.0
PRODID:-//Joe Bradley Auctioneers - ECPv6.15.20//NONSGML v1.0//EN
CALSCALE:GREGORIAN
METHOD:PUBLISH
X-WR-CALNAME:Joe Bradley Auctioneers
X-ORIGINAL-URL:https://jbauctioneers.net
X-WR-CALDESC:Events for Joe Bradley Auctioneers
REFRESH-INTERVAL;VALUE=DURATION:PT1H
X-Robots-Tag:noindex
X-PUBLISHED-TTL:PT1H
BEGIN:VTIMEZONE
TZID:America/Los_Angeles
BEGIN:DAYLIGHT
TZOFFSETFROM:-0800
TZOFFSETTO:-0700
TZNAME:PDT
DTSTART:20220313T100000
END:DAYLIGHT
BEGIN:STANDARD
TZOFFSETFROM:-0700
TZOFFSETTO:-0800
TZNAME:PST
DTSTART:20221106T090000
END:STANDARD
BEGIN:DAYLIGHT
TZOFFSETFROM:-0800
TZOFFSETTO:-0700
TZNAME:PDT
DTSTART:20230312T100000
END:DAYLIGHT
BEGIN:STANDARD
TZOFFSETFROM:-0700
TZOFFSETTO:-0800
TZNAME:PST
DTSTART:20231105T090000
END:STANDARD
BEGIN:DAYLIGHT
TZOFFSETFROM:-0800
TZOFFSETTO:-0700
TZNAME:PDT
DTSTART:20240310T100000
END:DAYLIGHT
BEGIN:STANDARD
TZOFFSETFROM:-0700
TZOFFSETTO:-0800
TZNAME:PST
DTSTART:20241103T090000
END:STANDARD
END:VTIMEZONE
BEGIN:VEVENT
DTSTART;TZID=America/Los_Angeles:20231107T103000
DTEND;TZID=America/Los_Angeles:20231107T143000
DTSTAMP:20260423T055517
CREATED:20230930T183610Z
LAST-MODIFIED:20231104T152026Z
UID:18824-1699353000-1699367400@jbauctioneers.net
SUMMARY:OCEANSIDE - AUTO AUCTION
DESCRIPTION:Presented By:Auctions the 1st and 3rd Tuesdays of each monthPUBLIC AUTO AUCTIONUp to 80 Selected Vehicles\nTuesday November 7th @ 10:30am1060 Airport Rd. (in the Oceanside location towing yard)Oceanside 92058Phone. 760-722-6686For a map and directions\, click here\nHere are some photos of vehicles available at this week’s S&R Towing auction.Vehicles posted are subject to change without notice.Click on any of the images below to see the larger picture.*** RUNNERS ***\n\n\n\n\nno images were found \n\n\n*** NON-RUNNERS ***\n\n\n\nno images were found \n\n\n\nTo download a copy of the list in Adobe pdf format\, Click here.\n\n\n\n\n\n\n\n	Call #LOT #YearMakeModelEXP DATEPlateVINodomT / SAL\n\n\n\n\n	11315712009HondaCR-V6LCZ2385J6RE48749L022073T\n\n\n	11114922004FordEscapeTJT92911FMYU03174KA24037\n\n\n	10943932004ToyotaCorolla5EEK6631NXBR32E24Z227130\n\n\n	11021141999BMW3 Series5WUN845WBAAM5339XFR05191\n\n\n	11132052000MitsMirage5JDR468JA3AY26C2YU057085\n\n\n	11063362004ChevTahoe8JNV9071GNEC13V94R118759\n\n\n	8307171989JeepWranglerNOPLATE2J4FY19E0KJ145208\n\n\n	11114782011KiaRioRJM7851KNADH4A36B6959300\n\n\n	11305892013FordEdge6XTT2062FMDK3JC7DBA95503T\n\n\n	109568102007HondaCivic8KYZ1542HGFG12687H556755\n\n\n	111442112016Chev Cruze7UJA3341G1BC5SM6G7309088\n\n\n	104612122009ChevCobalt8EEN5131G1AP18X097230867\n\n\n	108102131997GMCJimmy8ZLJ5831GKCS13W5V2502032\n\n\n	101449141998LincolnMark VIII4DTS9021LNFM92V5WY726065\n\n\n	111377152002BMW3 SeriesNO PLATESWBABN53432JU38916\n\n\n	108184162002HondaAccord4UJL1731HGCG16522A011355\n\n\n	111242172012ToyotaYaris7JZF869JTDBT4K37CL014558\n\n\n	111820182007SciontCKGC5738JTKDE167X70173136\n\n\n	111417192010ToyotaCorolla8UIK0302T1BU4EE9AC485724\n\n\n	111821202016ToyotaCorolla8JRK6255YFBURHE1GP476372\n\n\n	111467212008HyundaiSONATA7CZJ4765NPET46C28H397389\n\n\n	111409221992ToyotaPickupJT5VN94T9N0028110\n\n\n	111378232002VolvoS40EJN0019YV1VS29572F868145\n\n\n	111375242001BMW3 SeriesNO PLATESWBABS53441JU86156oos\n\n\n	111879252015NissanSentra7PQH8003N1AB7AP0FY358591\n\n\n	109414262009AudiA66YNE333WAUSG94F09N036985\n\n\n	107148272010Chrysler3007PDT8902C3CA4CD3AH164070\n\n\n	111844281992FordMustang4XJP8341FACP41M1NF168452\n\n\n	96532292002FordF-1506Z875401FTRW08L82KD46468\n\n\n	113003302003FordRanger7C734401FTYR14V93PA15290T\n\n\n	111845311997FordF-35075207M21FTJW35F1VEB29859\n\n\n	109791322009BMW5 Series9FVR027WBANU53579C117369\n\n\n	111324332007ToyotaCamryRFY4397JTNBB46K373038667\n\n\n	111942342009HondaCivic8BEU9302HGFG12889H523324T / SAL\n\n\n	109748351997JeepGrand CherokeeNONE1J4FX58S9VC725086\n\n\n	114633JB362001FordExplorer8DOJ6411FMYU60E41UC09978\n\n\n	109277372002BMW3 Series4WXX763WBAEV53462KM19493\n\n\n	110735381999DodgeRam Chassis 25005X365703B6KF26WXXM513993\n\n\n	111169392003FordExplorer5CQV7191FMZU63KX3UC18788\n\n\n	111461402009Smartfortwo6HXE525WMEEJ31X59K214615\n\n\n	97763AFleetwoodSunValleyNO VIN\n\n\n	109199412011JaguarXF4/22/20238WLF458SAJWA0HE4BMR9746158126\n\n\n	111513422015KiaForte12/6/20218DVR906KNAFK4A69F5333336107018\n\n\n	108691431999FordRanger5/31/20238V340091FTYR14V4XPA85981130553\n\n\n	109747442006NissanAltima12/28/20225PUC2751N4AL11D86C142600139905\n\n\n	106257452006FordF-1503/31/20228S794051FTPW12566KC30263200095\n\n\n	111379462014Chev Cruze1/2/2022CE19S141G1PA5SG5E723266778483\n\n\n	108099472002FordFocus7/31/202319B2693FAFP31362R23108776024\n\n\n	110805482003NissanMaximaOOSLRD648JN1DA31A43T441529176446\n\n\n	113104492002MerzC-Class5/2/20236HZZ695WDBRF61J22F259734201858T\n\n\n	109501502005DodgeGrand Caravan3/12/20227JNX1442D4GP24R15R281126123424\n\n\n	111581512011KiaOptima12/10/20218TUJ914KNAGM4AD5B500548392709\n\n\n	109935522013ScionIQ7/20/20228KIT996JTNJJXB06DJ024600130701T\n\n\n	110573532000AcuraIntegra7/26/20218RYZ973JH4DC4358YS002309143983\n\n\n	111631542003InfinitiG356/10/20244YLY973JNKCV51E93M008258119760\n\n\n	110125552001FordExplorer4/10/20224LLH9671FMYU60E01UA2279996329\n\n\n\n\n\n\n\n\n\n\nTERMS AND CONDITIONS\n\nBuyers fees: Dealers & Dismantlers $35.00\nGeneral Public $65.00\n$200.00 cash deposit required to bid\nAll vehicles must be paid for in full CASH ONLY at the conclusion of the auction\nAll vehicles must be removed by Friday following the auction\nLien sale vehicles sold to the general public are sold as is with all vaults and defects\, you are required to pay all DMV back registration and obtain a smog certificate before receiving your title from the DMV\, sales tax for your purchase will be paid directly to the DMV upon submission of the lien sale packet you will receive at the conclusion of the auction. Out of state buyers\, check with your local DMV to be sure that they will accept California lien sale documents for registration in your state.\nFor more info call direct 760-722-6686
URL:https://jbauctioneers.net/event/oceanside-auto-auction-20231107/
LOCATION:S&R Towing\, 1060 Airport Rd.\, Oceanside\, CA\, 92058\, United States
END:VEVENT
END:VCALENDAR