BEGIN:VCALENDAR
VERSION:2.0
PRODID:-//Joe Bradley Auctioneers - ECPv6.15.20//NONSGML v1.0//EN
CALSCALE:GREGORIAN
METHOD:PUBLISH
X-WR-CALNAME:Joe Bradley Auctioneers
X-ORIGINAL-URL:https://jbauctioneers.net
X-WR-CALDESC:Events for Joe Bradley Auctioneers
REFRESH-INTERVAL;VALUE=DURATION:PT1H
X-Robots-Tag:noindex
X-PUBLISHED-TTL:PT1H
BEGIN:VTIMEZONE
TZID:America/Los_Angeles
BEGIN:DAYLIGHT
TZOFFSETFROM:-0800
TZOFFSETTO:-0700
TZNAME:PDT
DTSTART:20220313T100000
END:DAYLIGHT
BEGIN:STANDARD
TZOFFSETFROM:-0700
TZOFFSETTO:-0800
TZNAME:PST
DTSTART:20221106T090000
END:STANDARD
BEGIN:DAYLIGHT
TZOFFSETFROM:-0800
TZOFFSETTO:-0700
TZNAME:PDT
DTSTART:20230312T100000
END:DAYLIGHT
BEGIN:STANDARD
TZOFFSETFROM:-0700
TZOFFSETTO:-0800
TZNAME:PST
DTSTART:20231105T090000
END:STANDARD
BEGIN:DAYLIGHT
TZOFFSETFROM:-0800
TZOFFSETTO:-0700
TZNAME:PDT
DTSTART:20240310T100000
END:DAYLIGHT
BEGIN:STANDARD
TZOFFSETFROM:-0700
TZOFFSETTO:-0800
TZNAME:PST
DTSTART:20241103T090000
END:STANDARD
END:VTIMEZONE
BEGIN:VEVENT
DTSTART;TZID=America/Los_Angeles:20231108T123500
DTEND;TZID=America/Los_Angeles:20231108T123500
DTSTAMP:20260423T055517
CREATED:20230930T183501Z
LAST-MODIFIED:20231103T221656Z
UID:18819-1699446900-1699446900@jbauctioneers.net
SUMMARY:OTAY MESA - AUTO AUCTION
DESCRIPTION:Presented By: PUBLIC AUTO AUCTIONUp to 70 Lien Sale VehiclesWednesday November 8th  @ 12:35pm(Preview 12:00pm) Auctions held WednesdaysOtay Valley Rd & Heritage Rd\, Chula Vista(Look for signs to our facility from this location\, actual site is up the hill on 738 Heritage Rd.)Phone: 619-694-7809For a map and directions\, click here Here are some photos of vehicles available at this week’s Western Towing Auto Auction.Click on any of the images below to see the larger picture.\n\n\n\n\nno images were found \n\n\n\nTo download a copy of the list in Adobe pdf format\, Click here.\n\n\n\n\n\n\n	NOCONTROLYEAR/MAKE MODELREF#LS/T\n\n\n\n\n	123-288505 KIASPECTRA336788LS\n\n\n	223-204709 VOLVOS40327847LS\n\n\n	323-297311 CHEVROLETHHR337824LS\n\n\n	423-264807 TOYOTAPRIUS334331LS\n\n\n	523-285386 MAZDAB-SERIES336621LS\n\n\n	623-256913 VOLKSWAGENPASSAT333464LS\n\n\n	723-241812 KIASORENTO331947LS\n\n\n	823-240783 CHEVROLETEL CAMINO331932LS\n\n\n	923-211205 FORDEXPEDITION328493LS\n\n\n	1023-300999 FORDESCORT ZX2338401LS\n\n\n	1123-302298 FORDCONTOUR338388LS\n\n\n	1223-272902 CHEVROLETMALIBU335210LS\n\n\n	1320-298915 HYUNDAIACCENT210049LS\n\n\n	1422-162216 SMARTCARFOUR TWO277753LS\n\n\n	1523-281903 HYUNDAIELANTRA336242LS\n\n\n	1623-295403 ACURAMDX337720LS\n\n\n	1723-285110 BMW328i336561LS\n\n\n	1823-304810 CHEVROLETCOBALT338605LS\n\n\n	1923-262500 MERCEDESE320334055LS\n\n\n	2023-291101 HONDAACCORD337043LS\n\n\n	2123-284010 VOLVOXC90336547LS\n\n\n	2223-298602 HONDAACCORD338016LS\n\n\n	2323-283306 LEXUSGS336529LS\n\n\n	2423-251809 TOYOTACAMRY332959LS\n\n\n	2523-298705 HONDACIVIC337977LS\n\n\n	2623-292803 FORDESCAPE337391LS\n\n\n	2723-296615 KIAOPTIMA337732LS\n\n\n	2823-249509 MERCURYMARINER332634LS\n\n\n	2923-285810 TOYOTACOROLLA336536LS\n\n\n	3023-300301 JEEPCHEROKEE338390LS\n\n\n	3123-261993 HONDACIVIC334041LS\n\n\n	3223-290192 MAZDAB-SERIES337019LS\n\n\n	3323-305200 JEEPCHEROKEE338525LS\n\n\n	3423-306601 AUDITT338727LS\n\n\n	3523-305497 LEXUSES338661LS\n\n\n	3623-293008 HYUNDAIELANTRA337299LS\n\n\n	3723-307410 CHEVROLETMALIBU338906LS\n\n\n	3823-307103 ACURACL338794LS\n\n\n	3923-307202 NISSANSENTRA338736LS\n\n\n	4023-286000 HONDAACCORD336611LS\n\n\n	4123-285902 JEEPGRD CHEROKEE336545LS\n\n\n	4223-274107 HONDACIVIC335328LS\n\n\n	4323-296804 LINCOLNAVIATOR337827LS\n\n\n	4423-304590 CHEVROLET1500338601LS\n\n\n	4523-287407 HONDACIVIC336686LS\n\n\n	4623-304911 NISSANJUKE338547LS\n\n\n	4722-272211 BMW328i335069LS\n\n\n	4823-230703 GMCSAVANA330746LS\n\n\n	4922-327198 CHEVROLETG3500295895LS\n\n\n	5022-151899 ISUZUNPR276563LS\n\n\n\n\n\n\n\nTERMS AND CONDITIONS\n\nCash Only – All Sales are Final\n$200.00 refundable cash deposit to bid\nRefunds are available anytime during auction\nAll cars must be paid for and picked up by 4pm on Thursday ( no exceptions )\nAdditional deposits are required on vehicle’s over $1000.00\nLien sale vehicles sold to the general public are sold as is with all vaults and defects\, you are required to pay all DMV back registration and obtain a smog certificate before receiving your title from the DMV\, sales tax for your purchase will be paid directly to the DMV upon submission of the lien sale packet you will receive at the conclusion of the auction. Out of state buyers\, check with your local DMV to be sure that they will accept California lien sale documents for registration in your state.
URL:https://jbauctioneers.net/event/otay-mesa-auto-auction-20231108/
LOCATION:Western Towing\, 738 Heritage Rd.\, San Diego\, CA\, 92154\, United States
END:VEVENT
END:VCALENDAR