BEGIN:VCALENDAR
VERSION:2.0
PRODID:-//Joe Bradley Auctioneers - ECPv6.15.20//NONSGML v1.0//EN
CALSCALE:GREGORIAN
METHOD:PUBLISH
X-WR-CALNAME:Joe Bradley Auctioneers
X-ORIGINAL-URL:https://jbauctioneers.net
X-WR-CALDESC:Events for Joe Bradley Auctioneers
REFRESH-INTERVAL;VALUE=DURATION:PT1H
X-Robots-Tag:noindex
X-PUBLISHED-TTL:PT1H
BEGIN:VTIMEZONE
TZID:America/Los_Angeles
BEGIN:DAYLIGHT
TZOFFSETFROM:-0800
TZOFFSETTO:-0700
TZNAME:PDT
DTSTART:20220313T100000
END:DAYLIGHT
BEGIN:STANDARD
TZOFFSETFROM:-0700
TZOFFSETTO:-0800
TZNAME:PST
DTSTART:20221106T090000
END:STANDARD
BEGIN:DAYLIGHT
TZOFFSETFROM:-0800
TZOFFSETTO:-0700
TZNAME:PDT
DTSTART:20230312T100000
END:DAYLIGHT
BEGIN:STANDARD
TZOFFSETFROM:-0700
TZOFFSETTO:-0800
TZNAME:PST
DTSTART:20231105T090000
END:STANDARD
BEGIN:DAYLIGHT
TZOFFSETFROM:-0800
TZOFFSETTO:-0700
TZNAME:PDT
DTSTART:20240310T100000
END:DAYLIGHT
BEGIN:STANDARD
TZOFFSETFROM:-0700
TZOFFSETTO:-0800
TZNAME:PST
DTSTART:20241103T090000
END:STANDARD
END:VTIMEZONE
BEGIN:VEVENT
DTSTART;TZID=America/Los_Angeles:20231121T103000
DTEND;TZID=America/Los_Angeles:20231121T143000
DTSTAMP:20260423T055428
CREATED:20231104T151733Z
LAST-MODIFIED:20231118T155150Z
UID:19046-1700562600-1700577000@jbauctioneers.net
SUMMARY:OCEANSIDE - AUTO AUCTION
DESCRIPTION:Presented By:Auctions the 1st and 3rd Tuesdays of each monthPUBLIC AUTO AUCTIONUp to 80 Selected Vehicles\nTuesday November 21st @ 10:30am1060 Airport Rd. (in the Oceanside location towing yard)Oceanside 92058Phone. 760-722-6686For a map and directions\, click here\nHere are some photos of vehicles available at this week’s S&R Towing auction.Vehicles posted are subject to change without notice.Click on any of the images below to see the larger picture.*** RUNNERS ***\n\n\n\n\nno images were found \n\n\n*** NON-RUNNERS ***\n\n\n\nno images were found \n\n\n*** MOTORCYCLES & EXTRAS ***\n\n\n\nno images were found \n\n\n\nTo download a copy of the list in Adobe pdf format\, Click here.\n\n\n\n\n\n\n\n	Call #Lot #YearMakeModelPlateVINOdometerT / SAL\n\n\n\n\n	10957512008ToyotaPrius6BJN577JTDKB20U783301523\n\n\n	11280922006HondaCR-V5ULT929JHLRD68546C015898T\n\n\n	10563732000ChevC/K 3500 Series8E348531GCHK33R1YF496380\n\n\n	10194542002FordF-250 Super DutyNONE1FTNX21S32ED38916\n\n\n	8902952003ToyotaCorolla4XPM9011NXBR32E53Z074208T\n\n\n	9385362003Merz M-Class5AKL5684JGAB54E33A398512\n\n\n	10932472016NissanAltima8DFL6091N4AL3AP2GN392068\n\n\n	11253281996ChevC/K 15005G991002GCEK19R3T1162477\n\n\n	10999092002ChevSilverado 15006V689182GCEC19V921202943\n\n\n	106396102011HondaCivic6RMM4652HGFA1F57BH530594\n\n\n	100743112005HondaCivic7XBS9651HGEM22985L065901\n\n\n	112439122003AcuraRSXAMA2DPAJH4DC53093C006897SAL\n\n\n	114029132002MazdaTribute6MWZ9114F2CU08102KM55758T\n\n\n	110867142012NissanSentraN/P3N1AB6AP1CL636269\n\n\n	111697152001HondaCivic4SFU0011HGES26741L041958\n\n\n	111236162002VolksBugAZT910A3VWED21C22M445695\n\n\n	112295172010ToyotaCorolla6JKG3791NXBU4EE3AZ170531\n\n\n	110496182013GMCTerrain8MZU9972GKALMEK3D6353489\n\n\n	106255192009MINICooper Clubman8RLK057WMWMM33589TP91613\n\n\n	109668202014GMCAcadia7CKW1921GKKRPKD2EJ149555\n\n\n	109880211997HondaCivic4XPT9851HGEJ8245VL107571SAL\n\n\n	107085222007HondaAccord7ZHY7601HGCM66517A048779SAL\n\n\n	111409H231992ToyotaMotorhomeNO PLATEJT5VN94T9N0028110\n\n\n	113413242006NissanAltima5SJH1141N4AL11D56N325005\n\n\n	110029252004KiaSorento5FIE290KNDJD733345195222\n\n\n	110058262011JaguarXF8VUJ964SAJWA0GB7BLR85091\n\n\n	113728271993NissanNX3HKJ166JN1EB36C9PU201906T\n\n\n	112307282001ToyotaECHO4TYN360JTDAT123710185982\n\n\n	112385291998JeepCherokee7ECJ6031J4FJ68S7WL224481\n\n\n	113174301992FordF-25063618P11FTHF25M1NNA60422\n\n\n	111749311999JeepCherokee7JNL6321J4FF28S7XL641630\n\n\n	115091321988Volvo2408TER830YV1AX8858J1783461T\n\n\n	115129332012Chev Impala8GOG3702G1WF5E31C1242211T\n\n\n	96754341999BMWM38GEA043WBSBG933XXEY83528\n\n\n	112275352006HyundaiTiburon7YAH555KMHHN65F06U220935SAL\n\n\n	113155362006Chev Monte Carlo5ZVT9922G1WK151169217916\n\n\n	108221372004JaguarXJSAJWA71C44SG24438\n\n\n	112790381984ChevCamaro8VYN1591G1AP87G8EL144394\n\n\n	114795392001NissanXterra4SGP9935N1ED28T41C556649\n\n\n	111239402005NissanAltima8YGG1501N4BL11D95C103971\n\n\n	111247412008ChevHHR7CNA1503GCDA05P48S586209\n\n\n	115661AYamahaJH2SC0105CM106866\n\n\n	109188B2012Harley Dyna Glide Street Bob20V66791HD1GX430CC304881\n\n\n	CMagne\n\n\n	113181D2016YamahaYZF R1SJYARN42Y6GA000510\n\n\n	103263E2008HondaInterceptor ABSNOPLATEJH2RC46E78M000176T\n\n\n	111897F2009YamahaFZ 622F2289JYARJ13E29A006743\n\n\n	107103G2022KawaNinja 650 Base / KRT 25V4142ML5EXEN13NDA74106\n\n\n	112226H2012Kawa Ninja 650NO PLATEJKAEXEE12CDA03072\n\n\n	111898I2013KawaNinja 30021J1248JKAEX8A18DDA10066\n\n\n	112782J2015YamahaFZ 0722H8739JYARM06Y2FA001044\n\n\n	111741K2007Harley Dyna Glide Street Bob51J64851HD1GX4387K312707SAL\n\n\n	89224L2014Yamahamotorcycle24K2402JYAVN08Y7HA000211\n\n\n	111146422014DodgeCharger2/8/2024BMH95652C3CDXCT2EH161358160011\n\n\n	109130432008DodgeCharger6/2/20228WHH8152B3KA43R78H205167138718\n\n\n	112829442002BMW5 Series2/14/20238YKE220WBADT43452GY96687202101\n\n\n	111806452014FordFiesta7/8/20244437WD3FADP4EJ1EM121572236261\n\n\n	112509462006AcuraTSX7/16/20225VNU885JH4CL96816C023301258579\n\n\n	111325472012JeepLibertyOOSUNR28761C4PJMAK0CW118408146984\n\n\n	110429482013HyundaiELANTRA8/2/20236WXG276KMHDH4AEXDU568620275003\n\n\n	111139492003NissanXterra2/8/20216LHB5885N1ED28Y43C628593192961\n\n\n	113126502011FordEDGE9/8/20246SSX0402FMDK3KC3BBB61749193448\n\n\n	113141512002ToyotaCamry4/2/20217SAR4074T1BE32K22U568381277843T/ SAL\n\n\n	111893522012FordFocus2/20/20206UZG7641FAHP3K24CL314435131085\n\n\n	113526532007HondaAccord2/16/20249EGF6881HGCM56737A096070141090SAL\n\n\n	110990542003FordFocus2/16/20227ECN0001FAFP38343W151162151316T\n\n\n	112907552002HyundaiXG3506/20/20236LZR029KMHFU45E62A217362142158\n\n\n	110873562004FordF-1505/31/202291211P21FTRW12W84KC71654237867\n\n\n	110968571981ChevChevy Van5/12/20221CBP9632GBGG31M1B413744193658\n\n\n	112095582010Hino3385/31/20198Y561785PVNV8JV9A4S51562386958\n\n\n\n\n\n\n\n\n\n\nTERMS AND CONDITIONS\n\nBuyers fees: Dealers & Dismantlers $35.00\nGeneral Public $65.00\n$200.00 cash deposit required to bid\nAll vehicles must be paid for in full CASH ONLY at the conclusion of the auction\nAll vehicles must be removed by Friday following the auction\nLien sale vehicles sold to the general public are sold as is with all vaults and defects\, you are required to pay all DMV back registration and obtain a smog certificate before receiving your title from the DMV\, sales tax for your purchase will be paid directly to the DMV upon submission of the lien sale packet you will receive at the conclusion of the auction. Out of state buyers\, check with your local DMV to be sure that they will accept California lien sale documents for registration in your state.\nFor more info call direct 760-722-6686
URL:https://jbauctioneers.net/event/oceanside-auto-auction-20231121/
LOCATION:S&R Towing\, 1060 Airport Rd.\, Oceanside\, CA\, 92058\, United States
END:VEVENT
END:VCALENDAR