BEGIN:VCALENDAR
VERSION:2.0
PRODID:-//Joe Bradley Auctioneers - ECPv6.15.20//NONSGML v1.0//EN
CALSCALE:GREGORIAN
METHOD:PUBLISH
X-WR-CALNAME:Joe Bradley Auctioneers
X-ORIGINAL-URL:https://jbauctioneers.net
X-WR-CALDESC:Events for Joe Bradley Auctioneers
REFRESH-INTERVAL;VALUE=DURATION:PT1H
X-Robots-Tag:noindex
X-PUBLISHED-TTL:PT1H
BEGIN:VTIMEZONE
TZID:America/Los_Angeles
BEGIN:DAYLIGHT
TZOFFSETFROM:-0800
TZOFFSETTO:-0700
TZNAME:PDT
DTSTART:20220313T100000
END:DAYLIGHT
BEGIN:STANDARD
TZOFFSETFROM:-0700
TZOFFSETTO:-0800
TZNAME:PST
DTSTART:20221106T090000
END:STANDARD
BEGIN:DAYLIGHT
TZOFFSETFROM:-0800
TZOFFSETTO:-0700
TZNAME:PDT
DTSTART:20230312T100000
END:DAYLIGHT
BEGIN:STANDARD
TZOFFSETFROM:-0700
TZOFFSETTO:-0800
TZNAME:PST
DTSTART:20231105T090000
END:STANDARD
BEGIN:DAYLIGHT
TZOFFSETFROM:-0800
TZOFFSETTO:-0700
TZNAME:PDT
DTSTART:20240310T100000
END:DAYLIGHT
BEGIN:STANDARD
TZOFFSETFROM:-0700
TZOFFSETTO:-0800
TZNAME:PST
DTSTART:20241103T090000
END:STANDARD
END:VTIMEZONE
BEGIN:VEVENT
DTSTART;TZID=America/Los_Angeles:20231205T103000
DTEND;TZID=America/Los_Angeles:20231205T143000
DTSTAMP:20260423T042616
CREATED:20231104T151822Z
LAST-MODIFIED:20231215T163555Z
UID:19255-1701772200-1701786600@jbauctioneers.net
SUMMARY:OCEANSIDE - AUTO AUCTION
DESCRIPTION:Presented By:Auctions the 1st and 3rd Tuesdays of each monthPUBLIC AUTO AUCTIONUp to 80 Selected Vehicles\nTuesday December 5th @ 10:30am1060 Airport Rd. (in the Oceanside location towing yard)Oceanside 92058Phone. 760-722-6686For a map and directions\, click here\nHere are some photos of vehicles available at this week’s S&R Towing auction.Vehicles posted are subject to change without notice.Click on any of the images below to see the larger picture.*** RUNNERS ***\n\n\n\n\nno images were found \n\n\n*** NON-RUNNERS ***\n\n\n\nno images were found \n\n\n*** EXTRAS ***\n\n\n\nno images were found \n\n\n\nTo download a copy of the list in Adobe pdf format\, Click here.\n\n\n\n\n\n\n\n	CALL #Lot #YearMakeModelEXP DATEOdometerPlateVINTITLE/SAL\n\n\n\n\n	11184912015JeepCompass9AUK2331C4NJCEB6FD263108\n\n\n	11083922002FordMustang6SHD1671FAFP40402F221829SAL\n\n\n	11264832008FordRanger8M331581FTYR14U98PA29429\n\n\n	10192742002HondaAccord8NAN7211HGCG16592A066031\n\n\n	11292551999LexusGS 300NOPLATEJT8BD68S1X0055507\n\n\n	11570562006NissanAltima5TLZ1741N4AL11D96N363837TITLE\n\n\n	11227372012ToyotaCamry8XFL5024T1BK1FK4CU515917SAL\n\n\n	10987682004DodgeRam Pickup 150065560P11D7HA18K74J102736\n\n\n	11534292013NissanAltima7PQH6911N4AL3AP7DN507498TITLE\n\n\n	112407102016MazdaMazda37TKW031JM1BM1U70G1351120\n\n\n	114607112007ToyotaCorolla8VCU3311NXBR32E47Z873404TITLE\n\n\n	115319122007ToyotaCorolla9CCH3481NXBR32E07Z913073TITLE\n\n\n	111571132011HyundaiGenesis6RVX124KMHGC4DE8BU143286\n\n\n	113685141995HondaCivic7WIR9402HGEJ1224SH547019\n\n\n	112231152006FordFive Hundred8LEM8951FAFP24106G171874\n\n\n	111800161997MerzE-Class3VAY422WDBJF55F1VA356924\n\n\n	113383172003MerzCLKLKJ82WDBTJ65J63F019330SAL\n\n\n	115741182016MiniCooper9ACG039WMWXM9C55GT997694TITLE\n\n\n	112953192008ToyotaPrius6DLR781JTDKB20U983352229\n\n\n	113716201994FordRanger8B106501FTCR10A6RPA09257\n\n\n	113505212005ToyotaCorolla5PFX7681NXBR32E35Z545887\n\n\n	113568222011BMW3 Series6SIM104WBAPH5G54BNM80732\n\n\n	112237232017ToyotaCamry9CTC1084T1BF1FK2HU394851\n\n\n	113680242008ScionxBBEP248JTLKE50E981045516\n\n\n	113703252002FordExplorer Sport5BBS1541FMYU60E42UC98260\n\n\n	113172262006ChevroletSilverado 150013379W22GCEC13TX61195501\n\n\n	113682271997Chevrolet1500MBF 2452GCEK19K7V1133583\n\n\n	110496282013GMCTerrain8MZU9972GKALMEK3D6353489\n\n\n	114186292009HyundaiACCENT6HJF974KMHCM36C29U123689\n\n\n	113188302000VolvoC709DRT326YV1NC56D1YJ009276\n\n\n	113658312007PontiacG65VJK1901G2ZG58N674132347\n\n\n	111604322007VolkswagenJetta8LHX8573VWEG71K07M124154\n\n\n	113746332006VolvoS609EGU950YV1RS592462542969\n\n\n	114250342001LexusES 3004RVA206JT8BF28G010312033\n\n\n	100467352002FordExplorer6LHT243 1FMZU62E12UB34241SAL\n\n\n	114146361999MitsubishiMontero6YKJ497JA4MR51R3XJ001935\n\n\n	111376372008VolkswagenPassat6DRE711WVWAK73C98P084674\n\n\n	105384382001DodgeRam Pickup 15008M214241B7HF16Z71S798130\n\n\n	82081392000GMCSierra 2500NOPLATE1GTGK24UXYE291090\n\n\n	105922402004GMCEnvoy8CDS4741GKDT13SX42135965SAL\n\n\n	112067412010ChryslerSebring7BQK9571C3BC5ED7AN181986\n\n\n	112533A1975MallardCamper1HM848216210462\n\n\n	112271B1987FLEETWOODTERRY1AK13961EA1G262XH1141977\n\n\n	113048422009ToyotaYaris10/2/20232090457ABC457JTDBT903594043303\n\n\n	110018432011FordExplorer7/8/20222377456RLF7371FMHK8F88BGA46982\n\n\n	112169441998ToyotaCamry9/2/20243168024MLL8694T1BG22KXWU331583\n\n\n	115579452001MercuryGrand Marquis11/2/20221303924UVK7412MEFM74W21X619125TITLE\n\n\n	113117462004NissanTitan2/28/20241642357J976531N6AA07B94N512628\n\n\n	88441472015KiaOptima5/16/202277724AL73J52 5XXGM4A70FG488248\n\n\n	112861481991ChevroletS-102/28/20222558314F77704 1GCDT14Z3M8149100\n\n\n	112232492004ToyotaCamry4/10/20242803678SLV8004T1BE32K74U310456\n\n\n	113657502001ToyotaTundra4/30/202421884007391U15TBRN34141S137799\n\n\n	113284511999FordF-15010/31/20232070317A094432FTRX17W9XCB17548\n\n\n	110429522013HyundaiELANTRA8/2/20232750036WXG276KMHDH4AEXDU568620\n\n\n	106403531999ChevroletS-107/31/202219344055435W11GCCS19X7X8188699\n\n\n	110158542002GMCSierra 15001/31/2024123458X943022GTEC19T521216238SAL\n\n\n	109511552002ChevroletTahoe4/18/20222546668MBK4731GNEC13Z82R254803SAL\n\n\n	112433561993ChevroletC/K 2500 Series9/30/202313912291015J31GCFK24KXPZ226693\n\n\n	107620572000FordF-550 Super Duty4/30/20091074736G398331FDAW56F5YEB08636\n\n\n	116550581999DodgeDakota5/31/20242031196A380741B7GL22X2XS249006\n\n\n\n\n\n\n\n\n\n\nTERMS AND CONDITIONS\n\nBuyers fees: Dealers & Dismantlers $35.00\nGeneral Public $65.00\n$200.00 cash deposit required to bid\nAll vehicles must be paid for in full CASH ONLY at the conclusion of the auction\nAll vehicles must be removed by Friday following the auction\nLien sale vehicles sold to the general public are sold as is with all vaults and defects\, you are required to pay all DMV back registration and obtain a smog certificate before receiving your title from the DMV\, sales tax for your purchase will be paid directly to the DMV upon submission of the lien sale packet you will receive at the conclusion of the auction. Out of state buyers\, check with your local DMV to be sure that they will accept California lien sale documents for registration in your state.\nFor more info call direct 760-722-6686
URL:https://jbauctioneers.net/event/oceanside-auto-auction-20231205/
LOCATION:S&R Towing\, 1060 Airport Rd.\, Oceanside\, CA\, 92058\, United States
END:VEVENT
END:VCALENDAR