BEGIN:VCALENDAR
VERSION:2.0
PRODID:-//Joe Bradley Auctioneers - ECPv6.15.20//NONSGML v1.0//EN
CALSCALE:GREGORIAN
METHOD:PUBLISH
X-ORIGINAL-URL:https://jbauctioneers.net
X-WR-CALDESC:Events for Joe Bradley Auctioneers
REFRESH-INTERVAL;VALUE=DURATION:PT1H
X-Robots-Tag:noindex
X-PUBLISHED-TTL:PT1H
BEGIN:VTIMEZONE
TZID:America/Los_Angeles
BEGIN:DAYLIGHT
TZOFFSETFROM:-0800
TZOFFSETTO:-0700
TZNAME:PDT
DTSTART:20220313T100000
END:DAYLIGHT
BEGIN:STANDARD
TZOFFSETFROM:-0700
TZOFFSETTO:-0800
TZNAME:PST
DTSTART:20221106T090000
END:STANDARD
BEGIN:DAYLIGHT
TZOFFSETFROM:-0800
TZOFFSETTO:-0700
TZNAME:PDT
DTSTART:20230312T100000
END:DAYLIGHT
BEGIN:STANDARD
TZOFFSETFROM:-0700
TZOFFSETTO:-0800
TZNAME:PST
DTSTART:20231105T090000
END:STANDARD
BEGIN:DAYLIGHT
TZOFFSETFROM:-0800
TZOFFSETTO:-0700
TZNAME:PDT
DTSTART:20240310T100000
END:DAYLIGHT
BEGIN:STANDARD
TZOFFSETFROM:-0700
TZOFFSETTO:-0800
TZNAME:PST
DTSTART:20241103T090000
END:STANDARD
END:VTIMEZONE
BEGIN:VEVENT
DTSTART;TZID=America/Los_Angeles:20231213T123500
DTEND;TZID=America/Los_Angeles:20231213T123500
DTSTAMP:20260423T042623
CREATED:20231201T163504Z
LAST-MODIFIED:20231206T194833Z
UID:19575-1702470900-1702470900@jbauctioneers.net
SUMMARY:OTAY MESA - AUTO AUCTION
DESCRIPTION:Presented By: PUBLIC AUTO AUCTIONUp to 70 Lien Sale VehiclesWednesday December 13th  @ 12:35pm(Preview 12:00pm) Auctions held WednesdaysOtay Valley Rd & Heritage Rd\, Chula Vista(Look for signs to our facility from this location\, actual site is up the hill on 738 Heritage Rd.)Phone: 619-694-7809For a map and directions\, click here Here are some photos of vehicles available at this week’s Western Towing Auto Auction.Click on any of the images below to see the larger picture.\n\n\n\n\nno images were found \n\n\n\nTo download a copy of the list in Adobe pdf format\, Click here.\n\n\n\n\n\n\n	#CONTROLYEAR/MAKE MODELREF NOLS/TREGKEYSALVAGEOUT OF STATE\n\n\n\n\n	123-222894 KAWASAKIZX900329654LSO/SY?O/S(?)CA3/15\n\n\n	222-022311 KAWASAKI250R261671LS07/14YSALVAGENO\n\n\n	322-315209 KAWASAKIEX250294890LS06/21YNONO\n\n\n	423-154419 YAMAHAYZF-R3321625LSO/SYNOO/S(?)CA2/20\n\n\n	519-419616 KAWASAKIEX300176404TITLE07/19YNONO\n\n\n	623-067510 TRIUMPHBONNEVILLE310920LS05/22YNONO\n\n\n	723-096996 KAWASAKIZX600314620LS08/11YSALVAGENO\n\n\n	823-016986 KAWASAKIVN750304381LSO/SY?O/S(?)CA11/15\n\n\n	923-067602 HONDAVT750310953LS11/22YNONO\n\n\n	1020-303415 YAMAHAFZ07C211372LS03/18YNONO\n\n\n	1122-357718 HARLEYXG750299204LSO/SY?O/S(VA)\n\n\n	1223-223200 TRIUMPHSPRINT329760LS05/08YNONO\n\n\n	1323-129604 HONDAVT1100318831LS07/19YNONO\n\n\n	1422-151909 KAWASAKIKLX250276706LS02/19YNONO\n\n\n	1523-170207 KAWASAKIZX600323531LS07/23YNONO\n\n\n	1622-033814 HARLEYFXFD263027TITLE05/24YNONO\n\n\n	1723-138316 KAWASAKININJA300319496LS07/23YSALVAGENO\n\n\n	1823-158602 HONDAVT750322062LS04/21YNONO\n\n\n	1923-170306 YAMAHAYZF600323521LSO/SN?O/S(?)CA11/20\n\n\n	2023-100304 SUZUKIGSXR1000314804LS09/18YSALVAGENO\n\n\n	2123-239097 SUZUKIVS800331676LS01/22YNONO\n\n\n	2223-129701 HONDACBR600318834LS04/24YNONO\n\n\n	2322-000615 SUZUKIGSXR1000259637LS03/21YNONO\n\n\n	2421-270916 HARLEYXL883N246264LS11/17YNONO\n\n\n	2522-064815 YAMAHAFZ07C266398LS10/15YNONO\n\n\n	2623-187207 KAWASAKIEX500325531LS01/23NSALVAGENO\n\n\n\n\n\n\n\nTERMS AND CONDITIONS\n\nCash Only – All Sales are Final\n$200.00 refundable cash deposit to bid\nRefunds are available anytime during auction\nAll cars must be paid for and picked up by 4pm on Thursday ( no exceptions )\nAdditional deposits are required on vehicle’s over $1000.00\nLien sale vehicles sold to the general public are sold as is with all vaults and defects\, you are required to pay all DMV back registration and obtain a smog certificate before receiving your title from the DMV\, sales tax for your purchase will be paid directly to the DMV upon submission of the lien sale packet you will receive at the conclusion of the auction. Out of state buyers\, check with your local DMV to be sure that they will accept California lien sale documents for registration in your state.
URL:https://jbauctioneers.net/event/otay-mesa-auto-auction-20231213/
LOCATION:Western Towing\, 738 Heritage Rd.\, San Diego\, CA\, 92154\, United States
END:VEVENT
END:VCALENDAR