BEGIN:VCALENDAR
VERSION:2.0
PRODID:-//Joe Bradley Auctioneers - ECPv6.15.20//NONSGML v1.0//EN
CALSCALE:GREGORIAN
METHOD:PUBLISH
X-WR-CALNAME:Joe Bradley Auctioneers
X-ORIGINAL-URL:https://jbauctioneers.net
X-WR-CALDESC:Events for Joe Bradley Auctioneers
REFRESH-INTERVAL;VALUE=DURATION:PT1H
X-Robots-Tag:noindex
X-PUBLISHED-TTL:PT1H
BEGIN:VTIMEZONE
TZID:America/Los_Angeles
BEGIN:DAYLIGHT
TZOFFSETFROM:-0800
TZOFFSETTO:-0700
TZNAME:PDT
DTSTART:20220313T100000
END:DAYLIGHT
BEGIN:STANDARD
TZOFFSETFROM:-0700
TZOFFSETTO:-0800
TZNAME:PST
DTSTART:20221106T090000
END:STANDARD
BEGIN:DAYLIGHT
TZOFFSETFROM:-0800
TZOFFSETTO:-0700
TZNAME:PDT
DTSTART:20230312T100000
END:DAYLIGHT
BEGIN:STANDARD
TZOFFSETFROM:-0700
TZOFFSETTO:-0800
TZNAME:PST
DTSTART:20231105T090000
END:STANDARD
BEGIN:DAYLIGHT
TZOFFSETFROM:-0800
TZOFFSETTO:-0700
TZNAME:PDT
DTSTART:20240310T100000
END:DAYLIGHT
BEGIN:STANDARD
TZOFFSETFROM:-0700
TZOFFSETTO:-0800
TZNAME:PST
DTSTART:20241103T090000
END:STANDARD
END:VTIMEZONE
BEGIN:VEVENT
DTSTART;TZID=America/Los_Angeles:20231220T123500
DTEND;TZID=America/Los_Angeles:20231220T123500
DTSTAMP:20260423T030043
CREATED:20231201T163616Z
LAST-MODIFIED:20231215T164050Z
UID:19578-1703075700-1703075700@jbauctioneers.net
SUMMARY:OTAY MESA - AUTO AUCTION
DESCRIPTION:Presented By: PUBLIC AUTO AUCTIONUp to 70 Lien Sale VehiclesWednesday December 20th  @ 12:35pm(Preview 12:00pm) Auctions held WednesdaysOtay Valley Rd & Heritage Rd\, Chula Vista(Look for signs to our facility from this location\, actual site is up the hill on 738 Heritage Rd.)Phone: 619-694-7809For a map and directions\, click here Here are some photos of vehicles available at this week’s Western Towing Auto Auction.Click on any of the images below to see the larger picture.\n\n\n\n\nno images were found \n\n\n\n*** TCM FORKLIFT ***\n\n\nno images were found \n\n\n\nTo download a copy of the list in Adobe pdf format\, Click here.\n\n\n\n\n\n\n	NOCONTROLYEAR/MAKE MODELREF#LS/T\n\n\n\n\n	123-307513 KIARIO338836LS\n\n\n	223-260012 KIAFORTE333848LS\n\n\n	323-236413 CHEVROLETCRUZE331241LS\n\n\n	423-300412 FORDFUSION338468LS\n\n\n	523-293109 NISSANALTIMA337431LS\n\n\n	623-254104 HYUNDAISANTA FE333220LS\n\n\n	723-301207 HYUNDAISANTA FE338226LS\n\n\n	823-322502 BMW525i340963LS\n\n\n	923-320698 FORDWINDSTAR340585LS\n\n\n	1023-317400 TOYOTACELICA339822LS\n\n\n	1123-327799 CHEVROLETTAHOE341407LS\n\n\n	1223-311211 BMW335i313356LS\n\n\n	1323-301703 CHEVROLETTAHOE338077LS\n\n\n	1423-289612 CHEVROLETCRUZE336903LS\n\n\n	1523-316910 VOLKSWAGENGOLF340100LS\n\n\n	1623-217292 FORDFESTIVA328934LS\n\n\n	1723-101909 FORDTAURUS315073LS\n\n\n	1823-108508 VOLKSWAGENJETTA316127LS\n\n\n	1923-217303 BMW530i328948LS\n\n\n	2023-309900 HONDAACCORD338960LS\n\n\n	2123-306909 TOYOTACOROLLA338960LS\n\n\n	2223-310112 FORDFOCUS339049LS\n\n\n	2323-317212 SCIONTC339949LS\n\n\n	2423-278307 CHRYSLERPACIFICA335700LS\n\n\n	2522-236206 CHEVROLETCOBALT285669LS\n\n\n	2623-207109 FORDMUSTANG328015LS\n\n\n	2723-290307 TOYOTACOROLLA337039LS\n\n\n	2823-307605 TOYOTAHIGHLANDER338870LS\n\n\n	2923-132111 AUDIA4318966LS\n\n\n	3023-257602 HONDAODYSSEY333640LS\n\n\n	3123-015615 KIAOPTIMA304509LS\n\n\n	3223-242109 TOYOTAPRIUS332050LS\n\n\n	3323-311307 MERCEDESCLS550339384LS\n\n\n	3423-080504 CHEVROLETAVEO312614LS\n\n\n	3523-226406 FORDF150330054LS\n\n\n	3622-221295 FORDMUSTANG284142LS\n\n\n	3723-321105 HONDACIVIC340594LS\n\n\n	3823-240298 DODGERAM 1500331707LS\n\n\n	3923-332909 TOYOTAMATRIX341871LS\n\n\n	4023-307009 HONDAFIT338759LS\n\n\n	4123-211710 CHEVROLETIMPALA328514LS\n\n\n	4223-260204 FORDEXPLORER333834LS\n\n\n	4323-227507 NISSANXTERRA330026LS\n\n\n	4423-247201 FORDEXPEDITION332494LS\n\n\n	4523-329799 FORDF150341814LS\n\n\n	4623-339306 DODGEDAKOTA342868LS\n\n\n	4723-287700 MERCEDESC-CLASS336625LS\n\n\n	4823-278204 HONDAELEMENT335682LS\n\n\n	4923-316204 CHEVROLETG-SERIES339990LS\n\n\n	5023-280397 FORDE250336036LS\n\n\n	51N/A06 FORDEXPEDITIONN/ATITLE\n\n\n\n\n\n\n\nTERMS AND CONDITIONS\n\nCash Only – All Sales are Final\n$200.00 refundable cash deposit to bid\nRefunds are available anytime during auction\nAll cars must be paid for and picked up by 4pm on Thursday ( no exceptions )\nAdditional deposits are required on vehicle’s over $1000.00\nLien sale vehicles sold to the general public are sold as is with all vaults and defects\, you are required to pay all DMV back registration and obtain a smog certificate before receiving your title from the DMV\, sales tax for your purchase will be paid directly to the DMV upon submission of the lien sale packet you will receive at the conclusion of the auction. Out of state buyers\, check with your local DMV to be sure that they will accept California lien sale documents for registration in your state.
URL:https://jbauctioneers.net/event/otay-mesa-auto-auction-20231220/
LOCATION:Western Towing\, 738 Heritage Rd.\, San Diego\, CA\, 92154\, United States
END:VEVENT
END:VCALENDAR