BEGIN:VCALENDAR
VERSION:2.0
PRODID:-//Joe Bradley Auctioneers - ECPv6.15.20//NONSGML v1.0//EN
CALSCALE:GREGORIAN
METHOD:PUBLISH
X-WR-CALNAME:Joe Bradley Auctioneers
X-ORIGINAL-URL:https://jbauctioneers.net
X-WR-CALDESC:Events for Joe Bradley Auctioneers
REFRESH-INTERVAL;VALUE=DURATION:PT1H
X-Robots-Tag:noindex
X-PUBLISHED-TTL:PT1H
BEGIN:VTIMEZONE
TZID:America/Los_Angeles
BEGIN:DAYLIGHT
TZOFFSETFROM:-0800
TZOFFSETTO:-0700
TZNAME:PDT
DTSTART:20230312T100000
END:DAYLIGHT
BEGIN:STANDARD
TZOFFSETFROM:-0700
TZOFFSETTO:-0800
TZNAME:PST
DTSTART:20231105T090000
END:STANDARD
BEGIN:DAYLIGHT
TZOFFSETFROM:-0800
TZOFFSETTO:-0700
TZNAME:PDT
DTSTART:20240310T100000
END:DAYLIGHT
BEGIN:STANDARD
TZOFFSETFROM:-0700
TZOFFSETTO:-0800
TZNAME:PST
DTSTART:20241103T090000
END:STANDARD
BEGIN:DAYLIGHT
TZOFFSETFROM:-0800
TZOFFSETTO:-0700
TZNAME:PDT
DTSTART:20250309T100000
END:DAYLIGHT
BEGIN:STANDARD
TZOFFSETFROM:-0700
TZOFFSETTO:-0800
TZNAME:PST
DTSTART:20251102T090000
END:STANDARD
END:VTIMEZONE
BEGIN:VEVENT
DTSTART;TZID=America/Los_Angeles:20240117T123500
DTEND;TZID=America/Los_Angeles:20240117T123500
DTSTAMP:20260423T030016
CREATED:20231201T163655Z
LAST-MODIFIED:20240112T174324Z
UID:19577-1705494900-1705494900@jbauctioneers.net
SUMMARY:OTAY MESA - AUTO AUCTION
DESCRIPTION:Presented By: PUBLIC AUTO AUCTIONUp to 70 Lien Sale VehiclesWednesday January 17th  @ 12:35pm(Preview 12:00pm) Auctions held WednesdaysOtay Valley Rd & Heritage Rd\, Chula Vista(Look for signs to our facility from this location\, actual site is up the hill on 738 Heritage Rd.)Phone: 619-694-7809For a map and directions\, click here Here are some photos of vehicles available at this week’s Western Towing Auto Auction.Click on any of the images below to see the larger picture.\n\n\n\n\nno images were found \n\n\n\n\nTo download a copy of the list in Adobe pdf format\, Click here.\n\n\n\n\n\n\n	NOCONTROLYEAR/MAKE MODELREF#LS/T\n\n\n\n\n	123-344811 AUDIA4343659LS\n\n\n	223-055910 DODGECHARGER309577LS\n\n\n	323-285712 TOYOTAHIGHLANDER336427LS\n\n\n	422-276413 MINI COOPER290095LS\n\n\n	521-342713 MERCEDESC250253484LS\n\n\n	622-339316 KIAFORTE297531LS\n\n\n	723-319704 NISSANTITAN340465LS\n\n\n	823-347096 TOYOTACOROLLA343751LS\n\n\n	923-348505 DODGECARAVAN343993LS\n\n\n	1023-344105 INFINITIG35343651LS\n\n\n	1123-331314 NISSANMURANO341791LS\n\n\n	1223-310606 BMW525i338969LS\n\n\n	1323-338091 HONDACIVIC342501LS\n\n\n	1423-334304 HYUNDAISONATA340728LS\n\n\n	1523-330198 CHEVROLETS10342044LS\n\n\n	1623-341308 MERCEDESC-CLASS343221LS\n\n\n	1723-325614 DODGECARAVAN341182LS\n\n\n	1823-337308 TOYOTACAMRY342828LS\n\n\n	1923-342111 KIASOUL343266LS\n\n\n	2023-337709 HYUNDAIELANTRA342750LS\n\n\n	2123-343510 VOLKSWAGENJETTA343539LS\n\n\n	2223-268907 HYUNDAIELANTRA343679LS\n\n\n	2323-341007 DODGECALIBER343156LS\n\n\n	2423-335697 GMCSAFARI342457LS\n\n\n	2523-338203 HYUNDAIELANTRA342790LS\n\n\n	2623-352209 MINI COOPER344492LS\n\n\n	2723-326210 TOYOTACOROLLA341344LS\n\n\n	2823-322300 DODGECARAVAN340909LS\n\n\n	2923-321403 LINCOLNAVIATOR340588LS\n\n\n	3023-339211 HONDAODYSSEY342758LS\n\n\n	3123-355408 MINI COOPER344637LS\n\n\n	3223-365403 FORDTAURUS345997LS\n\n\n	3323-330503 MERCEDESS-500341653LS\n\n\n	34N/A02 LEXUSGS341397TITLE\n\n\n	3523-301108 CHRYSLER300338111LS\n\n\n	3623-341202 HONDACIVIC343161LS\n\n\n	3723-262409 PONTIACVIBE334202LS\n\n\n	3823-344004 GMCYUKON343635LS\n\n\n	3923-345011 MERCEDESS-550343362LS\n\n\n	4023-357509 HONDAACCORD344950LS\n\n\n	4123-317912 MERCEDESC-CLASS340073LS\n\n\n	4223-347508 SCIONXB343848LS\n\n\n	4323-335103 MITSUBISHIECLIPSE342274LS\n\n\n	4423-348012 CHRYSLER200344007LS\n\n\n	4523-349607 NISSANALTIMA344141LS\n\n\n	023-337500 DODGEDURANGO342482LS\n\n\n	4723-322605 HONDACIVIC341035LS\n\n\n	4824-001404 INFINITIG35346324LS\n\n\n	4923-265711 HONDACIVIC334432LS\n\n\n	5023-333497 NISSANPICKUP342049LS\n\n\n\n\n\n\n\nTERMS AND CONDITIONS\n\nCash Only – All Sales are Final\n$200.00 refundable cash deposit to bid\nRefunds are available anytime during auction\nAll cars must be paid for and picked up by 4pm on Thursday ( no exceptions )\nAdditional deposits are required on vehicle’s over $1000.00\nLien sale vehicles sold to the general public are sold as is with all vaults and defects\, you are required to pay all DMV back registration and obtain a smog certificate before receiving your title from the DMV\, sales tax for your purchase will be paid directly to the DMV upon submission of the lien sale packet you will receive at the conclusion of the auction. Out of state buyers\, check with your local DMV to be sure that they will accept California lien sale documents for registration in your state.
URL:https://jbauctioneers.net/event/otay-mesa-auto-auction-20240117/
LOCATION:Western Towing\, 738 Heritage Rd.\, San Diego\, CA\, 92154\, United States
END:VEVENT
END:VCALENDAR