BEGIN:VCALENDAR
VERSION:2.0
PRODID:-//Joe Bradley Auctioneers - ECPv6.15.20//NONSGML v1.0//EN
CALSCALE:GREGORIAN
METHOD:PUBLISH
X-ORIGINAL-URL:https://jbauctioneers.net
X-WR-CALDESC:Events for Joe Bradley Auctioneers
REFRESH-INTERVAL;VALUE=DURATION:PT1H
X-Robots-Tag:noindex
X-PUBLISHED-TTL:PT1H
BEGIN:VTIMEZONE
TZID:America/Los_Angeles
BEGIN:DAYLIGHT
TZOFFSETFROM:-0800
TZOFFSETTO:-0700
TZNAME:PDT
DTSTART:20230312T100000
END:DAYLIGHT
BEGIN:STANDARD
TZOFFSETFROM:-0700
TZOFFSETTO:-0800
TZNAME:PST
DTSTART:20231105T090000
END:STANDARD
BEGIN:DAYLIGHT
TZOFFSETFROM:-0800
TZOFFSETTO:-0700
TZNAME:PDT
DTSTART:20240310T100000
END:DAYLIGHT
BEGIN:STANDARD
TZOFFSETFROM:-0700
TZOFFSETTO:-0800
TZNAME:PST
DTSTART:20241103T090000
END:STANDARD
BEGIN:DAYLIGHT
TZOFFSETFROM:-0800
TZOFFSETTO:-0700
TZNAME:PDT
DTSTART:20250309T100000
END:DAYLIGHT
BEGIN:STANDARD
TZOFFSETFROM:-0700
TZOFFSETTO:-0800
TZNAME:PST
DTSTART:20251102T090000
END:STANDARD
END:VTIMEZONE
BEGIN:VEVENT
DTSTART;TZID=America/Los_Angeles:20240131T123500
DTEND;TZID=America/Los_Angeles:20240131T123500
DTSTAMP:20260422T230832
CREATED:20240102T162305Z
LAST-MODIFIED:20240126T184048Z
UID:19912-1706704500-1706704500@jbauctioneers.net
SUMMARY:OTAY MESA - AUTO AUCTION
DESCRIPTION:Presented By: PUBLIC AUTO AUCTIONUp to 70 Lien Sale VehiclesWednesday January 31st  @ 12:35pm(Preview 12:00pm) Auctions held WednesdaysOtay Valley Rd & Heritage Rd\, Chula Vista(Look for signs to our facility from this location\, actual site is up the hill on 738 Heritage Rd.)Phone: 619-694-7809For a map and directions\, click here Here are some photos of vehicles available at this week’s Western Towing Auto Auction.Click on any of the images below to see the larger picture.\n\n\n\n\nno images were found \n\n\n\n\nTo download a copy of the list in Adobe pdf format\, Click here.\n\n\n\n\n\n\n	NOCONTROLYEAR/MAKE MODELREF#LS/T\n\n\n\n\n	123-359307 NISSANALTIMA345231LS\n\n\n	223-338107 VOLKSRABBIT452752LS\n\n\n	323-341101 HYUNDAIXG300343157LS\n\n\n	434-349494 FORDRANGER344019LS\n\n\n	521-342713 MERCEDESC250253484LS\n\n\n	623-356590 GEO METRO344863LS\n\n\n	723-344205 TOYOTACOROLLA343393LS\n\n\n	823-343798 TOYOTASIENNA343636LS\n\n\n	9N/A02 FORDFOCUS341180LS\n\n\n	1023-350808 AUDIA3344413LS\n\n\n	1123-327605 FORDEXPEDITION341395LS\n\n\n	1223-343906 CHEVROLETMONTE CARLO343502LS\n\n\n	1323-337810 FORDFOCUS342519LS\n\n\n	1423-312408 LANDROVERLR2335921LS\n\n\n	1523-338503 HYUNDAIACCENT342496LS\n\n\n	1623-364705 INFINITIFX35345952LS\n\n\n	1723-270604 FORDEXPEDITION335043LS\n\n\n	1823-333200 BMW540i341992LS\n\n\n	1923-101702 MERCEDESCLK400315066LS\n\n\n	2023-331088 FORDMUSTANG341898LS\n\n\n	2123-357306 MERCEDESE-CLASS344922LS\n\n\n	2223-337908 NISSANALTIMA342479LS\n\n\n	2323-335002 DODGEDURANGO342354LS\n\n\n	2423-358905 HONDAACCORD345284LS\n\n\n	2523-346902 VOLVOV70343744LS\n\n\n	2623-334103 MERCEDESE320342318LS\n\n\n	2723-267906 BMWZ4334608LS\n\n\n	2823-362305 HONDAACCORD345519LS\n\n\n	2923-332896 TOYOTA 4RUNNER341762LS\n\n\n	3023-335205 HONDACRV342276LS\n\n\n	3123-359415 HONDACIVIC345171LS\n\n\n	3223-342608 CHEVROLETMALIBU343272LS\n\n\n	3324-017305 FORDFREESTYLE348269LS\n\n\n	3423-342405 HONDAACCORD343252LS\n\n\n	3523-342295 INFINITIJ30343265LS\n\n\n	3623-317710  FORDF150340110LS\n\n\n	3723-349088 TOYOTACAMRY344144LS\n\n\n	3823-249202 FORDF150332720LS\n\n\n	3920-071908 VOLKSWAGENGOLF186100LS\n\n\n	4023-009005 CHEVROLETCORVETTE303862LS\n\n\n	4124-010398 FORDRANGER347408LS\n\n\n	4223-348289 NISSANPICKUP344011LS\n\n\n	4323-307811 HONDAACCORD338864LS\n\n\n	4423-342304 BMWX5343268LS\n\n\n	4523-343404 INFINITIFX35343511LS\n\n\n	4623-316601 FORDRANGER339834LS\n\n\n	4723-358705 MERCURYGRD MARQUIS345192LS\n\n\n	4823-328197 DODGERAM341371LS\n\n\n	4924-001901 CHEVROLETSILVERADO346361LS\n\n\n	5023-351092 CHEVROLETG-SERIES VAN344481LS\n\n\n\n\n\n\n\nTERMS AND CONDITIONS\n\nCash Only – All Sales are Final\n$200.00 refundable cash deposit to bid\nRefunds are available anytime during auction\nAll cars must be paid for and picked up by 4pm on Thursday ( no exceptions )\nAdditional deposits are required on vehicle’s over $1000.00\nLien sale vehicles sold to the general public are sold as is with all vaults and defects\, you are required to pay all DMV back registration and obtain a smog certificate before receiving your title from the DMV\, sales tax for your purchase will be paid directly to the DMV upon submission of the lien sale packet you will receive at the conclusion of the auction. Out of state buyers\, check with your local DMV to be sure that they will accept California lien sale documents for registration in your state.
URL:https://jbauctioneers.net/event/otay-mesa-auto-auction-20240131/
LOCATION:Western Towing\, 738 Heritage Rd.\, San Diego\, CA\, 92154\, United States
END:VEVENT
END:VCALENDAR