BEGIN:VCALENDAR
VERSION:2.0
PRODID:-//Joe Bradley Auctioneers - ECPv6.15.20//NONSGML v1.0//EN
CALSCALE:GREGORIAN
METHOD:PUBLISH
X-WR-CALNAME:Joe Bradley Auctioneers
X-ORIGINAL-URL:https://jbauctioneers.net
X-WR-CALDESC:Events for Joe Bradley Auctioneers
REFRESH-INTERVAL;VALUE=DURATION:PT1H
X-Robots-Tag:noindex
X-PUBLISHED-TTL:PT1H
BEGIN:VTIMEZONE
TZID:America/Los_Angeles
BEGIN:DAYLIGHT
TZOFFSETFROM:-0800
TZOFFSETTO:-0700
TZNAME:PDT
DTSTART:20230312T100000
END:DAYLIGHT
BEGIN:STANDARD
TZOFFSETFROM:-0700
TZOFFSETTO:-0800
TZNAME:PST
DTSTART:20231105T090000
END:STANDARD
BEGIN:DAYLIGHT
TZOFFSETFROM:-0800
TZOFFSETTO:-0700
TZNAME:PDT
DTSTART:20240310T100000
END:DAYLIGHT
BEGIN:STANDARD
TZOFFSETFROM:-0700
TZOFFSETTO:-0800
TZNAME:PST
DTSTART:20241103T090000
END:STANDARD
BEGIN:DAYLIGHT
TZOFFSETFROM:-0800
TZOFFSETTO:-0700
TZNAME:PDT
DTSTART:20250309T100000
END:DAYLIGHT
BEGIN:STANDARD
TZOFFSETFROM:-0700
TZOFFSETTO:-0800
TZNAME:PST
DTSTART:20251102T090000
END:STANDARD
END:VTIMEZONE
BEGIN:VEVENT
DTSTART;TZID=America/Los_Angeles:20240213T103000
DTEND;TZID=America/Los_Angeles:20240213T143000
DTSTAMP:20260422T230808
CREATED:20240205T184207Z
LAST-MODIFIED:20240210T155915Z
UID:20475-1707820200-1707834600@jbauctioneers.net
SUMMARY:OCEANSIDE - AUTO AUCTION
DESCRIPTION:Presented By:Auctions the 1st and 3rd Tuesdays of each monthPUBLIC AUTO AUCTIONUp to 80 Selected Vehicles\nTuesday February 13th @ 10:30am1060 Airport Rd. (in the Oceanside location towing yard)Oceanside 92058Phone. 760-722-6686For a map and directions\, click here\nHere are some photos of vehicles available at this week’s S&R Towing auction.Vehicles posted are subject to change without notice.Click on any of the images below to see the larger picture.*** RUNNERS ***\n\n\n\n\nno images were found \n\n\n*** NON-RUNNERS ***\n\n\n\nno images were found \n\n\n\nTo download a copy of the list in Adobe pdf format\, Click here.\n\n\n\n\n\n\n\n	Call #lot #YearMakeModelExp DatePlateVinMilesT/Sal\n\n\n\n\n	11388212014HondaPilot7DBK2785FNYF3H41EB006277\n\n\n	11650422015HyundaiACCENT9EMY080KMHCU4AE0FU923806\n\n\n	11583632006HondaAccord302 LWA1HGCM56366A077055\n\n\n	11522442001ToyotaCelica4WBU375JTDDR32T110100674\n\n\n	11791952016SubaruWRXJF1VA1E65G9829003\n\n\n	11773862018AudiA48GDR932WAUKMAF41JA085436TITLE\n\n\n	11933172013HyundaiSONATA Hybrid7CMD117KMHEC4A46DA090658TITLE\n\n\n	11776482000FordExcursionBM7F6681FMNU42S8YEB86591\n\n\n	11637091995ChevroletC/K 1500 Series07622P22GCEC19K7S1183878SAL\n\n\n	117528101989ChevroletChevy Van6HAB6861GBEG25K0K7110956\n\n\n	110794112007AudiA4V864385WAUDF78EX7A011503SAL\n\n\n	116732121998HondaAccord6MXM8831HGCG2254WA019684\n\n\n	119955PT132006ChevroletColorado8V538091GCCS148868263554JUNK\n\n\n	120356PT142003BuickCentury4ZQW4672G4WS52J531203803\n\n\n	117226151990LexusLS 4006W0A262JT8UF11E4L0028659\n\n\n	118282162008ToyotaTacoma57020N33TMLU42NX8M014708\n\n\n	117120171994ChevroletCamaro3JBH8502G1FP22S9R2161564\n\n\n	115973182014FordC-MAX Hybrid7LGL7031FADP5AU6EL507170\n\n\n	114974192004BMW5 Series6JXT461WBANA53564B173925\n\n\n	118059202002Chrysler300M4YRR1012C3AE66G32H202346\n\n\n	118924212005HondaCivic5LLY2881HGEM225X5L044769TITLE\n\n\n	118092222015ScionFR-S7KCK307 JF1ZNAA19F8700377\n\n\n	108504231992GMCForward Control ChassisNONE1GDKP32K9N3501796\n\n\n	116760242007ChryslerTown and Country5ZKM5181A4GP44R47B180943SAL\n\n\n	117928252004LincolnTown Car8WQL4471LNHM83W24Y621023SAL\n\n\n	117646262018DodgeCharger9DCZ8612C3CDXCT3JH173352\n\n\n	114637272010VolkswagenJetta9AZK6273VWAX7AJ9AM142049\n\n\n	117562281999AcuraRL4FKZ682JH4KA9657XC005569\n\n\n	120026291999ToyotaTacomaRIKSTR14TANL42N5XZ519799TITLE\n\n\n	115032301990VolkswagenJetta2TTC678WVWRA21G3LW596203\n\n\n	120376312006AcuraRSX6PUA425JH4DC54836S002147TITLE\n\n\n	117282322003SaturnIon5BPT7411G8AL52FX3Z126533\n\n\n	120315331997NissanTruck82801M31N6SD16S6VC423793TITLE\n\n\n	118153342013AcuraILX6XJW60119VDE1F38DE000604\n\n\n	117130352009ChevroletMalibuMYP67521G1ZH57B594170468\n\n\n	116328361999Mercedes-BenzM-Class4HGF6754JGAB54E2XA137264\n\n\n	118668372000NissanMaxima6YKM020JN1CA31D1YT519746\n\n\n	117705381999FordRangerNOPLATE1FTYR14V4XPB05176\n\n\n	115455391995CadillacDeVille1G6KD52B1SU275755\n\n\n	116329402010FordFocus6NYD3011FAHP3HN8AW296843\n\n\n	116212411999BMW3 Series4EZE539WBAAM5336XFR06413\n\n\n	115079422010FordRanger09058T31FTKR1AD6APA62002\n\n\n	114288431998FordExplorer5CJT4921FMYU22X7WUC74743\n\n\n	118874442004LincolnAviator9CEU159 5LMEU68H84ZJ54229\n\n\n	114089452005HyundaiElantra7CNZ914 KMHDN46D85U001297\n\n\n	118432462008ToyotaCamry7T0J1304T1BE46K98U214012\n\n\n	115895472011KiaForte8VQT256KNAFU6A26B5460851\n\n\n	116248482003Mercedes-BenzC-CLASS5CNP997WDBRF40J03A526809\n\n\n	116082492001FordF-1506L211671FTSW31S31EA23091\n\n\n	96752502016VolkswagenJettaOOS6WF8193VW167AJ7GM28162561423\n\n\n	115986512000ToyotaCamrySep-224NGF444JT2BG22KXY0527109178719\n\n\n	117852522003BMW5 SeriesOOSNONEWBADT43443GY99064171835\n\n\n	116053531996HondaAccordJun-237ENW6851HGCD5537TA269582208197\n\n\n	117939541986ToyotaPickupMar-2428850S1JT5RN75T9G0004798236923\n\n\n	118301552009ToyotaCamryDec-236GDH9794T4BE46K09R119121157504\n\n\n	113714562004MazdaMazda6Mar-228XLY1651YVHP84D445N61413124518\n\n\n	113764572012HyundaiELANTRAAug-238KIG6735NPDH4AE6CH090340166747\n\n\n	116544582014FordFusionSep-237NQM6033FA6P0H70ER299736197267\n\n\n	116778592001HondaAccordDec-224PQB9131HGCG22561A007089191523\n\n\n	118679602016JeepPatriotJun-197SXU9091C4NJPBA8GD710753107698\n\n\n	117655612007HondaAccordMay-215YOL7981HGCM563X7A152082206191\n\n\n	117668622014JeepPatriotFeb-248UVU6431C4NJPFB6ED671273111153\n\n\n	117429631999ChevroletSuburbanJan-247SEM347 3GNFK16R2XG124980226547\n\n\n	116200642001FordRangerDec-2395077L1 1FTYR14U11PA55237222201\n\n\n	115913652004ToyotaMatrixJun-225HFM335 2T1CR32E44C206835158262\n\n\n	114862662004HondaCivicAug-23 6HAS5862HGES16554H602095168615\n\n\n	117052672007ChevroletMalibuOOSENA723 1G1ZW5197F202675176875\n\n\n	118031682009SuzukiSX4OOSTPP5337 JS2YC414296201059154542\n\n\n	114966692000HondaAccordFeb-245LQE729 JHMCG5674YC017984159150\n\n\n	119124702002NissanAltimaAug-194YXX930 1N4AL11D32C709693155858\n\n\n	115809711999ChevroletSuburbanOct-204HTW929 3GNEC16RXXG273128211952\n\n\n\n\n\n\n\n\n\n\nTERMS AND CONDITIONS\n\nBuyers fees: Dealers & Dismantlers $35.00\nGeneral Public $65.00\n$200.00 cash deposit required to bid\nAll vehicles must be paid for in full CASH ONLY at the conclusion of the auction\nAll vehicles must be removed by Friday following the auction\nLien sale vehicles sold to the general public are sold as is with all vaults and defects\, you are required to pay all DMV back registration and obtain a smog certificate before receiving your title from the DMV\, sales tax for your purchase will be paid directly to the DMV upon submission of the lien sale packet you will receive at the conclusion of the auction. Out of state buyers\, check with your local DMV to be sure that they will accept California lien sale documents for registration in your state.\nFor more info call direct 760-722-6686
URL:https://jbauctioneers.net/event/oceanside-auto-auction-20240213/
LOCATION:S&R Towing\, 1060 Airport Rd.\, Oceanside\, CA\, 92058\, United States
END:VEVENT
END:VCALENDAR