BEGIN:VCALENDAR
VERSION:2.0
PRODID:-//Joe Bradley Auctioneers - ECPv6.15.20//NONSGML v1.0//EN
CALSCALE:GREGORIAN
METHOD:PUBLISH
X-WR-CALNAME:Joe Bradley Auctioneers
X-ORIGINAL-URL:https://jbauctioneers.net
X-WR-CALDESC:Events for Joe Bradley Auctioneers
REFRESH-INTERVAL;VALUE=DURATION:PT1H
X-Robots-Tag:noindex
X-PUBLISHED-TTL:PT1H
BEGIN:VTIMEZONE
TZID:America/Los_Angeles
BEGIN:DAYLIGHT
TZOFFSETFROM:-0800
TZOFFSETTO:-0700
TZNAME:PDT
DTSTART:20230312T100000
END:DAYLIGHT
BEGIN:STANDARD
TZOFFSETFROM:-0700
TZOFFSETTO:-0800
TZNAME:PST
DTSTART:20231105T090000
END:STANDARD
BEGIN:DAYLIGHT
TZOFFSETFROM:-0800
TZOFFSETTO:-0700
TZNAME:PDT
DTSTART:20240310T100000
END:DAYLIGHT
BEGIN:STANDARD
TZOFFSETFROM:-0700
TZOFFSETTO:-0800
TZNAME:PST
DTSTART:20241103T090000
END:STANDARD
BEGIN:DAYLIGHT
TZOFFSETFROM:-0800
TZOFFSETTO:-0700
TZNAME:PDT
DTSTART:20250309T100000
END:DAYLIGHT
BEGIN:STANDARD
TZOFFSETFROM:-0700
TZOFFSETTO:-0800
TZNAME:PST
DTSTART:20251102T090000
END:STANDARD
END:VTIMEZONE
BEGIN:VEVENT
DTSTART;TZID=America/Los_Angeles:20240327T123500
DTEND;TZID=America/Los_Angeles:20240327T123500
DTSTAMP:20260422T214900
CREATED:20240302T152555Z
LAST-MODIFIED:20240322T155847Z
UID:20829-1711542900-1711542900@jbauctioneers.net
SUMMARY:OTAY MESA - AUTO AUCTION
DESCRIPTION:Presented By: PUBLIC AUTO AUCTIONUp to 70 Lien Sale VehiclesWednesday March 27th  @ 12:35pm(Preview 12:00pm) Auctions held WednesdaysOtay Valley Rd & Heritage Rd\, Chula Vista(Look for signs to our facility from this location\, actual site is up the hill on 738 Heritage Rd.)Phone: 619-694-7809For a map and directions\, click here Here are some photos of vehicles available at this week’s Western Towing Auto Auction.Click on any of the images below to see the larger picture.\n\n\n\n\nno images were found \n\n\n\n\nTo download a copy of the list in Adobe pdf format\, Click here.\n\n\n\n\n\n\n	NOCONTROLYEAR/MAKE MODELREF#LS/T\n\n\n\n\n	124-047807 HONDAACCORD352008LS\n\n\n	223-261313 HYUNDAISONATA333817TITLE\n\n\n	324-050408 CHEVROLETCOBALT352101LS\n\n\n	424-057902 TOYOTACAMRY352928LS\n\n\n	5N/A06 HONDAACCORD9ATITLE\n\n\n	624-071010 KIAFORTE354465LS\n\n\n	724-047204 NISSANMURANO351888LS\n\n\n	824-048490 FORDRANGER352309LS\n\n\n	924-031709 MAZDA6350179LS\n\n\n	1024-057492 TOYOTAPASEO353208LS\n\n\n	1124-061602 MAZDATRIBUTE353535LS\n\n\n	1224-057805 SCIONTC352890LS\n\n\n	1324-053803 HYUNDAITIBURON352534LS\n\n\n	1424-056907 FORDEDGE352905LS\n\n\n	1524-028989 LINCOLNTOWNCAR349924LS\n\n\n	1623-349207 BMW525i344147LS\n\n\n	1724-010202 CHEVROLETTAHOE347402LS\n\n\n	1824-060502 AUDITT353408LS\n\n\n	1924-050108 KIAOPTIMA351972LS\n\n\n	2024-019405 BMW325i348756LS\n\n\n	2124-042804 FORDF150351347LS\n\n\n	2224-070805 HONDAACCORD354368LS\n\n\n	2324-061713 MAZDA3353513LS\n\n\n	2424-061101 FORDFOCUS353413LS\n\n\n	2524-064011 MAZDACX9353809LS\n\n\n	2624-022084 TOYOTACELICA349210LS\n\n\n	2724-055810 MAZDA3353026LS\n\n\n	28N/A08 HONDAFITN/ATITLE\n\n\n	2924-060406 NISSANMAXIMA353456LS\n\n\n	3023-325015 NISSANVERSA340964LS\n\n\n	3122-310311 JEEPLIBERTY293876LS\n\n\n	3223-200313 CHEVROLETSONIC327392TITLE\n\n\n	3324-053208 AUDIA4352463LS\n\n\n	3423-347193 VOLKSWAGENEUROVAN343759LS\n\n\n	3524-043111 FORDESCAPE351358LS\n\n\n	3624-060602 JEEPGRD CHEROKEE353435LS\n\n\n	3723-348407 HONDACIVIC344140LS\n\n\n	3824-0438A11 VOLKSWAGENTIGUAN351435LS\n\n\n	3924-004703 MITSUBISHIOUTLANDER346579LS\n\n\n	4024-029507 LEXUSIS250349791LS\n\n\n	4124-023708 SCIONXB349031LS\n\n\n	4224-040904 CHEVROLETMALIBU351216LS\n\n\n	4324-059609 BMW328i353391LS\n\n\n	4424-042107 SATURNOUTLOOK351181LS\n\n\n	4524-065905 CADILLACSTS353971LS\n\n\n	4624-065700 DODGEDURANGO353959LS\n\n\n	4724-061406 MERCEDESE-CLASS353502LS\n\n\n	4824-041109 VOLKSWAGENTIGUAN351288LS\n\n\n	4924-040078 FORDECONOLINE351025LS\n\n\n	5023-339002 VOLVOC70342483LS\n\n\n\n\n\n\n\nTERMS AND CONDITIONS\n\nCash Only – All Sales are Final\n$200.00 refundable cash deposit to bid\nRefunds are available anytime during auction\nAll cars must be paid for and picked up by 4pm on Thursday ( no exceptions )\nAdditional deposits are required on vehicle’s over $1000.00\nLien sale vehicles sold to the general public are sold as is with all vaults and defects\, you are required to pay all DMV back registration and obtain a smog certificate before receiving your title from the DMV\, sales tax for your purchase will be paid directly to the DMV upon submission of the lien sale packet you will receive at the conclusion of the auction. Out of state buyers\, check with your local DMV to be sure that they will accept California lien sale documents for registration in your state.
URL:https://jbauctioneers.net/event/otay-mesa-auto-auction-20240327/
LOCATION:Western Towing\, 738 Heritage Rd.\, San Diego\, CA\, 92154\, United States
END:VEVENT
END:VCALENDAR