BEGIN:VCALENDAR
VERSION:2.0
PRODID:-//Joe Bradley Auctioneers - ECPv6.15.20//NONSGML v1.0//EN
CALSCALE:GREGORIAN
METHOD:PUBLISH
X-ORIGINAL-URL:https://jbauctioneers.net
X-WR-CALDESC:Events for Joe Bradley Auctioneers
REFRESH-INTERVAL;VALUE=DURATION:PT1H
X-Robots-Tag:noindex
X-PUBLISHED-TTL:PT1H
BEGIN:VTIMEZONE
TZID:America/Los_Angeles
BEGIN:DAYLIGHT
TZOFFSETFROM:-0800
TZOFFSETTO:-0700
TZNAME:PDT
DTSTART:20230312T100000
END:DAYLIGHT
BEGIN:STANDARD
TZOFFSETFROM:-0700
TZOFFSETTO:-0800
TZNAME:PST
DTSTART:20231105T090000
END:STANDARD
BEGIN:DAYLIGHT
TZOFFSETFROM:-0800
TZOFFSETTO:-0700
TZNAME:PDT
DTSTART:20240310T100000
END:DAYLIGHT
BEGIN:STANDARD
TZOFFSETFROM:-0700
TZOFFSETTO:-0800
TZNAME:PST
DTSTART:20241103T090000
END:STANDARD
BEGIN:DAYLIGHT
TZOFFSETFROM:-0800
TZOFFSETTO:-0700
TZNAME:PDT
DTSTART:20250309T100000
END:DAYLIGHT
BEGIN:STANDARD
TZOFFSETFROM:-0700
TZOFFSETTO:-0800
TZNAME:PST
DTSTART:20251102T090000
END:STANDARD
END:VTIMEZONE
BEGIN:VEVENT
DTSTART;TZID=America/Los_Angeles:20240501T123500
DTEND;TZID=America/Los_Angeles:20240501T123500
DTSTAMP:20260422T184955
CREATED:20240328T215318Z
LAST-MODIFIED:20240425T215731Z
UID:21232-1714566900-1714566900@jbauctioneers.net
SUMMARY:OTAY MESA - AUTO AUCTION
DESCRIPTION:Presented By: PUBLIC AUTO AUCTIONUp to 70 Lien Sale VehiclesWednesday May 1st  @ 12:35pm(Preview 12:00pm) Auctions held WednesdaysOtay Valley Rd & Heritage Rd\, Chula Vista(Look for signs to our facility from this location\, actual site is up the hill on 738 Heritage Rd.)Phone: 619-694-7809For a map and directions\, click here Here are some photos of vehicles available at this week’s Western Towing Auto Auction.Click on any of the images below to see the larger picture.\n\n\n\n\nno images were found \n\n\n\n\nTo download a copy of the list in Adobe pdf format\, Click here.\n\n\n\n\n\n\n	NOCONTROLYEAR/MAKE MODELREF#LS/T\n\n\n\n\n	124-002105 VOLVOS60346372LS\n\n\n	223-295915 KIAOPTIMA337778LS\n\n\n	324-092905 LINCOLNLS356743LS\n\n\n	424-082999 CHEVROLETLUMINA355777LS\n\n\n	524-098599 FORDTAURUS357354LS\n\n\n	624-095300 TOYOTAAVALON357131LS\n\n\n	724-101596 TOYOTACAMRY357857LS\n\n\n	823-345315 VOLKSWAGENJETTA343525LS\n\n\n	924-035213 BMW328i340948LS\n\n\n	1024-016293 DODGECARAVAN348253LS\n\n\n	1124-099800 KIASEPHIA357565LS\n\n\n	1223-3458A15 CHEVROLETSONIC343628LS\n\n\n	1323-335490 FORDTHUNDERBIRD342343LS\n\n\n	1424-035311 BMW535i342633LS\n\n\n	1524-092591 BUICKLESABRE356967LS\n\n\n	1624-096003 BMW525i357235LS\n\n\n	1724-079101 LEXUSES300355302LS\n\n\n	1824-108507 BMW328i358390LS\n\n\n	1924-098801 JAGUARS-TYPE357434LS\n\n\n	2024-104311 NISSANSENTRA357929LS\n\n\n	21N/A01 HONDACIVIC358498LS\n\n\n	2224-085298 DODGEDURANGO355973LS\n\n\n	2324-072302 CHEVROLETS10354616LS\n\n\n	2424-101000 TOYOTACAMRY357660LS\n\n\n	2523-335916 CHRYSLER200342278LS\n\n\n	2624-098203 HONDAACCORD357331LS\n\n\n	2724-097806 HONDACIVIC357329LS\n\n\n	2824-090109 NISSANALTIMA356607LS\n\n\n	2924-010904 FORDF150347659LS\n\n\n	3024-010110 DODGENITRO347654LS\n\n\n	3124-100999 TOYOTACAMRY357668LS\n\n\n	3224-106805 PONTIACGRD AM358245LS\n\n\n	3324-076707 JEEPPATRIOT355132LS\n\n\n	3424-007103 FORDMUSTANG347093LS\n\n\n	3523-354412 MERCEDESC-CLASS344309LS\n\n\n	3624-089601 FORDEXPLORER356522LS\n\n\n	3724-092490 CADILLACDEVILLE356965LS\n\n\n	38X 14 FORDFIESTAXTITLE\n\n\n	3924-056808 NISSANXTERRA352893LS\n\n\n	4024-089198 JAGUARXJ8356517LS\n\n\n	4124-106402 BMW330ci358207LS\n\n\n	4224-106203 FORDMUSTANG358164LS\n\n\n	4324-109101 MERCEDESS-CLASS358363LS\n\n\n	4424-093808 VOLKSWAGENBEETLE356916LS\n\n\n	4523-365506 NISSANTITAN346044LS\n\n\n	4624-060106 FORDE150 VAN353428LS\n\n\n	4724-109001 GMCSIERRA358591LS\n\n\n	4824-107693 FORDE250 VAN358259LS\n\n\n	4924-082201 HONDACIVIC355787LS\n\n\n	5024-091715 TOYOTAPRIUS355132LS\n\n\n\n\n\n\n\nTERMS AND CONDITIONS\n\nCash Only – All Sales are Final\n$200.00 refundable cash deposit to bid\nRefunds are available anytime during auction\nAll cars must be paid for and picked up by 4pm on Thursday ( no exceptions )\nAdditional deposits are required on vehicle’s over $1000.00\nLien sale vehicles sold to the general public are sold as is with all vaults and defects\, you are required to pay all DMV back registration and obtain a smog certificate before receiving your title from the DMV\, sales tax for your purchase will be paid directly to the DMV upon submission of the lien sale packet you will receive at the conclusion of the auction. Out of state buyers\, check with your local DMV to be sure that they will accept California lien sale documents for registration in your state.
URL:https://jbauctioneers.net/event/otay-mesa-auto-auction-20240501/
LOCATION:Western Towing\, 738 Heritage Rd.\, San Diego\, CA\, 92154\, United States
END:VEVENT
END:VCALENDAR