BEGIN:VCALENDAR
VERSION:2.0
PRODID:-//Joe Bradley Auctioneers - ECPv6.15.20//NONSGML v1.0//EN
CALSCALE:GREGORIAN
METHOD:PUBLISH
X-WR-CALNAME:Joe Bradley Auctioneers
X-ORIGINAL-URL:https://jbauctioneers.net
X-WR-CALDESC:Events for Joe Bradley Auctioneers
REFRESH-INTERVAL;VALUE=DURATION:PT1H
X-Robots-Tag:noindex
X-PUBLISHED-TTL:PT1H
BEGIN:VTIMEZONE
TZID:America/Los_Angeles
BEGIN:DAYLIGHT
TZOFFSETFROM:-0800
TZOFFSETTO:-0700
TZNAME:PDT
DTSTART:20230312T100000
END:DAYLIGHT
BEGIN:STANDARD
TZOFFSETFROM:-0700
TZOFFSETTO:-0800
TZNAME:PST
DTSTART:20231105T090000
END:STANDARD
BEGIN:DAYLIGHT
TZOFFSETFROM:-0800
TZOFFSETTO:-0700
TZNAME:PDT
DTSTART:20240310T100000
END:DAYLIGHT
BEGIN:STANDARD
TZOFFSETFROM:-0700
TZOFFSETTO:-0800
TZNAME:PST
DTSTART:20241103T090000
END:STANDARD
BEGIN:DAYLIGHT
TZOFFSETFROM:-0800
TZOFFSETTO:-0700
TZNAME:PDT
DTSTART:20250309T100000
END:DAYLIGHT
BEGIN:STANDARD
TZOFFSETFROM:-0700
TZOFFSETTO:-0800
TZNAME:PST
DTSTART:20251102T090000
END:STANDARD
END:VTIMEZONE
BEGIN:VEVENT
DTSTART;TZID=America/Los_Angeles:20240515T123500
DTEND;TZID=America/Los_Angeles:20240515T123500
DTSTAMP:20260422T184920
CREATED:20240425T215414Z
LAST-MODIFIED:20240510T154145Z
UID:21540-1715776500-1715776500@jbauctioneers.net
SUMMARY:OTAY MESA - AUTO AUCTION
DESCRIPTION:Presented By: PUBLIC AUTO AUCTIONUp to 70 Lien Sale VehiclesWednesday May 15th  @ 12:35pm(Preview 12:00pm) Auctions held WednesdaysOtay Valley Rd & Heritage Rd\, Chula Vista(Look for signs to our facility from this location\, actual site is up the hill on 738 Heritage Rd.)Phone: 619-694-7809For a map and directions\, click here Here are some photos of vehicles available at this week’s Western Towing Auto Auction.Click on any of the images below to see the larger picture.\n\n\n\n\nno images were found \n\n\n\n\nTo download a copy of the list in Adobe pdf format\, Click here.\n\n\n\n\n\n\n	NOCONTROLYEAR/MAKE MODELREF#LS/T\n\n\n\n\n	124-111914 FORDFOCUS373011LS\n\n\n	224-128808 FORDFUSION360628LS\n\n\n	324-115605 INFINITIG35359162LS\n\n\n	424-103901 ACURAMDX357960LS\n\n\n	524-099905 HYUNDAIACCENT357569LS\n\n\n	623-157910 VOLVOS80321996LS\n\n\n	724-095508 FORDEXPEDITION357118LS\n\n\n	824-120409 HONDACIVIC359722LS\n\n\n	924-124708 DODGECALIBER359971LS\n\n\n	1024-115806 HONDAACCORD359280LS\n\n\n	1124-108808 HONDAACCORD358550LS\n\n\n	1223-336915 BMW328i342371LS\n\n\n	1324-123593 FORDEXPLORER360247LS\n\n\n	1424-113206 MERCEDESE320358952LS\n\n\n	1524-120708 AUDIA4359739LS\n\n\n	1624-123999 TOYOTA4RUNNER360092LS\n\n\n	1724-123710 NISSANROGUE360082LS\n\n\n	1824-100308 PONTIACG5357682LS\n\n\n	1924-118909 SUBARUIMPREZA359528LS\n\n\n	20N/A01 TOYOTATUNDRA338731TITLE\n\n\n	2124-108612 DODGEAVENGER358502LS\n\n\n	2224-120815 FORDFIESTA359747LS\n\n\n	2324-112216 HYUNDAISANTA FE326023LS\n\n\n	2424-123110 MAZDA3360033LS\n\n\n	2524-114806 HONDACIVIC359035LS\n\n\n	2624-121914 CHRYSLER200312789LS\n\n\n	2724-097806 HONDACIVIC357329LS\n\n\n	2824-064413 HYUNDAIELANTRA353807LS\n\n\n	2924-128111 CHRYSLER300360484LS\n\n\n	3024-010110 DODGENITRO347654LS\n\n\n	3124-054714 CHEVROLETCRUZE352716LS\n\n\n	3224-106604 FORDMUSTANG358153LS\n\n\n	3323-286213 CHRYSLER300336431LS\n\n\n	3424-094013 LINCOLNNAVIGATOR356768LS\n\n\n	3524-113614 CADILLACATS358949LS\n\n\n	3624-121596 CADILLACSEVILLE359846LS\n\n\n	3724-116208 GMCACADIA359291LS\n\n\n	3824-106002 FORDESCAPE358167LS\n\n\n	3924-122907 ACURARDX359985LS\n\n\n	4024-037206 CHRYSLER300350726LS\n\n\n	4124-122014 HONDACRV313696LS\n\n\n	4224-114702 HYUNDAISONATA359041LS\n\n\n	4324-100681 ALFA ROMEOSPIDER357552LS\n\n\n	4424-127802 CHRYSLERTOWN&COUNTRY360549LS\n\n\n	4524-123202 VOLVOS60360223LS\n\n\n	4624-128404 FORDESCAPE360577LS\n\n\n	4724-105701 FORDF250358183LS\n\n\n	4824-125818 TOYOTACOROLLA360316LS\n\n\n	4924-102317 ACURATLX357884LS\n\n\n	5024-132801 NISSANFRONTIER361183LS\n\n\n\n\n\n\n\nTERMS AND CONDITIONS\n\nCash Only – All Sales are Final\n$200.00 refundable cash deposit to bid\nRefunds are available anytime during auction\nAll cars must be paid for and picked up by 4pm on Thursday ( no exceptions )\nAdditional deposits are required on vehicle’s over $1000.00\nLien sale vehicles sold to the general public are sold as is with all vaults and defects\, you are required to pay all DMV back registration and obtain a smog certificate before receiving your title from the DMV\, sales tax for your purchase will be paid directly to the DMV upon submission of the lien sale packet you will receive at the conclusion of the auction. Out of state buyers\, check with your local DMV to be sure that they will accept California lien sale documents for registration in your state.
URL:https://jbauctioneers.net/event/otay-mesa-auto-auction-20240515/
LOCATION:Western Towing\, 738 Heritage Rd.\, San Diego\, CA\, 92154\, United States
END:VEVENT
END:VCALENDAR