BEGIN:VCALENDAR
VERSION:2.0
PRODID:-//Joe Bradley Auctioneers - ECPv6.15.20//NONSGML v1.0//EN
CALSCALE:GREGORIAN
METHOD:PUBLISH
X-ORIGINAL-URL:https://jbauctioneers.net
X-WR-CALDESC:Events for Joe Bradley Auctioneers
REFRESH-INTERVAL;VALUE=DURATION:PT1H
X-Robots-Tag:noindex
X-PUBLISHED-TTL:PT1H
BEGIN:VTIMEZONE
TZID:America/Los_Angeles
BEGIN:DAYLIGHT
TZOFFSETFROM:-0800
TZOFFSETTO:-0700
TZNAME:PDT
DTSTART:20230312T100000
END:DAYLIGHT
BEGIN:STANDARD
TZOFFSETFROM:-0700
TZOFFSETTO:-0800
TZNAME:PST
DTSTART:20231105T090000
END:STANDARD
BEGIN:DAYLIGHT
TZOFFSETFROM:-0800
TZOFFSETTO:-0700
TZNAME:PDT
DTSTART:20240310T100000
END:DAYLIGHT
BEGIN:STANDARD
TZOFFSETFROM:-0700
TZOFFSETTO:-0800
TZNAME:PST
DTSTART:20241103T090000
END:STANDARD
BEGIN:DAYLIGHT
TZOFFSETFROM:-0800
TZOFFSETTO:-0700
TZNAME:PDT
DTSTART:20250309T100000
END:DAYLIGHT
BEGIN:STANDARD
TZOFFSETFROM:-0700
TZOFFSETTO:-0800
TZNAME:PST
DTSTART:20251102T090000
END:STANDARD
END:VTIMEZONE
BEGIN:VEVENT
DTSTART;TZID=America/Los_Angeles:20240521T103000
DTEND;TZID=America/Los_Angeles:20240521T143000
DTSTAMP:20260422T184956
CREATED:20240328T215908Z
LAST-MODIFIED:20240518T182550Z
UID:21239-1716287400-1716301800@jbauctioneers.net
SUMMARY:OCEANSIDE - AUTO AUCTION
DESCRIPTION:Presented By:Auctions the 1st and 3rd Tuesdays of each monthPUBLIC AUTO AUCTIONUp to 80 Selected Vehicles\nTuesday May 21st @ 10:30am1060 Airport Rd. (in the Oceanside location towing yard)Oceanside 92058Phone. 760-722-6686For a map and directions\, click here\nHere are some photos of vehicles available at this week’s S&R Towing auction.Vehicles posted are subject to change without notice.Click on any of the images below to see the larger picture.*** EXTRAS ***\n\n\n\n\nno images were found \n\n\n*** RUNNERS ***\n\n\n\n\nno images were found \n\n\n*** NON-RUNNERS ***\n\n\n\nno images were found \n\n\n\nTo download a copy of the list in Adobe pdf format\, Click here.\n\n\n\n\n\n\n\n	Call #Lot #YearMakeModelExp Date PlateVINOdomT/SAL\n\n\n\n\n	12451011997LexusLS 4008SFN803JT8BH28F7V0077296\n\n\n	12676722000DodgeDurango8FCE7521B4HR28Z7YF197021\n\n\n	12676631997MercuryMountaineer3RWK7064M2DU52P8VUJ01486\n\n\n	6838841999GMCForward Control Chassis29233D21GDJP32R6X3500181\n\n\n	12488152000ToyotaCamry Solara7CZJ4822T1FF28P2YC378571SAL\n\n\n	12456662010Chrysler3008HNZ3842C3CA5CV0AH213515\n\n\n	12489972015MitsubishiMirageSDL7327ML32A3HJ4FH048196\n\n\n	12493682011BMW3 Series8KIP635WBAPH5G59BNM83643\n\n\n	12491892013HyundaiELANTRA Coupe6XSS485KMHDH6AE5DU011058\n\n\n	124706102013BMWX39BTA5535UXWX9C5XD0A18983\n\n\n	124555111991LexusLS 4002VWA070JT8UF11E3M0066515\n\n\n	125347122003HondaAccord6UTF7373HGCM56303G703728\n\n\n	126061132004NissanXterra8TCK8955N1MD28Y14C602563T\n\n\n	122066142014KiaRio7EXH469KNADM4A3XE6357869\n\n\n	124709152001FordExpeditionA9103621FMRU17L61LB83935\n\n\n	124558161999ToyotaSienna4DKW0404T3ZF13C7XU093722\n\n\n	125541172001BMWX57WKE473WBAFA53521LH78568T\n\n\n	125032181999AcuraIntegra8MQJ624JH4DC4460XS012578SAL\n\n\n	124401192004HondaCivic5HBJ9001HGEM22154L037272\n\n\n	2133320JeepCJ7KEEZELJ0D93EH020357\n\n\n	125629212006BMW3 Series5UGC443WBAVB33596PS15379\n\n\n	124556222003HondaCivic5DGE2601HGEM21263L060651\n\n\n	124915232000FordRangerBLA0DPA1FTYR14V2YPB44303\n\n\n	119311242000ToyotaTundra38561Z15TBRT3418YS088347\n\n\n	115453252005FordFive Hundred8KIH1821FAFP23185G169905\n\n\n	124992262004ToyotaCorolla5GJM4031NXBR32E24Z297548T\n\n\n	115315271992FordF-2508S101681FTHF25HXNLB00480\n\n\n	124167282009BMW3 Series7WNM340WBAPM775X9NL88266\n\n\n	124513292014Smartfortwo8AUL322WMEEJ3BA8EK764041\n\n\n	125565302017LexusIS 200t9FKP704JTHBA1D20H5049493\n\n\n	125287311993NissanMaximaSMIDGE1JN1EJ01F3PT413192\n\n\n	120483322007VolvoXC706VZC760YV4SZ592871270921\n\n\n	127328331999ToyotaTacoma5Z097884TAVL52N2XZ441889T\n\n\n	119589342010MerczC-ClassNONEWDDGF5EBXAR109010\n\n\n	125542352003ToyotaCamry Solara6LZR5682T1CE22P73C025153\n\n\n	124625361995FordRanger27018X11FTCR10U6SPB13327\n\n\n	125476372013HyundaiSONATAKRK95175NPEB4AC7DH530779\n\n\n	124598382013HyundaiSANTA FE Sport6ZIV8695XYZT3LB9DG066253\n\n\n	121204392005FordEscape8XWF8131FMYU93195KD85842SAL\n\n\n	125723402002MercuryGrand Marquis4YRX1272MEFM75W32X650271\n\n\n	120682412012DodgeGrand Caravan6WNB1972C4RDGCG5CR365586\n\n\n	ATRAILERNONENO VIN\n\n\n	120904B10 ftTrailerNONENO VINJunk Slip\n\n\n	110101C10 ftTrailerNONENO VIN\n\n\n	121673422016HondaCR-V11/12/20247WDW8292HKRM3H45GH56202563282\n\n\n	125343432004ToyotaCelica8/2/20235JOT558JTDDR32T440179911296211\n\n\n	123229442000BMW3 SeriesOOSNAWBAAM5338YEJ40675235475\n\n\n	124069452017NissanAltima5/18/20248YIY4281N4AL3AP8HN359349109372SAL\n\n\n	116402461999ToyotaCamry3/8/20249ELK306JT2BF28K1X0180567389096\n\n\n	126390472011HondaPilot4/2/20246RXP264 5FNYF3H50BB043387143836T  \n\n\n	126317482006DodgeCharger5/10/20236TKZ1642B3KA43G96H421629229907T/SAL\n\n\n	125704492008HondaAccord2/10/20237XSJ0671HGCP26308A150347155869\n\n\n	124562501997HondaAccord2/8/20235FCU2801HGCD5639VA078201256831\n\n\n	122693512001FordF-1505/31/20226R226751FTRW08L91KB48139219214\n\n\n	123441522009CadillacEscalade11/28/20236UIX7161GYFK13219R249269197068\n\n\n	125744532010FordFusion5/24/20237TMS7373FAHP0HA0AR305209179602\n\n\n	122922542007NissanAltima8/24/20246BDY3961N4AL21E17N475158192563\n\n\n	124389552005InfinitiG356/28/20208HAB038JNKCV54E55M420207SAL\n\n\n	124993562004SubaruOutback6/28/20228TIM3464S3BH815747626135185470\n\n\n\n\n\n\n\n\n\n\nTERMS AND CONDITIONS\n\nBuyers fees: Dealers & Dismantlers $35.00\nGeneral Public $65.00\n$200.00 cash deposit required to bid\nAll vehicles must be paid for in full CASH ONLY at the conclusion of the auction\nAll vehicles must be removed by Friday following the auction\nLien sale vehicles sold to the general public are sold as is with all vaults and defects\, you are required to pay all DMV back registration and obtain a smog certificate before receiving your title from the DMV\, sales tax for your purchase will be paid directly to the DMV upon submission of the lien sale packet you will receive at the conclusion of the auction. Out of state buyers\, check with your local DMV to be sure that they will accept California lien sale documents for registration in your state.\nFor more info call direct 760-722-6686
URL:https://jbauctioneers.net/event/oceanside-auto-auction-20240521/
LOCATION:S&R Towing\, 1060 Airport Rd.\, Oceanside\, CA\, 92058\, United States
END:VEVENT
END:VCALENDAR