BEGIN:VCALENDAR
VERSION:2.0
PRODID:-//Joe Bradley Auctioneers - ECPv6.15.20//NONSGML v1.0//EN
CALSCALE:GREGORIAN
METHOD:PUBLISH
X-WR-CALNAME:Joe Bradley Auctioneers
X-ORIGINAL-URL:https://jbauctioneers.net
X-WR-CALDESC:Events for Joe Bradley Auctioneers
REFRESH-INTERVAL;VALUE=DURATION:PT1H
X-Robots-Tag:noindex
X-PUBLISHED-TTL:PT1H
BEGIN:VTIMEZONE
TZID:America/Los_Angeles
BEGIN:DAYLIGHT
TZOFFSETFROM:-0800
TZOFFSETTO:-0700
TZNAME:PDT
DTSTART:20230312T100000
END:DAYLIGHT
BEGIN:STANDARD
TZOFFSETFROM:-0700
TZOFFSETTO:-0800
TZNAME:PST
DTSTART:20231105T090000
END:STANDARD
BEGIN:DAYLIGHT
TZOFFSETFROM:-0800
TZOFFSETTO:-0700
TZNAME:PDT
DTSTART:20240310T100000
END:DAYLIGHT
BEGIN:STANDARD
TZOFFSETFROM:-0700
TZOFFSETTO:-0800
TZNAME:PST
DTSTART:20241103T090000
END:STANDARD
BEGIN:DAYLIGHT
TZOFFSETFROM:-0800
TZOFFSETTO:-0700
TZNAME:PDT
DTSTART:20250309T100000
END:DAYLIGHT
BEGIN:STANDARD
TZOFFSETFROM:-0700
TZOFFSETTO:-0800
TZNAME:PST
DTSTART:20251102T090000
END:STANDARD
END:VTIMEZONE
BEGIN:VEVENT
DTSTART;TZID=America/Los_Angeles:20240716T103000
DTEND;TZID=America/Los_Angeles:20240716T143000
DTSTAMP:20260422T153828
CREATED:20240621T170420Z
LAST-MODIFIED:20240713T140120Z
UID:22294-1721125800-1721140200@jbauctioneers.net
SUMMARY:OCEANSIDE - AUTO AUCTION
DESCRIPTION:Presented By:Auctions the 1st and 3rd Tuesdays of each monthPUBLIC AUTO AUCTIONUp to 80 Selected Vehicles\nTuesday July 16th @ 10:30am1060 Airport Rd. (in the Oceanside location towing yard)Oceanside 92058Phone. 760-722-6686For a map and directions\, click here\nHere are some photos of vehicles available at this week’s S&R Towing auction.Vehicles posted are subject to change without notice.Click on any of the images below to see the larger picture.\n\n*** RUNNERS ***\n\n\n\n\nno images were found \n\n\n***EXTRAS ***\n\n\n\n\nno images were found \n\n\n*** NON-RUNNERS ***\n\n\n\nno images were found \n\n\n\nTo download a copy of the list in Adobe pdf format\, Click here.\n\n\n\n\n\n\n\n	CALL#LOT#YEARMAKEMODELEXPERATION DATEPLATEVINTITLE/SALMILES\n\n\n\n\n	13093412012AudiA49HMY586WAUAFAFL3CA115391TITLE\n\n\n	12799722022SubaruOutback8WVK1484S4BTAMC9N3101971\n\n\n	12768431980DodgeRam Pickup47445U1D31KTAS1525930000\n\n\n	11913041996ChevroletSuburban8UIA7353GNFK16R8TG165883\n\n\n	12329552000HyundaiTiburon4TVF774KMHJG35F3YU205469SALVAGE\n\n\n	12112762004ToyotaCamry5JRU6004T1BE32K14U369521\n\n\n	12718672004SubaruForester9JEU956JF1SG63624H716399\n\n\n	12879782005MazdaRX-89KOL119JM1FE17N550144623\n\n\n	4639291972Chevroletc203K98195CCE242Z114707\n\n\n	130294102009AudiA47RKK615WAUSF78K69N024077TITLE\n\n\n	127206112004ToyotaCorolla5GDM9851NXBR32E04Z258876\n\n\n	127374122009KiaSpectra6HRZ246KNAFE222295667235TITLE\n\n\n	129050131991ChevroletC/K 1500 Series44244J12GCEK19H0M1200028\n\n\n	128322142003ChevroletSilverado 15007H755672GCEC19T631125626\n\n\n	128237152005ToyotaCorolla5NBX2291NXBR32E15Z496639\n\n\n	128631162003VolkswagenGTI5DVG5529BWKE61J534077468\n\n\n	127691172002VolkswagenEuroVanBUZAZULWV2MB47042H008858\n\n\n	129387182003BMW5 Series5NLV778WBADN63453GS56888\n\n\n	124947192015Ram1500KO701971C6RR7FT0FS710205\n\n\n	129530202004ChevroletCavalierB457TL1G1JC52F047324744\n\n\n	129164212005FordMustang9FQY8621ZVFT82H955161070\n\n\n	125875221990Nissan240SX7VRY933JN1HS36P9LW135484\n\n\n	71045232013BMW3 Series7BWW885WBA3B1C53DK129880\n\n\n	128343242016InfinitiQX60NONE5N1AL0MN1GC526501\n\n\n	126908252007ChevroletImpalaNONE2G1WU58R979104042\n\n\n	129035261997NissanQuest8HED6914N2DN1118VD852898\n\n\n	128877272013ToyotaCorollaBN24N375YFBU4EE6DP144656SALVAGE\n\n\n	126988282005ToyotaRAV47HOM273JTEHD20V456029628\n\n\n	129154292012ChryslerTown and Country6WSX2952C4RC1BGXCR400429\n\n\n	128910301997HondaCivic5EDH5142HGEJ6571VH556690\n\n\n	128685312004BMW5 Series7EKC223WBANB33574B108342SALVAGE\n\n\n	128909322008HyundaiEntourage8DTZ271KNDMC233286046027\n\n\n	130624332012ToyotaCamry8AMZ8094T4BF1FK2CR161289TITLE\n\n\n	128901342004FordExplorer5MHG0651FMZU73K14ZA99703TITLE\n\n\n	128788352011ChevroletMalibu6POG6561G1ZC5E16BF274860\n\n\n	128805362006NissanPathfinder5TMK7995N1AR18U66C603450\n\n\n	127828372003MazdaTruckNOPLATE4F4YR12D43TM15461SALVAGE\n\n\n	128318382007FordF-15041979Y11FTPW12567KB19987SALVAGE\n\n\n	130702392005ToyotaMatrix5LOF2872T1KR32E85C425732TITLE\n\n\n	129018402001VolkswagenJetta8LNZ2993VWSP29MX1M007510\n\n\n	127842A2003Harley-DavidsonVRSC V-Rod8/8/202419K16571HD1HAZ113K84993311049\n\n\n	123936B2007SuzukiGSX-R 6005/20/202118Y0596JS1GN7DA27211790758439\n\n\n	126801C2004KawasakiNinja ZX-10R17B1154JKAZXCC114A009096JUNK\n\n\n	126924D2001SuzukiGS-F 1200S Bandit16D8691JS1GV77A512103129\n\n\n	128105E2002KawasakiNinja ZX-6NONEJKAZX4E112B518938\n\n\n	111415F1998NASHTRAILER1LB69944N11N2022W0105765\n\n\n	128364412005ChryslerCrossfire7/22/20248JAW6121C3AN59L95X032366186985\n\n\n	129513422004HondaCR-V6/10/20245HZW045JHLRD78884C040901TITLE210970\n\n\n	128493432001ToyotaCorolla11/26/20244PGM9941NXBR12E91Z455089217712\n\n\n	125879442006NissanXterra4/28/20235UEZ2235N1AN08U86C513531162411\n\n\n	126540452000FordRangerOOS5MA0A0A1FTZR15V8YPB3721498301\n\n\n	128635462007BMW3 Series4/28/20246NXE023WBAVC53537FZ77378139984\n\n\n	128533472001ToyotaCamry Solara5/12/20244RHK8282T1CG22P01C512900214589\n\n\n	128716482007SaturnAura4/26/20238DDF3441G8ZS57NX7F170772163479\n\n\n	130200492007VolkswagenJetta6/10/20237NFM7983VWPG71K07M143277TITLE184774\n\n\n	127745502009FordExpedition EL2/12/20259FGU2051FMFK16559EB06663150917\n\n\n	128688512008Mercedes-BenzE-Class11/2/20218ETZ555WDBUF56X78B227010SALVAGE131903\n\n\n	128721521987ToyotaCelica05/220/20193DTE879JT2ST67L6H7136342SALVAGE187382\n\n\n	128366532003ChevroletSilverado 15001/21/20257M799331GCEK19T33Z198365205069\n\n\n	128673542002FordE-Series4/30/20218P513591FTRE14222HA26193223717\n\n\n	129006552001ChevroletSilverado 150012/31/20206L703471GCEC19T31E171555326810\n\n\n\n\n\n\n\n\n\n\nTERMS AND CONDITIONS\n\nBuyers fees: Dealers & Dismantlers $35.00\nGeneral Public $65.00\n$200.00 cash deposit required to bid\nAll vehicles must be paid for in full CASH ONLY at the conclusion of the auction\nAll vehicles must be removed by Friday following the auction\nLien sale vehicles sold to the general public are sold as is with all vaults and defects\, you are required to pay all DMV back registration and obtain a smog certificate before receiving your title from the DMV\, sales tax for your purchase will be paid directly to the DMV upon submission of the lien sale packet you will receive at the conclusion of the auction. Out of state buyers\, check with your local DMV to be sure that they will accept California lien sale documents for registration in your state.\nFor more info call direct 760-722-6686
URL:https://jbauctioneers.net/event/oceanside-auto-auction-20240716/
LOCATION:S&R Towing\, 1060 Airport Rd.\, Oceanside\, CA\, 92058\, United States
END:VEVENT
END:VCALENDAR