BEGIN:VCALENDAR
VERSION:2.0
PRODID:-//Joe Bradley Auctioneers - ECPv6.15.20//NONSGML v1.0//EN
CALSCALE:GREGORIAN
METHOD:PUBLISH
X-ORIGINAL-URL:https://jbauctioneers.net
X-WR-CALDESC:Events for Joe Bradley Auctioneers
REFRESH-INTERVAL;VALUE=DURATION:PT1H
X-Robots-Tag:noindex
X-PUBLISHED-TTL:PT1H
BEGIN:VTIMEZONE
TZID:America/Los_Angeles
BEGIN:DAYLIGHT
TZOFFSETFROM:-0800
TZOFFSETTO:-0700
TZNAME:PDT
DTSTART:20230312T100000
END:DAYLIGHT
BEGIN:STANDARD
TZOFFSETFROM:-0700
TZOFFSETTO:-0800
TZNAME:PST
DTSTART:20231105T090000
END:STANDARD
BEGIN:DAYLIGHT
TZOFFSETFROM:-0800
TZOFFSETTO:-0700
TZNAME:PDT
DTSTART:20240310T100000
END:DAYLIGHT
BEGIN:STANDARD
TZOFFSETFROM:-0700
TZOFFSETTO:-0800
TZNAME:PST
DTSTART:20241103T090000
END:STANDARD
BEGIN:DAYLIGHT
TZOFFSETFROM:-0800
TZOFFSETTO:-0700
TZNAME:PDT
DTSTART:20250309T100000
END:DAYLIGHT
BEGIN:STANDARD
TZOFFSETFROM:-0700
TZOFFSETTO:-0800
TZNAME:PST
DTSTART:20251102T090000
END:STANDARD
END:VTIMEZONE
BEGIN:VEVENT
DTSTART;TZID=America/Los_Angeles:20240717T123500
DTEND;TZID=America/Los_Angeles:20240717T123500
DTSTAMP:20260422T153857
CREATED:20240530T214035Z
LAST-MODIFIED:20240712T135348Z
UID:22009-1721219700-1721219700@jbauctioneers.net
SUMMARY:OTAY MESA - AUTO AUCTION
DESCRIPTION:Presented By: PUBLIC AUTO AUCTIONUp to 70 Lien Sale VehiclesWednesday July 17th  @ 12:35pm(Preview 12:00pm) Auctions held WednesdaysOtay Valley Rd & Heritage Rd\, Chula Vista(Look for signs to our facility from this location\, actual site is up the hill on 738 Heritage Rd.)Phone: 619-694-7809For a map and directions\, click here Here are some photos of vehicles available at this week’s Western Towing Auto Auction.Click on any of the images below to see the larger picture.\n\n\n\n\nno images were found \n\n\n\n\nTo download a copy of the list in Adobe pdf format\, Click here.\n\n\n\n\n\n\n	NOCONTROLYEAR/MAKE MODELREF#LS/T\n\n\n\n\n	124-159711 CHRYSLER200363845LS\n\n\n	224-112017 VOLKSWAGENJETTA324602LS\n\n\n	324-057696 MITSUBISHI3000GT353255LS\n\n\n	424-173302 HONDAACCORD365196LS\n\n\n	524-124507 AUDIA4360118LS\n\n\n	624-165805 NISSANMURANO364577LS\n\n\n	724-145509 FORDFOCUS362533LS\n\n\n	824-174813 HONDAACCORD365306LS\n\n\n	924-148206 CHYRSLER300362784LS\n\n\n	1024-162816 CHEVROLETEQUINOX364267LS\n\n\n	1124-145202 CHRYSLERSEBRING362350LS\n\n\n	1224-172800 CHRYSLERSEBRING365234LS\n\n\n	1324-174211 HYUNDAISONATA365623LS\n\n\n	1424-179696 CHRYSLERTOWN&COUNTRY365994LS\n\n\n	1524-152202 NISSANXTERRA363110LS\n\n\n	1624-145604 MERCEDESE500362534LS\n\n\n	1724-160594 INFINITIJ30363839LS\n\n\n	1824-171408 TOYOTACOROLLA365076LS\n\n\n	1924-170910 BMW535i365035LS\n\n\n	2024-152798 CADILLACSEVILLE363116LS\n\n\n	2124-080315 NISSANALTIMA355372LS\n\n\n	2224-033607 TOYOASEQUOIA350438LS\n\n\n	2324-157508 HONDAACCORD363643LS\n\n\n	2424-162301 MAZDA626364230LS\n\n\n	2523-360313 CHEVROLETCRUZE345295LS\n\n\n	2624-112415 LANDROVERDISCOVERY329151LS\n\n\n	2723-353586 FORDMUSTANG344304LS\n\n\n	2824-128210 HONDAFIT360543LS\n\n\n	29N/A06 GMCYUKON366692LS\n\n\n	3024-059407 CHEVROLETAVALANCHE353365LS\n\n\n	3124-039393 VOLKSWAGENEUROVAN350997LS\n\n\n	3224-178906 HYUNDAIAZERA365848LS\n\n\n	3324-183110 NISSANALTIMA366312LS\n\n\n	3424-170613 HONDAACCORD365034LS\n\n\n	3524-171308 HYUNDAISANTA FE365071LS\n\n\n	3624-169201 LINCOLNLS364749LS\n\n\n	3724-167006 VOLKSWAGENBEETLE364726LS\n\n\n	3824-150895 FORDF150363004LS\n\n\n	3924-181212 FORDFOCUS366445LS\n\n\n	4024-167601 LEXUSRX364752LS\n\n\n	4124-153906 GMCSIERRA328819LS\n\n\n	4224-158707 BMW328i363733LS\n\n\n	4324-173812 CHRYSLER200365547LS\n\n\n	4424-180503 INFINITIG35366156LS\n\n\n	4524-165208 KIASEDONA364456LS\n\n\n	4624-125101 LEXUSIS250360127LS\n\n\n	4724-173496 DODGERAM VAN365184LS\n\n\n	4824-114404 VOLVOXC70359046LS\n\n\n	4924-179305 CHEVROLETSILVERADO365847LS\n\n\n	5024-152303 CHEVROLETBLAZER363232LS\n\n\n	51N/A02 CADILLACESCALDEN/ATITLE\n\n\n	52N/A98 HONDAACCORDN/ATITLE\n\n\n\n\n\n\n\nTERMS AND CONDITIONS\n\nCash Only – All Sales are Final\n$200.00 refundable cash deposit to bid\nRefunds are available anytime during auction\nAll cars must be paid for and picked up by 4pm on Thursday ( no exceptions )\nAdditional deposits are required on vehicle’s over $1000.00\nLien sale vehicles sold to the general public are sold as is with all vaults and defects\, you are required to pay all DMV back registration and obtain a smog certificate before receiving your title from the DMV\, sales tax for your purchase will be paid directly to the DMV upon submission of the lien sale packet you will receive at the conclusion of the auction. Out of state buyers\, check with your local DMV to be sure that they will accept California lien sale documents for registration in your state.
URL:https://jbauctioneers.net/event/otay-mesa-auto-auction-20240717/
LOCATION:Western Towing\, 738 Heritage Rd.\, San Diego\, CA\, 92154\, United States
END:VEVENT
END:VCALENDAR