BEGIN:VCALENDAR
VERSION:2.0
PRODID:-//Joe Bradley Auctioneers - ECPv6.15.20//NONSGML v1.0//EN
CALSCALE:GREGORIAN
METHOD:PUBLISH
X-WR-CALNAME:Joe Bradley Auctioneers
X-ORIGINAL-URL:https://jbauctioneers.net
X-WR-CALDESC:Events for Joe Bradley Auctioneers
REFRESH-INTERVAL;VALUE=DURATION:PT1H
X-Robots-Tag:noindex
X-PUBLISHED-TTL:PT1H
BEGIN:VTIMEZONE
TZID:America/Los_Angeles
BEGIN:DAYLIGHT
TZOFFSETFROM:-0800
TZOFFSETTO:-0700
TZNAME:PDT
DTSTART:20230312T100000
END:DAYLIGHT
BEGIN:STANDARD
TZOFFSETFROM:-0700
TZOFFSETTO:-0800
TZNAME:PST
DTSTART:20231105T090000
END:STANDARD
BEGIN:DAYLIGHT
TZOFFSETFROM:-0800
TZOFFSETTO:-0700
TZNAME:PDT
DTSTART:20240310T100000
END:DAYLIGHT
BEGIN:STANDARD
TZOFFSETFROM:-0700
TZOFFSETTO:-0800
TZNAME:PST
DTSTART:20241103T090000
END:STANDARD
BEGIN:DAYLIGHT
TZOFFSETFROM:-0800
TZOFFSETTO:-0700
TZNAME:PDT
DTSTART:20250309T100000
END:DAYLIGHT
BEGIN:STANDARD
TZOFFSETFROM:-0700
TZOFFSETTO:-0800
TZNAME:PST
DTSTART:20251102T090000
END:STANDARD
END:VTIMEZONE
BEGIN:VEVENT
DTSTART;TZID=America/Los_Angeles:20240828T123500
DTEND;TZID=America/Los_Angeles:20240828T123500
DTSTAMP:20260422T141757
CREATED:20240801T234944Z
LAST-MODIFIED:20240822T212839Z
UID:22673-1724848500-1724848500@jbauctioneers.net
SUMMARY:OTAY MESA - AUTO AUCTION
DESCRIPTION:Presented By: PUBLIC AUTO AUCTIONUp to 70 Lien Sale VehiclesWednesday August 21st  @ 12:35pm(Preview 12:00pm) Auctions held WednesdaysOtay Valley Rd & Heritage Rd\, Chula Vista(Look for signs to our facility from this location\, actual site is up the hill on 738 Heritage Rd.)Phone: 619-694-7809For a map and directions\, click here Here are some photos of vehicles available at this week’s Western Towing Auto Auction.Click on any of the images below to see the larger picture.\n\n\n\n\nno images were found \n\n\n\n\nTo download a copy of the list in Adobe pdf format\, Click here.\n\n\n\n\n\n\n	NOCONTROLYEAR/MAKE MODELREF#LS/T\n\n\n\n\n	124-163011 CHEVROLETCRUZE364257LS\n\n\n	224-164610 MINI COOPER364473LS\n\n\n	324-214311 CHEVROLETCRUZE369781LS\n\n\n	423-212302 TOYOTACAMRY328528LS\n\n\n	524-233313 NISSANSENTRA372284LS\n\n\n	624-214897 HONDACIVIC370150LS\n\n\n	724-201709 TOYOTACOROLLA368457LS\n\n\n	824-196201 GMCYUKON367967LS\n\n\n	924-226910 FORDFUSION371518LS\n\n\n	1024-243208 TOYOTAPRIUS373218LS\n\n\n	1124-214700 HONDAODYSSEY370137LS\n\n\n	1224-233502 MITSUBISHILANCER371904LS\n\n\n	1324-241596 TOYOTAAVALON373118LS\n\n\n	1424-242697 BMW328i372884LS\n\n\n	1524-238708 LEXUSES372745LS\n\n\n	1624-242308 DODGEMAGNUM372879LS\n\n\n	1724-238305 FORDFOCUS372669LS\n\n\n	1824-202603 FORDEXPLORER368836LS\n\n\n	1924-219909 BMW328i370754LS\n\n\n	2024-222801 BMW325i370855LS\n\n\n	2124-241407 FORDFOCUS372907LS\n\n\n	2224-185404 NISSANXTERRA366690LS\n\n\n	2324-218296 MAZDA626370311LS\n\n\n	2424-229198 HONDAACCORD371566LS\n\n\n	2524-231903 FORDEXPLORER371797LS\n\n\n	2624-175311 HONDACIVIC365427LS\n\n\n	2722-168095 CHEVROLETCAMARO278491LS\n\n\n	2824-227706 SCIONTC371372LS\n\n\n	2924-234710 VOLKSWAGENJETTA371998LS\n\n\n	3024-229098 PONTIACGRD PRIX371593LS\n\n\n	3124-187202 FORDESCAPE367105LS\n\n\n	3224-233208 LANDROVERRANGEROVER372028LS\n\n\n	3324-239706 CHRYSLERPACIFICA372904LS\n\n\n	3424-203699 ACURAINTEGRA368855LS\n\n\n	3524-242010 FORDEDGE373151LS\n\n\n	3624-169610 FORDESCAPE364681LS\n\n\n	3724-174903 TOYOTACAMRY365331LS\n\n\n	3824-217914 VOLKSWAGENPASSAT370315LS\n\n\n	3924-243103 FORDCROWN VIC373251LS\n\n\n	4024-219012 CHEVROLETEQUINOX370193LS\n\n\n	4124-226590 TOYOTACOROLLA381401LS\n\n\n	4224-219282 DODGED50370467LS\n\n\n	4324-235109 SATURNAURA372002LS\n\n\n	4424-209906 INFINITIG35369355LS\n\n\n	4524-233903 ACURAMDX372244LS\n\n\n	4624-218412 ACURATSX370676LS\n\n\n	4724-240002 LEXUSGS373004LS\n\n\n	4824-242898 FORDCROWN VIC372934LS\n\n\n	4924-236687 NISSANPULSAR372233LS\n\n\n	5024-119403 GMCSONOMA359661LS\n\n\n\n\n\n\n\nTERMS AND CONDITIONS\n\nCash Only – All Sales are Final\n$200.00 refundable cash deposit to bid\nRefunds are available anytime during auction\nAll cars must be paid for and picked up by 4pm on Thursday ( no exceptions )\nAdditional deposits are required on vehicle’s over $1000.00\nLien sale vehicles sold to the general public are sold as is with all vaults and defects\, you are required to pay all DMV back registration and obtain a smog certificate before receiving your title from the DMV\, sales tax for your purchase will be paid directly to the DMV upon submission of the lien sale packet you will receive at the conclusion of the auction. Out of state buyers\, check with your local DMV to be sure that they will accept California lien sale documents for registration in your state.
URL:https://jbauctioneers.net/event/otay-mesa-auto-auction-20240828/
LOCATION:Western Towing\, 738 Heritage Rd.\, San Diego\, CA\, 92154\, United States
END:VEVENT
END:VCALENDAR