BEGIN:VCALENDAR
VERSION:2.0
PRODID:-//Joe Bradley Auctioneers - ECPv6.15.20//NONSGML v1.0//EN
CALSCALE:GREGORIAN
METHOD:PUBLISH
X-ORIGINAL-URL:https://jbauctioneers.net
X-WR-CALDESC:Events for Joe Bradley Auctioneers
REFRESH-INTERVAL;VALUE=DURATION:PT1H
X-Robots-Tag:noindex
X-PUBLISHED-TTL:PT1H
BEGIN:VTIMEZONE
TZID:America/Los_Angeles
BEGIN:DAYLIGHT
TZOFFSETFROM:-0800
TZOFFSETTO:-0700
TZNAME:PDT
DTSTART:20230312T100000
END:DAYLIGHT
BEGIN:STANDARD
TZOFFSETFROM:-0700
TZOFFSETTO:-0800
TZNAME:PST
DTSTART:20231105T090000
END:STANDARD
BEGIN:DAYLIGHT
TZOFFSETFROM:-0800
TZOFFSETTO:-0700
TZNAME:PDT
DTSTART:20240310T100000
END:DAYLIGHT
BEGIN:STANDARD
TZOFFSETFROM:-0700
TZOFFSETTO:-0800
TZNAME:PST
DTSTART:20241103T090000
END:STANDARD
BEGIN:DAYLIGHT
TZOFFSETFROM:-0800
TZOFFSETTO:-0700
TZNAME:PDT
DTSTART:20250309T100000
END:DAYLIGHT
BEGIN:STANDARD
TZOFFSETFROM:-0700
TZOFFSETTO:-0800
TZNAME:PST
DTSTART:20251102T090000
END:STANDARD
END:VTIMEZONE
BEGIN:VEVENT
DTSTART;TZID=America/Los_Angeles:20240911T123500
DTEND;TZID=America/Los_Angeles:20240911T123500
DTSTAMP:20260422T124752
CREATED:20240801T235026Z
LAST-MODIFIED:20240906T223629Z
UID:22674-1726058100-1726058100@jbauctioneers.net
SUMMARY:OTAY MESA - AUTO AUCTION
DESCRIPTION:Presented By: PUBLIC AUTO AUCTIONUp to 70 Lien Sale VehiclesWednesday September 11th  @ 12:35pm(Preview 12:00pm) Auctions held WednesdaysOtay Valley Rd & Heritage Rd\, Chula Vista(Look for signs to our facility from this location\, actual site is up the hill on 738 Heritage Rd.)Phone: 619-694-7809For a map and directions\, click here Here are some photos of vehicles available at this week’s Western Towing Auto Auction.Click on any of the images below to see the larger picture.\n\n\n\n\nno images were found \n\n\n\n\nTo download a copy of the list in Adobe pdf format\, Click here.\n\n\n\n\n\n\n	NOCONTROLYEAR/MAKE MODELREF#LS/T\n\n\n\n\n	124-255899 HONDACR-V374453LS\n\n\n	224-117816 HYUNDAISONATA359189LS\n\n\n	3N/A05 MAZDA3373615TITLE\n\n\n	424-255403 MAZDAPROTÉGÉ374433LS\n\n\n	524-090816 HYUNDAI SONATA356601LS\n\n\n	624-245706 HYUNDAIELANTRA343493LS\n\n\n	724-236300 TOYOTASIENNA372478LS\n\n\n	824-246909 NISSANALTIMA373624LS\n\n\n	924-246607 NISSANALTIMA373620LS\n\n\n	1024-243510 TOYOTAPRIUS373310LS\n\n\n	1124-071100 FORDEXCURSION354608LS\n\n\n	1224-255213 VOLKSWAGENJETTA374417LS\n\n\n	1324-231295 ISUZUTROPPER371804LS\n\n\n	1424-242210 HONDAACCORD372872LS\n\n\n	1524-232002 GMCENVOY371865LS\n\n\n	1624-257497 MERCEDES BENZE320374553LS\n\n\n	1724-253803 MERCEDES BENZC240374320LS\n\n\n	1824-214503 HONDAACCORD369848LS\n\n\n	1924-248899 CHEVROETTAHOE373915LS\n\n\n	2024-232507 FORDFOCUS371926LS\n\n\n	2124-241907 CHEVROLETMALIBU373111LS\n\n\n	2224-250300 HONDAACCORD373978LS\n\n\n	2324-100099 TOYOTA4 RUNNER357674LS\n\n\n	24N/A00 HONDACIVIC371081TITLE\n\n\n	2524-222514 NISSAROUGE370896LS\n\n\n	2624-234003 TOYOTACAMRY372107LS\n\n\n	2724-252002 VOLKSWAGENJETTA374078LS\n\n\n	2824-232900 CHEVROLETS10372287LS\n\n\n	2924-243408 MINICOOPER373134LS\n\n\n	3024-248012 TOYOTAYARIS373856LS\n\n\n	3124-235213 VOLKSWAGENPASSAT372015LS\n\n\n	3224-249101 HONDACIVIC373800LS\n\n\n	3324-234209 CADILLACCTS372036LS\n\n\n	3424-191608 BMW528367403LS\n\n\n	3524-249797 CHEVROLETS10373841LS\n\n\n	3624-238802 HONDACIVIC372743LS\n\n\n	3724-229311 NISSANMAXIMA371384LS\n\n\n	3824-224497 DODGERAM PICK UP370986LS\n\n\n	3924-238400 NISSANMAXIMA372748LS\n\n\n	4024-240503 HONDACR-V373195LS\n\n\n	4124-245606 SATURNVUE373510LS\n\n\n	4223-340818 KIA OPTIMA343382LS\n\n\n	4324-241200 HONDAACCORD373121LS\n\n\n	4424-229996 MERCURYGRND MARQUIS371760LS\n\n\n	4524-226003 HONDAODYSSEY371427LS\n\n\n	4624-252807 TOYOTACOROLLA374261LS\n\n\n	4724-242503 VOLKSWAGENGOLF372874LS\n\n\n	4824-245805 HONDAACCORD373501LS\n\n\n	4924-095717 HONDACIVIC357172LS\n\n\n	5024-245484 CHEVROLETVAN 373514LS\n\n\n\n\n\n\n\nTERMS AND CONDITIONS\n\nCash Only – All Sales are Final\n$200.00 refundable cash deposit to bid\nRefunds are available anytime during auction\nAll cars must be paid for and picked up by 4pm on Thursday ( no exceptions )\nAdditional deposits are required on vehicle’s over $1000.00\nLien sale vehicles sold to the general public are sold as is with all vaults and defects\, you are required to pay all DMV back registration and obtain a smog certificate before receiving your title from the DMV\, sales tax for your purchase will be paid directly to the DMV upon submission of the lien sale packet you will receive at the conclusion of the auction. Out of state buyers\, check with your local DMV to be sure that they will accept California lien sale documents for registration in your state.
URL:https://jbauctioneers.net/event/otay-mesa-auto-auction-20240911/
LOCATION:Western Towing\, 738 Heritage Rd.\, San Diego\, CA\, 92154\, United States
END:VEVENT
END:VCALENDAR