BEGIN:VCALENDAR
VERSION:2.0
PRODID:-//Joe Bradley Auctioneers - ECPv6.15.20//NONSGML v1.0//EN
CALSCALE:GREGORIAN
METHOD:PUBLISH
X-ORIGINAL-URL:https://jbauctioneers.net
X-WR-CALDESC:Events for Joe Bradley Auctioneers
REFRESH-INTERVAL;VALUE=DURATION:PT1H
X-Robots-Tag:noindex
X-PUBLISHED-TTL:PT1H
BEGIN:VTIMEZONE
TZID:America/Los_Angeles
BEGIN:DAYLIGHT
TZOFFSETFROM:-0800
TZOFFSETTO:-0700
TZNAME:PDT
DTSTART:20230312T100000
END:DAYLIGHT
BEGIN:STANDARD
TZOFFSETFROM:-0700
TZOFFSETTO:-0800
TZNAME:PST
DTSTART:20231105T090000
END:STANDARD
BEGIN:DAYLIGHT
TZOFFSETFROM:-0800
TZOFFSETTO:-0700
TZNAME:PDT
DTSTART:20240310T100000
END:DAYLIGHT
BEGIN:STANDARD
TZOFFSETFROM:-0700
TZOFFSETTO:-0800
TZNAME:PST
DTSTART:20241103T090000
END:STANDARD
BEGIN:DAYLIGHT
TZOFFSETFROM:-0800
TZOFFSETTO:-0700
TZNAME:PDT
DTSTART:20250309T100000
END:DAYLIGHT
BEGIN:STANDARD
TZOFFSETFROM:-0700
TZOFFSETTO:-0800
TZNAME:PST
DTSTART:20251102T090000
END:STANDARD
END:VTIMEZONE
BEGIN:VEVENT
DTSTART;TZID=America/Los_Angeles:20240924T103000
DTEND;TZID=America/Los_Angeles:20240924T143000
DTSTAMP:20260422T124753
CREATED:20240822T212625Z
LAST-MODIFIED:20240921T045506Z
UID:23057-1727173800-1727188200@jbauctioneers.net
SUMMARY:OCEANSIDE - AUTO AUCTION
DESCRIPTION:Presented By:Auctions the 1st and 3rd Tuesdays of each monthPUBLIC AUTO AUCTIONUp to 80 Selected Vehicles\nTuesday September 24th @ 10:30am1060 Airport Rd. (in the Oceanside location towing yard)Oceanside 92058Phone. 760-722-6686For a map and directions\, click here\nHere are some photos of vehicles available at this week’s S&R Towing auction.Vehicles posted are subject to change without notice.Click on any of the images below to see the larger picture.\n\n*** RUNNERS ***\n\n\n\n\nno images were found \n\n\n*** NON-RUNNERS ***\n\n\n\nno images were found \n\n\n\n\n\nTo download a copy of the list in Adobe pdf format\, Click here.\n\n\n\n\n\n\n\n	Call #Lot #YearMakeModelExp DatePlateVINOdomT/SAL\n\n\n\n\n	13393212003BMWX5ANK41275UXFA53553LV74297\n\n\n	13418121997HondaCivic7SDF4271HGEJ8140VL060192\n\n\n	13325932016JeepPatriot7SSR3911C4NJPBA8GD814966\n\n\n	13294241998ChevroletMalibu9HMY9751G1NE52M9WY164029\n\n\n	13364252006ChevroletCobaltTMW56131G1AP14P467785032\n\n\n	13315161997NissanPathfinder5EOD335JN8AR05Y4VW122037\n\n\n	13340472003AudiA4NONEWAUVC68E93A255774\n\n\n	13417782013NissanFrontier2999RW1N6AD0CU6DN746966\n\n\n	13369992006NissanTitan13553L31N6AA06A66N501131\n\n\n	133587102009NissanAltima6FBW2351N4AL21E19C108596\n\n\n	133913112012ChevroletMalibuNOPLATE1G1ZG5E76CF144930\n\n\n	134148121985ToyotaCorolla1NIE592JT2AE82LXF3259980\n\n\n	133925132009SubaruOutback9H6MX4S4BP60CX96327920T\n\n\n	134007141999LexusGS 4004FLC475JT8BH68X0X0018920\n\n\n	134963152012NissanAltimaBMG36291N4BL2AP3CC208549T\n\n\n	92141161997DodgeDakota048CNX1B7GG23Y4VS295123\n\n\n	132570172018ToyotaCamryBT04E404T1B11HK9JU632602\n\n\n	133221181992PontiacFirebirdRAX88431G2FS23E7NL200083\n\n\n	104266192013BMW3 Series8WHH986WBA3C1G56DNR48744\n\n\n	133397202008NissanSentra6FVU2243N1AB61E98L652970\n\n\n	133465212008NissanAltima6BJA8571N4AL24EX8C124502\n\n\n	133930221998FordMustang8GEU0591FAFP45X4WF263509\n\n\n	127406232004FordExplorerBZF45911FMZU62K44ZA79280\n\n\n	106400242007MerzS-Class7NJN319WDDNG71X67A088777\n\n\n	114587252006KiaOptimaCQ 11738KNAGE123365076706\n\n\n	132746262006FordFusionBWA65963FAFP07ZX6R175171\n\n\n	133764272008HyundaiTiburon8WIN128KMHHN66F48U267693\n\n\n	132849282005ChevroletExpress7P926641GCGG25V051248244\n\n\n	132858292001ToyotaAvalon4TRU7934T1BF28B91U175121\n\n\n	133786302003MerzC-Class5BHY071WDBRF64J53F310804\n\n\n	132364312012BMW5 Series8VLN616WBAXG5C5XCDX02335\n\n\n	133641322005HondaCivic5KZZ4622HGES16535H518004\n\n\n	133768332009MINICooper Clubman8ADM706WMWML33569TP98188\n\n\n	85151341997ChevroletBlazerCTG66691GNCT18W6VK105907\n\n\n	133466352000ChevroletCavalier6MHS9821G1JC5246Y7438946\n\n\n	133464362005HyundaiACCENT9AZL166KMHCG35C65U340679\n\n\n	133251372012ChevroletCruzeDJ5P8381G1PC5SH6C7211682\n\n\n	133766382002ToyotaRAV48RCV774JTEGH20V126009784\n\n\n	133924391993AcuraIntegra7ENL595JH4DA946XPS007732\n\n\n	133760402002HondaAccordDN3F1041HGCG32282A017491\n\n\n	110548412010HyundaiGenesis CoupeNONEKMHHT6KD1AU011592SAL/T\n\n\n	133761422007HondaCivic6ATF6722HGFA15547H308247\n\n\n	133014432012FordMustang8WZV3251ZVBP8AM8C5251650\n\n\n	133929442007FordMustangKMX24391ZVFT82HX75345565\n\n\n	132097452010NissanRogue9FLZ128JN8AS5MTXAW014989\n\n\n	129915462021HondaCivic8WIJ3062HGFC2F66MH548550\n\n\n	133934472013SubaruBRZ9CMT386JF1ZCAB19D2603832\n\n\n	133468482006LincolnLSJKG54631LNFM87A06Y615780\n\n\n	131929491998ChevroletAstro7XSE8311GNDM19W9WB20235\n\n\n	131344502013SuzukiVitara6YMJ092JS3TE0D65D4100088\n\n\n	105746511996ToyotaT10033546F3JT4TN12D9T0015766\n\n\n	135692522004HondaAccord8YUG5681HGCM55104A138848\n\n\n	132249532014HondaAccord7EBB0061HGCT2B88EA003671\n\n\n	131442542000NissanXterraNO Plate5N1ED28T2YC563500\n\n\n	132429552014ChevyMalibu8DFA4801G11A5SL1EF140156\n\n\n	133544562009HyundaiAccent6GYD353KMHCM36C79U130069\n\n\n	132656572006ToyotaPriusNO PlateJTDKB20U767082763\n\n\n	92032582016ChevroletEquinox7/8/20237XNV9722GNALBEK0G118528556276SAL\n\n\n	132282592014FordFocus12/12/20238JPY7951FADP3K20EL225379106175\n\n\n	132257602007ToyotaCamry5/2/20255ULE0534T1BK46K87U005559157461\n\n\n	132620612014NissanVersa NoteOOS299CGN3N1CE2CP0EL426643162591\n\n\n	134896621994FordRanger2/28/20254X373461FTCR14X2RPA60799T\n\n\n	129049632013AudiA48/8/20239EMK630WAUAFAFL8DN008752119303\n\n\n	132401641995BMW7 Series9/8/2023GWA7NSWBAGJ6322SDH34114\n\n\n	132487652011ToyotaYaris6/28/20236XHA013JTDBT4K36B1403489135798\n\n\n	132259662007ToyotaCamry SolaraOOSQYNG784T1FA38P27U123811170864T\n\n\n	130904672008NissanAltima12/10/20226AWB1861N4AL21E68N447163140508\n\n\n	132536681998FordRanger7/31/20247M288151FTYR14C3WPA85872184352\n\n\n	132258692014FordMustang12/8/20238UEW3681ZVBP8EM0E524293893918SAL\n\n\n	130578702003FordMustang12/16/20235BDX7511FAFP40443F305394113089\n\n\n	132281712001SubaruLegacy4/8/20237RBJ9064S3BE645416204155229508\n\n\n	133763722007HondaRidgeline1/31/202391030V12HJYK16517H551108217091T\n\n\n	133935732006Ford Mustang2/2/20236PSW5581ZVHT85H665218217137103\n\n\n	133926742006DodgeCharger11/2/20246TRA2582B3KA43R56H356067201282\n\n\n	132863752005ChevExpress12/31/2024FWDARCH1GCGG25V451153976205252\n\n\n	133767762006Ford Ranger12/31/202377020K31FTYR14U76PA0152882843\n\n\n\n\n\n\n\n\n\n\nTERMS AND CONDITIONS\n\nBuyers fees: Dealers & Dismantlers $35.00\nGeneral Public $65.00\n$200.00 cash deposit required to bid\nAll vehicles must be paid for in full CASH ONLY at the conclusion of the auction\nAll vehicles must be removed by Friday following the auction\nLien sale vehicles sold to the general public are sold as is with all vaults and defects\, you are required to pay all DMV back registration and obtain a smog certificate before receiving your title from the DMV\, sales tax for your purchase will be paid directly to the DMV upon submission of the lien sale packet you will receive at the conclusion of the auction. Out of state buyers\, check with your local DMV to be sure that they will accept California lien sale documents for registration in your state.\nFor more info call direct 760-722-6686
URL:https://jbauctioneers.net/event/oceanside-auto-auction-20240924/
LOCATION:S&R Towing\, 1060 Airport Rd.\, Oceanside\, CA\, 92058\, United States
END:VEVENT
END:VCALENDAR