BEGIN:VCALENDAR
VERSION:2.0
PRODID:-//Joe Bradley Auctioneers - ECPv6.15.20//NONSGML v1.0//EN
CALSCALE:GREGORIAN
METHOD:PUBLISH
X-WR-CALNAME:Joe Bradley Auctioneers
X-ORIGINAL-URL:https://jbauctioneers.net
X-WR-CALDESC:Events for Joe Bradley Auctioneers
REFRESH-INTERVAL;VALUE=DURATION:PT1H
X-Robots-Tag:noindex
X-PUBLISHED-TTL:PT1H
BEGIN:VTIMEZONE
TZID:America/Los_Angeles
BEGIN:DAYLIGHT
TZOFFSETFROM:-0800
TZOFFSETTO:-0700
TZNAME:PDT
DTSTART:20230312T100000
END:DAYLIGHT
BEGIN:STANDARD
TZOFFSETFROM:-0700
TZOFFSETTO:-0800
TZNAME:PST
DTSTART:20231105T090000
END:STANDARD
BEGIN:DAYLIGHT
TZOFFSETFROM:-0800
TZOFFSETTO:-0700
TZNAME:PDT
DTSTART:20240310T100000
END:DAYLIGHT
BEGIN:STANDARD
TZOFFSETFROM:-0700
TZOFFSETTO:-0800
TZNAME:PST
DTSTART:20241103T090000
END:STANDARD
BEGIN:DAYLIGHT
TZOFFSETFROM:-0800
TZOFFSETTO:-0700
TZNAME:PDT
DTSTART:20250309T100000
END:DAYLIGHT
BEGIN:STANDARD
TZOFFSETFROM:-0700
TZOFFSETTO:-0800
TZNAME:PST
DTSTART:20251102T090000
END:STANDARD
END:VTIMEZONE
BEGIN:VEVENT
DTSTART;TZID=America/Los_Angeles:20241008T103000
DTEND;TZID=America/Los_Angeles:20241008T143000
DTSTAMP:20260422T094812
CREATED:20240831T130924Z
LAST-MODIFIED:20241007T215952Z
UID:23066-1728383400-1728397800@jbauctioneers.net
SUMMARY:OCEANSIDE - AUTO AUCTION
DESCRIPTION:Presented By:Auctions the 1st and 3rd Tuesdays of each monthPUBLIC AUTO AUCTIONUp to 80 Selected Vehicles\nTuesday October 8th @ 10:30am1060 Airport Rd. (in the Oceanside location towing yard)Oceanside 92058Phone. 760-722-6686For a map and directions\, click here\nHere are some photos of vehicles available at this week’s S&R Towing auction.Vehicles posted are subject to change without notice.Click on any of the images below to see the larger picture.\n\n*** RUNNERS ***\n\n\n\n\nno images were found \n\n\n*** NON-RUNNERS ***\n\n\n\nno images were found \n\n\n\n\n\nTo download a copy of the list in Adobe pdf format\, Click here.\n\n\n\n\n\n\n\n	Call #Lot #YearMakeModelExp DatePlateVINOdomT/SAL\n\n\n\n\n	13431712003BMW3 SeriesB58PVPWBAEV53403KM24884T\n\n\n	13432521997AcuraIntegra7GLH499JH4DC4453VS004723SAL\n\n\n	13422832001LexusIS 300NPJTHBD182410004304\n\n\n	13462942002BMW5 Series6YLV304WBADT43472GY44767\n\n\n	13449751979Merz300SD691XAP1161201006263\n\n\n	13449562006ChevCobalt5TK67871G1AP11P767675225\n\n\n	13090372004VolksJettaCW898463VWSE69M74M106769\n\n\n	8321982012NissanFrontier14302H11N6AD0ER7CC448879\n\n\n	13530492004MerzE-Class6UKM085WDBUF70J84A537182SAL\n\n\n	134318102002JeepGrand CherokeeGVA0BAA1J4GW48S32C276050\n\n\n	134499112007ChevCobaltFZM34081G1AK18F277248662\n\n\n	136969PT122008MitsLancer5ZIC266JA3AU26U78U008436\n\n\n	137013PT132001BMW5 Series4PDL917WBADT43481GF55253\n\n\n	134329142003NissanSentra6FIC1693N1CB51D73L697537\n\n\n	134328152007FordEscape Hybrid5XMD4461FMCU49H47KA44739\n\n\n	135212162015NissanTitanLLL20111N6BA0ED6FN511688\n\n\n	134263172008HondaOdyssey6FNZ6175FNRL38498B056202\n\n\n	134752182000Chev S-108G582261GCCS1950Y8304504\n\n\n	134319192000OldsmobileAlero330 TKC1G3NL12E6YC434946\n\n\n	135443201993HondaAccord3EKA6471HGCB7275PA013732T\n\n\n	133254212002FordExplorer6UVU4701FMZU63E22UB59034T\n\n\n	134110221991NissanTruck4H314341N6SD11SXMC366181\n\n\n	133221231992PontiacFirebirdRAX88431G2FS23E7NL200083\n\n\n	133929242007FordMustangKMX24391ZVFT82HX75345565\n\n\n	135307252005FordFreestyleAFM67261FMDK05125GA03439\n\n\n	134920262012NissanFrontier92109Y31N6AD0EV7CC480907\n\n\n	135503271994MazdaMX-5 Miata3JBA891JM1NA3535R0514317SAL\n\n\n	134874282011BMW5 Series8ZIY311WBAFR9C55BC617971SAL\n\n\n	134501291995ChevC/K 1500 Series5D390341GCEC14ZXSZ214830\n\n\n	137006PT302001AcuraCL6GML35419UYA42521A008436\n\n\n	134380312006BMW3 Series55N296WBAVB33586PS11596SAL\n\n\n	134647322003AcuraTL5YBV27719UUA56873A079305\n\n\n	134398332015HondaCivic8DHH74419XFB2F72FE240994\n\n\n	133048342014MerzCLA7CWH686WDDSJ4EB4EN037690\n\n\n	132584352004ToyotaMatrix6YIZ4772T1KR32E14C292987\n\n\n	134116362012VolksJetta9JBM3913VWDP7AJ9CM327783\n\n\n	134326372008DodgeCharger2B3KA43RX8H326159\n\n\n	134396381994DodgeRam 15008M148361B7HC16YXRS702115\n\n\n	128624392002ChevTahoeHPZ2231GNEK13Z82J232902\n\n\n	134904402004NissanAltima9KJU0731N4AL11E34C114323SAL\n\n\n	136627412010NissanAltima6NGN2921N4AL2AP8AN520783T\n\n\n	134494422010HondaCR-V295W155J6RE4H7XAL058791\n\n\n	136109432015HyundaiELANTRA7HQL8945NPDH4AE5FH583995T\n\n\n	134980441994FordRanger48552N21FTCR14U6RPB87626\n\n\n	134607452007Chrysler3005XKB9802C3KA43R47H785740\n\n\n	134498462006NissanSentra7URH6173N1CB51D76L499884\n\n\n	134316472004NissanXterra5GUB0265N1ED28Y44C601895\n\n\n	130485482003ChryslerTown and CountryGML5792C8GP34L13R129342\n\n\n	134649492007KiaSorento2/12/20246RTP572KNDJD736875669924181930\n\n\n	134606502003ChevroletTrailBlazer8/8/20235WWC8591GNDT13S232212393150368\n\n\n	134759512000Mercedes-BenzC-Class2/26/20258ZLM842WDBHA24G9YA834436311561SAL\n\n\n	132592521999DodgeRam 2500OOSGSF94533B7HF13Z1XG195517156652\n\n\n	133712532000GMCSierra 15008/31/20246C253912GTEC19TXY1117570352047\n\n\n	115871542017MazdaMazda31/2/20239AOV7433MZBN1V7XHM11399781974\n\n\n	134324552012FordFusion7/14/20176WPW6393FAHP0JG9CR422188172200\n\n\n	134806561978PontiacFirebird Formula 4004/18/2021ALJ14062U87L8N112395119827\n\n\n	133936572007DodgeCaliberOOS2CSJ6641B3HE78K27D535998113823\n\n\n	133928582011ChevSilverado 1500OOSSJF05583GCUKSE2XBG195976187657T\n\n\n	134798592011BMW5 Series7/2/20217SMY276WBAFR7C52BC600291175005\n\n\n	137239601991HondaCivic4/22/20249GRP7012HGED6455MH585566190786SAL\n\n\n	136498612003ToyotaCorolla6/20/20246VZC5761NXBR32E63Z179243299999T/SAL\n\n\n	136553622006FordFusion1/2/2024NOPLATE3FAHP08126R128170312016T\n\n\n	131319632001GMCYukon XL9/8/20245WTW1671GKEC16TX1J215857NASAL\n\n\n	134570642012HondaCivic12/20/20249JTL4362HGFG3B85CH514275143357\n\n\n	134843652004VolvoV7011/26/20246JOB628YV1SW61T042357640226548\n\n\n	134018661997ToyotaT1009/30/20247Y31409JT4JM11DXV0019145215158\n\n\n	134576672002MitsEclipse10/22/20254URH4744A3AE45G32E015856132398\n\n\n	134773682001ToyotaCorolla6/18/20248NYH1322T1BR12E41C403547118876\n\n\n\n\n\n\n\n\n\n\nTERMS AND CONDITIONS\n\nBuyers fees: Dealers & Dismantlers $35.00\nGeneral Public $65.00\n$200.00 cash deposit required to bid\nAll vehicles must be paid for in full CASH ONLY at the conclusion of the auction\nAll vehicles must be removed by Friday following the auction\nLien sale vehicles sold to the general public are sold as is with all vaults and defects\, you are required to pay all DMV back registration and obtain a smog certificate before receiving your title from the DMV\, sales tax for your purchase will be paid directly to the DMV upon submission of the lien sale packet you will receive at the conclusion of the auction. Out of state buyers\, check with your local DMV to be sure that they will accept California lien sale documents for registration in your state.\nFor more info call direct 760-722-6686
URL:https://jbauctioneers.net/event/oceanside-auto-auction-20241008/
LOCATION:S&R Towing\, 1060 Airport Rd.\, Oceanside\, CA\, 92058\, United States
END:VEVENT
END:VCALENDAR