BEGIN:VCALENDAR
VERSION:2.0
PRODID:-//Joe Bradley Auctioneers - ECPv6.15.20//NONSGML v1.0//EN
CALSCALE:GREGORIAN
METHOD:PUBLISH
X-WR-CALNAME:Joe Bradley Auctioneers
X-ORIGINAL-URL:https://jbauctioneers.net
X-WR-CALDESC:Events for Joe Bradley Auctioneers
REFRESH-INTERVAL;VALUE=DURATION:PT1H
X-Robots-Tag:noindex
X-PUBLISHED-TTL:PT1H
BEGIN:VTIMEZONE
TZID:America/Los_Angeles
BEGIN:DAYLIGHT
TZOFFSETFROM:-0800
TZOFFSETTO:-0700
TZNAME:PDT
DTSTART:20230312T100000
END:DAYLIGHT
BEGIN:STANDARD
TZOFFSETFROM:-0700
TZOFFSETTO:-0800
TZNAME:PST
DTSTART:20231105T090000
END:STANDARD
BEGIN:DAYLIGHT
TZOFFSETFROM:-0800
TZOFFSETTO:-0700
TZNAME:PDT
DTSTART:20240310T100000
END:DAYLIGHT
BEGIN:STANDARD
TZOFFSETFROM:-0700
TZOFFSETTO:-0800
TZNAME:PST
DTSTART:20241103T090000
END:STANDARD
BEGIN:DAYLIGHT
TZOFFSETFROM:-0800
TZOFFSETTO:-0700
TZNAME:PDT
DTSTART:20250309T100000
END:DAYLIGHT
BEGIN:STANDARD
TZOFFSETFROM:-0700
TZOFFSETTO:-0800
TZNAME:PST
DTSTART:20251102T090000
END:STANDARD
END:VTIMEZONE
BEGIN:VEVENT
DTSTART;TZID=America/Los_Angeles:20241023T123500
DTEND;TZID=America/Los_Angeles:20241023T123500
DTSTAMP:20260422T094838
CREATED:20240927T231509Z
LAST-MODIFIED:20241018T213210Z
UID:23458-1729686900-1729686900@jbauctioneers.net
SUMMARY:OTAY MESA - AUTO AUCTION
DESCRIPTION:Presented By: PUBLIC AUTO AUCTIONUp to 70 Lien Sale VehiclesWednesday October 23rd  @ 12:35pm(Preview 12:00pm) Auctions held WednesdaysOtay Valley Rd & Heritage Rd\, Chula Vista(Look for signs to our facility from this location\, actual site is up the hill on 738 Heritage Rd.)Phone: 619-694-7809For a map and directions\, click here Here are some photos of vehicles available at this week’s Western Towing Auto Auction.Click on any of the images below to see the larger picture.\n\n\n\n\nno images were found \n\n\n\n\nTo download a copy of the list in Adobe pdf format\, Click here.\n\n\n\n\n\n\n	NOCONTROLYEAR/MAKE MODELREF#LS/T\n\n\n\n\n	124-292314 NISSANVERSA378088LS\n\n\n	224-280597 CHRYSLERSEBRING376818LS\n\n\n	324-308898 TOYOTACAMRY379339LS\n\n\n	424-290108 CHYRSLERSEBRING377740LS\n\n\n	524-299498 NISSANQUEST378501LS\n\n\n	624-291403 FORDTAURUS377815LS\n\n\n	724-017107 ACURARDX348240LS\n\n\n	823-108713 MAZDA3316052LS\n\n\n	924-275405 BMW325i376495LS\n\n\n	1024-280701 NISSANXTERRA376914LS\n\n\n	1124-265307 MERCEDESC-CLASS375422LS\n\n\n	1224-292000 HONDAACCORD377942LS\n\n\n	1324-308304 AUDIA4379228LS\n\n\n	1424-302106 DODGEGRD CARAVAN378661LS\n\n\n	1524-280111 BMW328i377214LS\n\n\n	1624-309207 CHRYSLERPT CRUISER379427LS\n\n\n	1724-280804 MERCEDESS-CLASS376933LS\n\n\n	1824-292103 DODGEGRD CARAVAN377944LS\n\n\n	1924-314607 NISSAN ALTIMA379894LS\n\n\n	2024-224207 FORDF150371078LS\n\n\n	2124-148800 TOYOTACELICA GT362792LS\n\n\n	2224-240607 AUDIQ7373202LS\n\n\n	2323-002213 TOYOTAPRIUS302923LS\n\n\n	2424-282298 HONDACIVIC376909LS\n\n\n	2524-294902 BUICKREGAL378296LS\n\n\n	2624-229705 GMCYUKON371684LS\n\n\n	2724-303104 TOYOTACAMRY378648LS\n\n\n	2824-306808 HYUNDAIACCENT379188LS\n\n\n	2924-267006 BMW325i375680LS\n\n\n	3024-041907 NISSANTITAN351143LS\n\n\n	3122-111711 BMW335271760LS\n\n\n	3224-284114 BMW328i377182LS\n\n\n	3324-206508 FORDEXPLORER369179LS\n\n\n	3424-297212 BUICKLACROSSE378338LS\n\n\n	3524-276500 NISSANXTERRA376492LS\n\n\n	3624-309399 FORDZX-2 379341LS\n\n\n	3724-305702 CHRYSLER300379090LS\n\n\n	3824-277099 FORDF150376489LS\n\n\n	3924-302303 MERCEDESC320378757LS\n\n\n	4024-276792 LEXUSLS400376203LS\n\n\n	4124-313203 BMW325i379617LS\n\n\n	4224-305589 MAZDAMPV379011LS\n\n\n	4324-302701 TOYOTACOROLLA378903LS\n\n\n	4424-311806 MERCEDESC-CLASS379437LS\n\n\n	4524-229804 FORDF250371727LS\n\n\n	4624-252350 CHEVROLETDELUX368482LS\n\n\n	4724-253909 HONDACIVIC374381LS\n\n\n	4824-291891 CHEVROLETG-SERIES377855LS\n\n\n	4924-282411 TOYOTAPRIUS377002LS\n\n\n	5024-292503 FORDE350378236LS\n\n\n\n\n\n\n\nTERMS AND CONDITIONS\n\nCash Only – All Sales are Final\n$200.00 refundable cash deposit to bid\nRefunds are available anytime during auction\nAll cars must be paid for and picked up by 4pm on Thursday ( no exceptions )\nAdditional deposits are required on vehicle’s over $1000.00\nLien sale vehicles sold to the general public are sold as is with all vaults and defects\, you are required to pay all DMV back registration and obtain a smog certificate before receiving your title from the DMV\, sales tax for your purchase will be paid directly to the DMV upon submission of the lien sale packet you will receive at the conclusion of the auction. Out of state buyers\, check with your local DMV to be sure that they will accept California lien sale documents for registration in your state.
URL:https://jbauctioneers.net/event/otay-mesa-auto-auction-20241023/
LOCATION:Western Towing\, 738 Heritage Rd.\, San Diego\, CA\, 92154\, United States
END:VEVENT
END:VCALENDAR