BEGIN:VCALENDAR
VERSION:2.0
PRODID:-//Joe Bradley Auctioneers - ECPv6.15.20//NONSGML v1.0//EN
CALSCALE:GREGORIAN
METHOD:PUBLISH
X-ORIGINAL-URL:https://jbauctioneers.net
X-WR-CALDESC:Events for Joe Bradley Auctioneers
REFRESH-INTERVAL;VALUE=DURATION:PT1H
X-Robots-Tag:noindex
X-PUBLISHED-TTL:PT1H
BEGIN:VTIMEZONE
TZID:America/Los_Angeles
BEGIN:DAYLIGHT
TZOFFSETFROM:-0800
TZOFFSETTO:-0700
TZNAME:PDT
DTSTART:20230312T100000
END:DAYLIGHT
BEGIN:STANDARD
TZOFFSETFROM:-0700
TZOFFSETTO:-0800
TZNAME:PST
DTSTART:20231105T090000
END:STANDARD
BEGIN:DAYLIGHT
TZOFFSETFROM:-0800
TZOFFSETTO:-0700
TZNAME:PDT
DTSTART:20240310T100000
END:DAYLIGHT
BEGIN:STANDARD
TZOFFSETFROM:-0700
TZOFFSETTO:-0800
TZNAME:PST
DTSTART:20241103T090000
END:STANDARD
BEGIN:DAYLIGHT
TZOFFSETFROM:-0800
TZOFFSETTO:-0700
TZNAME:PDT
DTSTART:20250309T100000
END:DAYLIGHT
BEGIN:STANDARD
TZOFFSETFROM:-0700
TZOFFSETTO:-0800
TZNAME:PST
DTSTART:20251102T090000
END:STANDARD
END:VTIMEZONE
BEGIN:VEVENT
DTSTART;TZID=America/Los_Angeles:20241105T103000
DTEND;TZID=America/Los_Angeles:20241105T143000
DTSTAMP:20260422T082333
CREATED:20240927T231805Z
LAST-MODIFIED:20241102T151003Z
UID:23467-1730802600-1730817000@jbauctioneers.net
SUMMARY:OCEANSIDE - AUTO AUCTION
DESCRIPTION:Presented By:Auctions the 1st and 3rd Tuesdays of each monthPUBLIC AUTO AUCTIONUp to 80 Selected Vehicles\nTuesday November 5th @ 10:30am1060 Airport Rd. (in the Oceanside location towing yard)Oceanside 92058Phone. 760-722-6686For a map and directions\, click here\nHere are some photos of vehicles available at this week’s S&R Towing auction.Vehicles posted are subject to change without notice.Click on any of the images below to see the larger picture.\n\n*** RUNNERS ***\n\n\n\n\nno images were found \n\n\n*** NON-RUNNERS ***\n\n\n\nno images were found \n\n\n\nTo download a copy of the list in Adobe pdf format\, Click here.\n\n\n\n\n\n\n\n	Call #Auction #YearMakeModelExp DatePlateVINOdomT/ SAL\n\n\n\n\n	13567112006SaturnIonNOPLATE5GZCZ23D46S837701SAL\n\n\n	13677322010HyundaiGenesis CoupeNONEKMHHT6KD5AU004886SAL\n\n\n	13514332002Mazda6265ACY3281YVGF22C025265775\n\n\n	12833442011HondaPilot6RBB7605FNYF3H55BB011986\n\n\n	13492651998FordTaurus3WXU6281FAFP52U4WG108212\n\n\n	13498662001VolvoS604SXZ217YV1RS61R412046917\n\n\n	13626972003SaturnL-Series8PBW8081G8JU54F63Y570590\n\n\n	13522981997ToyotaCamry8ELA490JT2BF22K7V0016455T\n\n\n	13462792005BMWX58ZMT3665UXFB535X5LV18548\n\n\n	134988102003ChevroletImpala7BDZ1512G1WF52E739380469\n\n\n	135495112010ChevroletMalibuGMS07471G1ZC5E07AF322873\n\n\n	134992121998NissanMaxima4BJR645JN1CA21D7WM921899\n\n\n	133327132002ChevroletSilverado 1500CPRL092GCEK19T621228014\n\n\n	136652142005Mercedes-BenzCLK6KLT413WDBTK65J95F164247\n\n\n	134080152006Land RoverRange RoverARTA21SALMF13476A224351\n\n\n	136747162005VolvoS405KNB716YV1MS382052050549\n\n\n	133346172001FordF-150MPA4C6A2FTZF17241GA43715\n\n\n	136761182008PontiacGrand Prix2G2WP552481101589\n\n\n	136763191997FordEscort3SYN0391FALP13P9VW341821\n\n\n	137255202014HyundaiELANTRA9HHK850KMHDH4AE7EU203216SAL\n\n\n	134501211995ChevroletC/K 1500 Series5D390341GCEC14ZXSZ214830\n\n\n	135183222001MazdaTribute8GOS0054F2CU08141KM30392\n\n\n	134027232006VolvoXC905UJW760YV4CY592761252674\n\n\n	135432242006ChevroletTrailBlazer EXT7MED3721GNET16S466163033\n\n\n	135303252009DodgeJourneyAL 896273D4GG57V59T235781T\n\n\n	134987262003FordRanger7W823701FTYR10U93PA92707\n\n\n	135209272001BMWX54TLA639WBAFA53551LM87589\n\n\n	136584281999ChevroletExpressDPA46391GNFG15M9X1146660\n\n\n	134998291998ChevroletS-10FB5Z441GCCS19X2WK136205\n\n\n	139407PT302002Saab5-Sep5EEA258YS3ED59Z323028460\n\n\n	136790311989ToyotaCorollaV906004JT2AE95C5K3192376\n\n\n	129232322013ChevroletSpark7JHK681KL8CD6S95DC503827\n\n\n	133656332013FordC-MAX Energi7EQC7571FADP5CU7DL554087T\n\n\n	135430342000HondaCivic4NHV4701HGEJ6221YL119997\n\n\n	135410352006Mercedes-BenzC-Class7RPE486WDBRF54H76F831356\n\n\n	139466PT362005ToyotaPriusCG70C87JTDKB20U553025645\n\n\n	135489372006MitsubishiEclipse272EAH4A3AK24F96E040286\n\n\n	134985382014ChevroletSonicGGB42131G1JC5SH1E4101696\n\n\n	138227392015ToyotaCorolla7HLC6795YFBURHE2FP180632T\n\n\n	132505402001LexusRX 3004TYJ452JTJGF10U410112952T\n\n\n	135901412006HondaCivic7BFV7212HGFG21536H704081T\n\n\n	133513422006LexusIS 2506ZPU564JTHBK262265017240\n\n\n	133467432012DodgeDurangoJRVN651C4RDHAG3CC169700\n\n\n	135479442013HyundaiSONATARWW07165NPEB4AC6DH529932\n\n\n	136793452013HyundaiGenesis Coupe7ATZ898KMHHT6KD5DU105673\n\n\n	136356462005MINICooper9BOZ944WMWRF33475TF60819SAL\n\n\n	136621472007ToyotaCorolla5XQZ8841NXBR32E27Z824699T\n\n\n	135689482009ChevroletSilverado 15008Z081803GCEC13C49G176082\n\n\n	136804491994ChevroletAstroLVP28141GNEL19W7RB200277T\n\n\n	132762501997BMW3 Series5EWC151WBABK8326VET97803\n\n\n	139349512010HondaCivic8WZK22719XFA1F55AE086026T\n\n\n	135772522017HondaAccord10/22/20237WCA0131HGCR2F58HA038469137519\n\n\n	135555532021ToyotaCorolla3/12/20248VPE422JTDEPMAE6MJ17077155136\n\n\n	135412542013ChevroletMalibu3/22/20239CZD7781G11C5SA0DF30212499880\n\n\n	135538552006AcuraTSX2/8/20248YJX722JH4CL96976C008505231584\n\n\n	136263562004NissanFrontier8/31/20217R065951N6ED29X74C437453259390\n\n\n	136332571993Nissan300ZX1/12/20247NVJ273JN1RZ24H1PX537120285127\n\n\n	135297582005HondaCivic7/18/20235PRA0392HGES165X5H590513207458\n\n\n	132293592011BMW3 Series3/22/20236PGS754WBAPH5C51BA444395177267\n\n\n	136262601999HondaCivic1/26/20247YOP5771HGEJ8141XL023381343296\n\n\n	137718612005HyundaiTiburonOOSW16LYSKMHHN65F65U168113161641T\n\n\n	134207622015ChevroletImpala6/18/20167UME6701G1125S37FU148725150981\n\n\n	135478632002ToyotaCelica10/8/20218GNX543JTDDR32T620113163280007\n\n\n	135302642010BMW3 Series12/16/20236LCB899WBAPH5C59AA438939138873\n\n\n	134492652002ChevroletTahoe11/2/20187VQX8741GNEC13T52R124408223119\n\n\n	135684662009Mercedes-BenzE-Class4/26/20239CTZ005WDBUF72X69B370744109735\n\n\n	135775672012KiaRio4/2/20248ZXB933KNADM4A37C6087951209253\n\n\n	139640JB682007HyundaiTucson11/8/20255XCW531KM8JN12D97U476953T\n\n\n\n\n\n\n\n\n\n\nTERMS AND CONDITIONS\n\nBuyers fees: Dealers & Dismantlers $35.00\nGeneral Public $65.00\n$200.00 cash deposit required to bid\nAll vehicles must be paid for in full CASH ONLY at the conclusion of the auction\nAll vehicles must be removed by Friday following the auction\nLien sale vehicles sold to the general public are sold as is with all vaults and defects\, you are required to pay all DMV back registration and obtain a smog certificate before receiving your title from the DMV\, sales tax for your purchase will be paid directly to the DMV upon submission of the lien sale packet you will receive at the conclusion of the auction. Out of state buyers\, check with your local DMV to be sure that they will accept California lien sale documents for registration in your state.\nFor more info call direct 760-722-6686
URL:https://jbauctioneers.net/event/oceanside-auto-auction-20241105/
LOCATION:S&R Towing\, 1060 Airport Rd.\, Oceanside\, CA\, 92058\, United States
END:VEVENT
END:VCALENDAR