BEGIN:VCALENDAR
VERSION:2.0
PRODID:-//Joe Bradley Auctioneers - ECPv6.15.20//NONSGML v1.0//EN
CALSCALE:GREGORIAN
METHOD:PUBLISH
X-ORIGINAL-URL:https://jbauctioneers.net
X-WR-CALDESC:Events for Joe Bradley Auctioneers
REFRESH-INTERVAL;VALUE=DURATION:PT1H
X-Robots-Tag:noindex
X-PUBLISHED-TTL:PT1H
BEGIN:VTIMEZONE
TZID:America/Los_Angeles
BEGIN:DAYLIGHT
TZOFFSETFROM:-0800
TZOFFSETTO:-0700
TZNAME:PDT
DTSTART:20230312T100000
END:DAYLIGHT
BEGIN:STANDARD
TZOFFSETFROM:-0700
TZOFFSETTO:-0800
TZNAME:PST
DTSTART:20231105T090000
END:STANDARD
BEGIN:DAYLIGHT
TZOFFSETFROM:-0800
TZOFFSETTO:-0700
TZNAME:PDT
DTSTART:20240310T100000
END:DAYLIGHT
BEGIN:STANDARD
TZOFFSETFROM:-0700
TZOFFSETTO:-0800
TZNAME:PST
DTSTART:20241103T090000
END:STANDARD
BEGIN:DAYLIGHT
TZOFFSETFROM:-0800
TZOFFSETTO:-0700
TZNAME:PDT
DTSTART:20250309T100000
END:DAYLIGHT
BEGIN:STANDARD
TZOFFSETFROM:-0700
TZOFFSETTO:-0800
TZNAME:PST
DTSTART:20251102T090000
END:STANDARD
END:VTIMEZONE
BEGIN:VEVENT
DTSTART;TZID=America/Los_Angeles:20241113T123500
DTEND;TZID=America/Los_Angeles:20241113T123500
DTSTAMP:20260422T083407
CREATED:20241109T003620Z
LAST-MODIFIED:20241109T004331Z
UID:23971-1731501300-1731501300@jbauctioneers.net
SUMMARY:OTAY MESA - AUTO AUCTION
DESCRIPTION:Presented By: PUBLIC AUTO AUCTIONUp to 70 Lien Sale VehiclesWednesday November 13th  @ 12:35pm(Preview 12:00pm) Auctions held WednesdaysOtay Valley Rd & Heritage Rd\, Chula Vista(Look for signs to our facility from this location\, actual site is up the hill on 738 Heritage Rd.)Phone: 619-694-7809For a map and directions\, click here Here are some photos of vehicles available at this week’s Western Towing Auto Auction.Click on any of the images below to see the larger picture.\n\n\n\n\nno images were found \n\n\n\n\nTo download a copy of the list in Adobe pdf format\, Click here.\n\n\n\n\n\n\n	NOCONTROLYEAR/MAKE MODELREF#LS/T\n\n\n\n\n	124-315611 FORDFIESTA379999LS\n\n\n	224-334901 CHEVROLETCAVALIER381685LS\n\n\n	324-336812 KIASEDONA382046LS\n\n\n	424-265504 HONDACIVIC375447LS\n\n\n	522-115111 MITSUBISHILANCER271999LS\n\n\n	624-314705  TOYOTACAMRY379957LS\n\n\n	724-333793  FORDRANGER381617LS\n\n\n	824-313111 KIASORENTO379558LS\n\n\n	924-333110 TOYOTAPRIUS381587LS\n\n\n	1024-329604 SATURNVUE381121LS\n\n\n	1124-336608 MAZDA3381832LS\n\n\n	1224-318807 MERCEDESE-CLASS380477LS\n\n\n	1324-338308 HONDAODYSSEY381834LS\n\n\n	1424-331814 FORDFOCUS381374LS\n\n\n	1524-317205 BMW745i380100LS\n\n\n	1624-320208 VOLVOV50380454LS\n\n\n	1724-334401 MERCEDESC-CLASS381796LS\n\n\n	1824-200909 MERCEDESCLS550368472LS\n\n\n	1924-335105 FORDFREESTAR381621LS\n\n\n	2024-311015 CHRYSLER200379700LS\n\n\n	2124-310209 SUBARUIMPREZA379566LS\n\n\n	2224-320604 CHEVROLETTRAILBLAZER380323LS\n\n\n	2324-263914 AUDIA4375295LS\n\n\n	2424-336005 HONDAACCORD381792LS\n\n\n	2524-277100 FORDRANGER376478LS\n\n\n	2624-323501 DODGECARAVAN380378LS\n\n\n	2724-199410 FORDMUSTANG368353LS\n\n\n	2824-327001 FORDEXPLORER381227LS\n\n\n	2924-295110 CHEVROLETCAMARO377839LS\n\n\n	3024-266203 FORDMUSTANG375679LS\n\n\n	3124-310914 NISSANSENTRA379694LS\n\n\n	3224-336713 NISSANALTIMA381990LS\n\n\n	3324-336916 KIASOUL382066LS\n\n\n	3424-297212 BUICKLACROSSE378338LS\n\n\n	3524-276911 LINCOLNTOWNCAR376487LS\n\n\n	3624-338807 HONDACR-V382298LS\n\n\n	3724-324507 SCIONTC380872LS\n\n\n	3824-319709 LEXUSLS380259LS\n\n\n	3924-234103 FORDEXPLORER372206LS\n\n\n	4024-326998 PONTIACGRAND AM381154LS\n\n\n	4124-240911 VOLKSWAGENPASSAT373217LS\n\n\n	4224-301808 LEXUSGS378643LS\n\n\n	4324-333504 MINICOOPER381603LS\n\n\n	4424-329007 HONDAPILOT380788LS\n\n\n	4524-330002 MITSUBISHILANCER381006LS\n\n\n	4624-312384 CADILLACFLEETWOOD379477LS\n\n\n	4724-327907 FORDFREESTAR380844LS\n\n\n	4824-276090 GEOPRIZM376199LS\n\n\n	4924-293588 FORDBRONCO377830LS\n\n\n	5024-325102 GMCENVOY380963LS\n\n\n\n\n\n\n\nTERMS AND CONDITIONS\n\nCash Only – All Sales are Final\n$200.00 refundable cash deposit to bid\nRefunds are available anytime during auction\nAll cars must be paid for and picked up by 4pm on Thursday ( no exceptions )\nAdditional deposits are required on vehicle’s over $1000.00\nLien sale vehicles sold to the general public are sold as is with all vaults and defects\, you are required to pay all DMV back registration and obtain a smog certificate before receiving your title from the DMV\, sales tax for your purchase will be paid directly to the DMV upon submission of the lien sale packet you will receive at the conclusion of the auction. Out of state buyers\, check with your local DMV to be sure that they will accept California lien sale documents for registration in your state.
URL:https://jbauctioneers.net/event/otay-mesa-auto-auction-20241113/
LOCATION:Western Towing\, 738 Heritage Rd.\, San Diego\, CA\, 92154\, United States
END:VEVENT
END:VCALENDAR