BEGIN:VCALENDAR
VERSION:2.0
PRODID:-//Joe Bradley Auctioneers - ECPv6.15.20//NONSGML v1.0//EN
CALSCALE:GREGORIAN
METHOD:PUBLISH
X-WR-CALNAME:Joe Bradley Auctioneers
X-ORIGINAL-URL:https://jbauctioneers.net
X-WR-CALDESC:Events for Joe Bradley Auctioneers
REFRESH-INTERVAL;VALUE=DURATION:PT1H
X-Robots-Tag:noindex
X-PUBLISHED-TTL:PT1H
BEGIN:VTIMEZONE
TZID:America/Los_Angeles
BEGIN:DAYLIGHT
TZOFFSETFROM:-0800
TZOFFSETTO:-0700
TZNAME:PDT
DTSTART:20230312T100000
END:DAYLIGHT
BEGIN:STANDARD
TZOFFSETFROM:-0700
TZOFFSETTO:-0800
TZNAME:PST
DTSTART:20231105T090000
END:STANDARD
BEGIN:DAYLIGHT
TZOFFSETFROM:-0800
TZOFFSETTO:-0700
TZNAME:PDT
DTSTART:20240310T100000
END:DAYLIGHT
BEGIN:STANDARD
TZOFFSETFROM:-0700
TZOFFSETTO:-0800
TZNAME:PST
DTSTART:20241103T090000
END:STANDARD
BEGIN:DAYLIGHT
TZOFFSETFROM:-0800
TZOFFSETTO:-0700
TZNAME:PDT
DTSTART:20250309T100000
END:DAYLIGHT
BEGIN:STANDARD
TZOFFSETFROM:-0700
TZOFFSETTO:-0800
TZNAME:PST
DTSTART:20251102T090000
END:STANDARD
END:VTIMEZONE
BEGIN:VEVENT
DTSTART;TZID=America/Los_Angeles:20241119T103000
DTEND;TZID=America/Los_Angeles:20241119T143000
DTSTAMP:20260422T094837
CREATED:20241109T003355Z
LAST-MODIFIED:20241116T051624Z
UID:23975-1732012200-1732026600@jbauctioneers.net
SUMMARY:OCEANSIDE - AUTO AUCTION
DESCRIPTION:Presented By:Auctions the 1st and 3rd Tuesdays of each monthPUBLIC AUTO AUCTIONUp to 80 Selected Vehicles\nTuesday November 19th @ 10:30am1060 Airport Rd. (in the Oceanside location towing yard)Oceanside 92058Phone. 760-722-6686For a map and directions\, click here\nHere are some photos of vehicles available at this week’s S&R Towing auction.Vehicles posted are subject to change without notice.Click on any of the images below to see the larger picture.\n\n*** RUNNERS ***\n\n\n\n\nno images were found \n\n\n*** NON-RUNNERS ***\n\n\n\nno images were found \n\n\n\nTo download a copy of the list in Adobe pdf format\, Click here.\n\n\n\n\n\n\n\n	Call #Lot #YearMakeModelExp DatePlateVINOdometerT/SAL\n\n\n\n\n	13384712000NissanAltima5R0X8811N4DL01DXYC151647\n\n\n	13724922016HondaAccord7RIL4361HGCR2F53GA100908\n\n\n	13742432007MitsEclipse7YBC1414A3AK24F37E013828\n\n\n	13632641997DodgeDakota60834H21B7GL23X1VS267041\n\n\n	13853452006ToyotaHighlander8YUX204JTEGP21AX60092171T\n\n\n	13934561999InfinitiQX48TNR150JNRAR05Y5XW043507T\n\n\n	13517871992NissanMaxima3CCA800JN1HJ01F5NT009224\n\n\n	13372882007ChevroletSilverado 1500 Classic7Z203842GCEK13Z371170240\n\n\n	13097692007ToyotaTundraXPA5SV5TFRV54197X011346\n\n\n	137137102003FordExpedition7KAX6321FMPU16L03LB71212\n\n\n	132744111996ChevroletAstro5J867521GCDM19W4TB178716\n\n\n	134723121993ChevroletSuburban7MLR0571GNGK26N4PJ396534SAL\n\n\n	135425132007FordMustang9ABS1001ZVHT84N775342733SAL\n\n\n	137268142009BMW3 SeriesOOPH36WBAPH53569A437730\n\n\n	137061152008MerzS-Class9KBJ097WDDNG71X48A167110\n\n\n	137254162007VolvoXC905BZW487YV4CZ982871359093\n\n\n	137564172008SciontCVDT1164JTKDE167080225679\n\n\n	139953182017FordFiesta8AYE4713FADP4EJ3HM145750Dup App\n\n\n	135639192004ToyotaCorolla7WUB6521NXBR32E14Z262578\n\n\n	134218202008DodgeCaliber7GYL0331B3HB48B18D626107\n\n\n	138173211994ChevroletC/K 2500 Series5A532201GCFC24K1RZ282215\n\n\n	136172222016ChevroletEquinox9BFC6992GNALCEK9G1183041\n\n\n	131668231993JeepGrand CherokeeDPJ84891J4GZ58S2PC128640\n\n\n	140136242001MerzE-Class6REE390WDBJF65J81B202760T\n\n\n	136767252006InfinitiM35TAC0608JNKAY01E36M117594\n\n\n	137175262012SuzukiSX49AZK733JS2YC5A38C6302630\n\n\n	135477272005Nissan350Z8ZNF546JN1AZ34D15M607052\n\n\n	136720282010MazdaMazda38UKX976JM1BL1H62A1294057\n\n\n	137240292003HondaCivic4ZYH1981HGEM22513L004755\n\n\n	139126302005MazdaMPV32A1YPJM3LW28JX50534254T\n\n\n	136584311999ChevExpressDPA46391GNFG15M9X1146660\n\n\n	139219322002SaturnL-Series4ZIL9311G8JS54F62Y517232T\n\n\n	138014332016NissanAltima9ERZ9981N4AL3AP1GC198756\n\n\n	136702341991HondaAccord035PHRJHMCB765XMC002683\n\n\n	137294352011NissanSentraLEE82783N1AB6AP4BL612045\n\n\n	136321362012ChevroletCruzeNONE1G1PF5SC5C7275627\n\n\n	137189372007Chrysler3005YZU1452C3KA43R77H636545\n\n\n	136524382004LexusES 3305KXW551JTHBA30G240003488SAL\n\n\n	137337392011BMW3 Series9MNL818WBAKE5C51BE755403\n\n\n	140444PT402001FordF-350 Super Duty3FTSW31S11MA42426\n\n\n	137577411999JeepGrand Cherokee4HLZ8471J4G258S8XC798553\n\n\n	137198422006MazdaMazda38NON302JM1BK12G761433384\n\n\n	136988431990ToyotaCamry2TRS508JT2SV21E4L3424812SAL\n\n\n	135901442006HondaCivic7BFV7212HGFG21536H704081T\n\n\n	131438452012SubaruLegacy7MJD6674S3BMDK63C2004543\n\n\n	135929462008BMW3 Series8YPT915WBAVC53528F010469SAL\n\n\n	136762472012BMW3 SeriesFLF8310WBAKE3C55CE770265\n\n\n	135508482000ToyotaRAV4NO PLATEJT3GP10V6Y7076986\n\n\n	137303492005HondaCivic7RIW8112HGES16565H605458\n\n\n	136830502001DodgeRam Van95728R12B5WB35T61K542737\n\n\n	133933511995BuickRegalZ85JZB2G4WB12M4S1402553\n\n\n	133834521995JeepCherokeeN/A1J4FJ28SXSL616356\n\n\n	138104532010ChevroletCobalt8BKR3221G1AD5F59A7174594SAL\n\n\n	136760541977ChevyTruck8C70015CCL447Z121589\n\n\n	139071552010ToyotaCorolla6JXP0501NXBU4EE0AZ284227T\n\n\n	134978562014KiaForte7EFR059KNAFK4A69E5237124\n\n\n	136151572000ToyotaCamry Solara8HNZ5152T1CF28P6YC335192\n\n\n	137726581997FordMustang5YKB4481FALP45X7VF151398\n\n\n	137883591995BMW3 Series3PBP827WBACB4320SFM23153\n\n\n	137157602000DodgeGrand Caravan7WJZ0251B4GP44R2YB500667\n\n\n	133658611996HondaCivic3NUK9801HGEJ6501TL001628\n\n\n	138198621993HondaCivic3FET9041HGEG8643PL044420\n\n\n	134095632000BMW5 Series8DWZ676WBADM6346YGU06467\n\n\n	136323642015HyundaiGenesis Coupe4/2/2020CF83M10KMHHU6KJ9FU127326140640\n\n\n	136723652012ChevroletEquinox7/2/2024NO PLATE2GNFLFE56C6388508157141\n\n\n	133783661998ToyotaCamry1/2/20233XUW618JT2BF22K2W0101804208021\n\n\n	135306672004HondaCivic7/26/20245JUU5532HGES165X4H606921135500\n\n\n	136412682002ToyotaSienna12/24/20244VMC9444T3ZF19C52U422594224467\n\n\n	137962692008InfinitiG372/14/20246TVF907JNKCV64E28M114625205007\n\n\n	136765701994JeepGrand CherokeeOOS2CR171P1J4GZ78Y5RC333081197416\n\n\n	137298712006SubaruOutback4/12/20228PZV9344S4BL86C964203384119216\n\n\n	136019721997DodgeRam 15008/31/20235P805443B7HC13Z5VM591456185134T\n\n\n	129077731999FordF-1505/31/20236B003221FTRX17L8XKB26887N/ASAL\n\n\n	135742742000HondaAccord5/14/20248JWC9741HGCG6658YA107173159965\n\n\n	134320751993FordRangerOOS3504091B1FTCR14X8PPB48463301521\n\n\n	137273762004ToyotaTundra12/31/202446282M35TBRT38154S444533380054\n\n\n	135147772007FordEdge1/22/20256RSU1142FMDK38C37BB71437281286\n\n\n	137489782003FordExplorer5/8/20255CDN0091FMZU63KX3ZB1265297722\n\n\n	136886792000ToyotaSienna8/8/20254MVA2154T3ZF13CXYU316451201804\n\n\n	139640JB802007HyundaiTucson11/8/20255XCW531KM8JN12D97U476953134694T\n\n\n\n\n\n\n\n\n\n\nTERMS AND CONDITIONS\n\nBuyers fees: Dealers & Dismantlers $35.00\nGeneral Public $65.00\n$200.00 cash deposit required to bid\nAll vehicles must be paid for in full CASH ONLY at the conclusion of the auction\nAll vehicles must be removed by Friday following the auction\nLien sale vehicles sold to the general public are sold as is with all vaults and defects\, you are required to pay all DMV back registration and obtain a smog certificate before receiving your title from the DMV\, sales tax for your purchase will be paid directly to the DMV upon submission of the lien sale packet you will receive at the conclusion of the auction. Out of state buyers\, check with your local DMV to be sure that they will accept California lien sale documents for registration in your state.\nFor more info call direct 760-722-6686
URL:https://jbauctioneers.net/event/oceanside-auto-auction-20241119/
LOCATION:S&R Towing\, 1060 Airport Rd.\, Oceanside\, CA\, 92058\, United States
END:VEVENT
END:VCALENDAR