BEGIN:VCALENDAR
VERSION:2.0
PRODID:-//Joe Bradley Auctioneers - ECPv6.15.20//NONSGML v1.0//EN
CALSCALE:GREGORIAN
METHOD:PUBLISH
X-WR-CALNAME:Joe Bradley Auctioneers
X-ORIGINAL-URL:https://jbauctioneers.net
X-WR-CALDESC:Events for Joe Bradley Auctioneers
REFRESH-INTERVAL;VALUE=DURATION:PT1H
X-Robots-Tag:noindex
X-PUBLISHED-TTL:PT1H
BEGIN:VTIMEZONE
TZID:America/Los_Angeles
BEGIN:DAYLIGHT
TZOFFSETFROM:-0800
TZOFFSETTO:-0700
TZNAME:PDT
DTSTART:20230312T100000
END:DAYLIGHT
BEGIN:STANDARD
TZOFFSETFROM:-0700
TZOFFSETTO:-0800
TZNAME:PST
DTSTART:20231105T090000
END:STANDARD
BEGIN:DAYLIGHT
TZOFFSETFROM:-0800
TZOFFSETTO:-0700
TZNAME:PDT
DTSTART:20240310T100000
END:DAYLIGHT
BEGIN:STANDARD
TZOFFSETFROM:-0700
TZOFFSETTO:-0800
TZNAME:PST
DTSTART:20241103T090000
END:STANDARD
BEGIN:DAYLIGHT
TZOFFSETFROM:-0800
TZOFFSETTO:-0700
TZNAME:PDT
DTSTART:20250309T100000
END:DAYLIGHT
BEGIN:STANDARD
TZOFFSETFROM:-0700
TZOFFSETTO:-0800
TZNAME:PST
DTSTART:20251102T090000
END:STANDARD
END:VTIMEZONE
BEGIN:VEVENT
DTSTART;TZID=America/Los_Angeles:20241120T123500
DTEND;TZID=America/Los_Angeles:20241120T123500
DTSTAMP:20260422T082154
CREATED:20241109T004450Z
LAST-MODIFIED:20241115T224019Z
UID:23972-1732106100-1732106100@jbauctioneers.net
SUMMARY:OTAY MESA - AUTO AUCTION
DESCRIPTION:Presented By: PUBLIC AUTO AUCTIONUp to 70 Lien Sale VehiclesWednesday November 20th  @ 12:35pm(Preview 12:00pm) Auctions held WednesdaysOtay Valley Rd & Heritage Rd\, Chula Vista(Look for signs to our facility from this location\, actual site is up the hill on 738 Heritage Rd.)Phone: 619-694-7809For a map and directions\, click here Here are some photos of vehicles available at this week’s Western Towing Auto Auction.Click on any of the images below to see the larger picture.\n\n\n\n\nno images were found \n\n\n\n\nTo download a copy of the list in Adobe pdf format\, Click here.\n\n\n\n\n\n\n	NOCONTROLYEAR/MAKE MODELREF#LS/T\n\n\n\n\n	124-340308 MAZDA3382472LS\n\n\n	224-326710 FORDFOCUS381029LS\n\n\n	324-338907 TOYOTAYARIS381711LS\n\n\n	424-326807 BUICKLUCERNE381080LS\n\n\n	5N/A08 NISSANVERSA381619LS\n\n\n	624-272611 KIASORENTO376094LS\n\n\n	724-338201 BUICKCENTURY382073LS\n\n\n	824-340699 OLDSMOBILEINTRIGUE382474LS\n\n\n	924-325902 MITSUBISHIECLIPSE380893LS\n\n\n	1024-319402 CHRYSLERSEBRING380361LS\n\n\n	1124-275107 SATURNOUTLOOK376469LS\n\n\n	1224-305903 JEEPLIBERTY379119LS\n\n\n	1324-302912 FORDFOCUS378889LS\n\n\n	1424-310011 HONDACIVIC379446LS\n\n\n	1524-324696 TOYOTACAMRY380868LS\n\n\n	1624-345606 FORDESCAPE381836LS\n\n\n	1724-338508 VOLVOXC70381838LS\n\n\n	1824-321299 BMW740il380505LS\n\n\n	1924-289000 BMW528i377647LS\n\n\n	2024-334502 NISSANMAXIMA381782LS\n\n\n	2124-214612 CHEVROLETCRUZE369721LS\n\n\n	2224-312107 AUDIQ7379442LS\n\n\n	2324-338498 ACURATL381837LS\n\n\n	2424-328004 CADILLACCTS380800LS\n\n\n	2524-330302 ACURATL381226LS\n\n\n	2624-306609 BUICKENCLAVE379149LS\n\n\n	2724-340506 CHRYSLERPT CRUISER382465LS\n\n\n	2824-340999 CHEVROLETVENTURE382545LS\n\n\n	2924-326001 CHRYSLERPT CRUISER380881LS\n\n\n	3024-310815 NISSANVERSA379688LS\n\n\n	3124-338108 TOYOTACAMRY381973LS\n\n\n	3224-301706 FORDMUSTANG378900LS\n\n\n	3324-255008 MERCEDESC-CLASS374427LS\n\n\n	3424-292714 FORDFOCUS377870LS\n\n\n	3524-325307 MAZDA3380902LS\n\n\n	3624-311607 BMWZ4379786LS\n\n\n	3724-289515 HYUNDAISONATA373981LS\n\n\n	3824-325010 FORDTAURUS380960LS\n\n\n	3924-312714 CHRYSLER200379629LS\n\n\n	4024-293304 NISSANARMADA378198LS\n\n\n	4124-331704 LEXUSLS381373LS\n\n\n	4224-320308 VOLKSWAGENPASSAT380461LS\n\n\n	4324-336502 MERCEDESCLK-CLASS382065LS\n\n\n	4424-319696 TOYOTACAMRY380501LS\n\n\n	4524-312402 FORDTAURUS374811LS\n\n\n	4624-258110 FORDTRANSIT VAN374811LS\n\n\n	4724-326686 TOYOTAPICKUP381014LS\n\n\n	4824-294606 HONDAACCORD378235LS\n\n\n	4924-345703 GMCYUKON382676LS\n\n\n	5024-310186 DODGERAM VAN379455LS\n\n\n\n\n\n\n\nTERMS AND CONDITIONS\n\nCash Only – All Sales are Final\n$200.00 refundable cash deposit to bid\nRefunds are available anytime during auction\nAll cars must be paid for and picked up by 4pm on Thursday ( no exceptions )\nAdditional deposits are required on vehicle’s over $1000.00\nLien sale vehicles sold to the general public are sold as is with all vaults and defects\, you are required to pay all DMV back registration and obtain a smog certificate before receiving your title from the DMV\, sales tax for your purchase will be paid directly to the DMV upon submission of the lien sale packet you will receive at the conclusion of the auction. Out of state buyers\, check with your local DMV to be sure that they will accept California lien sale documents for registration in your state.
URL:https://jbauctioneers.net/event/otay-mesa-auto-auction-20241120/
LOCATION:Western Towing\, 738 Heritage Rd.\, San Diego\, CA\, 92154\, United States
END:VEVENT
END:VCALENDAR