BEGIN:VCALENDAR
VERSION:2.0
PRODID:-//Joe Bradley Auctioneers - ECPv6.15.20//NONSGML v1.0//EN
CALSCALE:GREGORIAN
METHOD:PUBLISH
X-WR-CALNAME:Joe Bradley Auctioneers
X-ORIGINAL-URL:https://jbauctioneers.net
X-WR-CALDESC:Events for Joe Bradley Auctioneers
REFRESH-INTERVAL;VALUE=DURATION:PT1H
X-Robots-Tag:noindex
X-PUBLISHED-TTL:PT1H
BEGIN:VTIMEZONE
TZID:America/Los_Angeles
BEGIN:DAYLIGHT
TZOFFSETFROM:-0800
TZOFFSETTO:-0700
TZNAME:PDT
DTSTART:20230312T100000
END:DAYLIGHT
BEGIN:STANDARD
TZOFFSETFROM:-0700
TZOFFSETTO:-0800
TZNAME:PST
DTSTART:20231105T090000
END:STANDARD
BEGIN:DAYLIGHT
TZOFFSETFROM:-0800
TZOFFSETTO:-0700
TZNAME:PDT
DTSTART:20240310T100000
END:DAYLIGHT
BEGIN:STANDARD
TZOFFSETFROM:-0700
TZOFFSETTO:-0800
TZNAME:PST
DTSTART:20241103T090000
END:STANDARD
BEGIN:DAYLIGHT
TZOFFSETFROM:-0800
TZOFFSETTO:-0700
TZNAME:PDT
DTSTART:20250309T100000
END:DAYLIGHT
BEGIN:STANDARD
TZOFFSETFROM:-0700
TZOFFSETTO:-0800
TZNAME:PST
DTSTART:20251102T090000
END:STANDARD
END:VTIMEZONE
BEGIN:VEVENT
DTSTART;TZID=America/Los_Angeles:20241203T103000
DTEND;TZID=America/Los_Angeles:20241203T143000
DTSTAMP:20260422T063954
CREATED:20241109T003451Z
LAST-MODIFIED:20241130T201700Z
UID:23976-1733221800-1733236200@jbauctioneers.net
SUMMARY:OCEANSIDE - AUTO AUCTION
DESCRIPTION:Presented By:Auctions the 1st and 3rd Tuesdays of each monthPUBLIC AUTO AUCTIONUp to 80 Selected Vehicles\nTuesday December 3rd @ 10:30am1060 Airport Rd. (in the Oceanside location towing yard)Oceanside 92058Phone. 760-722-6686For a map and directions\, click here\nHere are some photos of vehicles available at this week’s S&R Towing auction.Vehicles posted are subject to change without notice.Click on any of the images below to see the larger picture.\n\n*** EXTRAS ***\n\n\n\n\nno images were found \n\n\n*** RUNNERS ***\n\n\n\n\nno images were found \n\n\n*** NON-RUNNERS ***\n\n\n\nno images were found \n\n\n\nTo download a copy of the list in Adobe pdf format\, Click here.\n\n\n\n\n\n\n\n	Call #Lot #YearMakeModelExp DatePlateVINOdomT/SAL\n\n\n\n\n	141088JB12011MINICooper6UBM799WMWSV3C53BTY13656T\n\n\n	13287822020HondaCivic9CFR4512HGFC2F6XLH527277\n\n\n	13832832004DodgeGrand Caravan7LXP4202D4GP44L44R608172\n\n\n	13794742003DodgeRam VanG5492DP2D6WB11YX3K513770\n\n\n	14055752015NissanFrontier14232X11N6BD0CT0FN750347T\n\n\n	13549462015Chrysler2005QNT7651C3CCCAB2FN742941SAL\n\n\n	13921472008ChryslerSebring8XXP8741C3LC45K38N239339T\n\n\n	13675081998LincolnContinental4KFU3301LNFM97V5WY642935\n\n\n	13347892002JeepLibertyKMN16801J4GL58K82W184087\n\n\n	138810102006VolkswagenJettaS50KPD3VWRG71K36M754203T\n\n\n	137284112013MazdaMazda6CH652981YVHZ8BH2D5M03166\n\n\n	137563121998ToyotaCorollaLDT01272T1BR18E8WC068131\n\n\n	138565132003FordEscape7UCG7451FMYU03173KC75428\n\n\n	135484141997ChevroletLumina1TF 3942G1WL52M4V1169201\n\n\n	138016152006SciontC6NUR857JTKDE167060114689\n\n\n	141248162013ChevroletMalibu8XLU0371G11C5SAXDF298633T\n\n\n	133011171977ChevroletNova9BWG4781X69D7L151435\n\n\n	137872181986ChevroletCaprice8UDH0301G1BN69H7G9122925\n\n\n	138211191998Mercedes-BenzC-Class4RJW394WDBHA29G0WF653976\n\n\n	138124202017MazdaMazda38KDZ6493MZBN1U7XHM103052SAL\n\n\n	138349212012VolvoS60C56118YV1622FS5C2094162\n\n\n	141378PT222002ToyotaAvalon6AZT8264T1BF28B12U248094\n\n\n	137200232007HyundaiSONATAJBX 45055NPET46C37H273131\n\n\n	136333242002HondaCivic8POA173SHHEP33522U306078\n\n\n	135424252005VolkswagenJetta9ACY8713VWPF71K05M620841\n\n\n	137722262015ToyotaPriusGK634NJTDKN3DUXF0439871\n\n\n	137644272015HondaCivicB51NYF62HGFB2F59FH558275SAL\n\n\n	137450282006KiaSorento279CYKKNDJC733665650022\n\n\n	137724292014ToyotaPriusGK212MJTDKN3DU3E0379611\n\n\n	138460301997NissanPathfinder9CDK963JN8AR05S0VW187186\n\n\n	137187312005PontiacGrand PrixKHT41882G2WS542651129423T\n\n\n	139268322003HyundaiSONATA73A 8XVKMHWF35H23A900644\n\n\n	135844332001Mercedes-BenzC-Class4TIU515WDBRF64J81F129144\n\n\n	137723342015ToyotaPriusGK635NJTDKN3DU8F1897841\n\n\n	136745352008AudiA48SGG311WAUAF78E88A165065\n\n\n	133923362014VolkswagenPassatRGZ03241VWCN7A32EC078976\n\n\n	137719372018HondaAccordE5A1HL1HGCV1F17JA067180\n\n\n	132260382013AudiA48PBT283WAUFFAFL8DN029462\n\n\n	137814392009VolkswagenJetta6FUL1383VWJZ71K49M005065\n\n\n	138691402006BMW5 Series5SSB482WBANE73586CM39863\n\n\n	137373412005HyundaiTiburon5MJY114KMHHN65F95U163648\n\n\n	137905421999FordExplorer4DYW7961FMZU32E6XZA18803\n\n\n	137233A2005KawasakiZZR 600NONEJKAZX4J165A056702\n\n\n	137968B2012KawasakiNinja 250R20D8041JKAEXMJ1XCDAA4420\n\n\n	137460C2016Harley-DavidsonStreet 750NONE1HD4NBB14GC500352\n\n\n	137227D1997SuzukiMarauder 80020W1565JS1VS53A7V2101138\n\n\n	136770E1984HondaVF 1100C12H12841HFSC1218EA113150\n\n\n	136771F2003TriumphSpeed Triple17R7505SMT500FV43J173853\n\n\n	136769G1997SuzukiGSX-R R60015S8408JS1GN78A9V2100514\n\n\n	137466H2006HondaRebel Base21M6686JH2MC13096K205380SAL\n\n\n	135283I1995KawasakiPolice 1000NO PLATEJKAKZCP24SB513003\n\n\n	139296J2016HondaCB 300F23M2331MLHNC5211G5200895\n\n\n	137669K2022YamahaYZF R7 World GP 60th Anniversary Edition25T1362JYARM38Y7NA000923\n\n\n	121024L2001DSTBD57R6MLMC9ZCA889487\n\n\n	137244M2020CARRY-ON8FT UTL TRAILEREFC9474YMBU0816LV003502\n\n\n	137250432013FordFocus12/12/20228AIH8441FADP3K20DL224084101766\n\n\n	138603442004HondaAccord9/8/20255JJR2021HGCM668X4A076473152125\n\n\n	136768452003OldsmobileBravadaOOSAPV2271GHDT13S332372866145690\n\n\n	133783461998ToyotaCamry1/2/20233XUW618JT2BF22K2W0101804208021\n\n\n	137590471999FordF-1503/31/202507371N11FTRX17W1XKB16504NASAL\n\n\n	138680482005DodgeDakota3/31/202329240H21D7HW48NX5S202953212012\n\n\n	133931492015ToyotaPriusOOSWJE922JTDKN3DUXF0399999134501\n\n\n	136782502002HondaCivic7/8/20234YGP1122HGES15152H548650177300\n\n\n	137449512008GMCAcadiaOOSEE5W4Y1GKER23798J279507154730\n\n\n	136886522000ToyotaSienna8/8/20254MVA2154T3ZF13CXYU316451201804\n\n\n	136329562008Chrysler3001/10/20246KYZ7732C3KA43R98H175639202084\n\n\n	137687572007CadillacEscalade EXT5/31/2016NONE3GYFK62827G129786142354SAL\n\n\n	141604JB582002HondaCivic7/1/20256WQK4792HGES16162H574866239837T\n\n\n	109952591989ChevMotorhome2/8/2021OSIDE3 1GBJP37W9K3309029\n\n\n\n\n\n\n\n\n\n\nTERMS AND CONDITIONS\n\nBuyers fees: Dealers & Dismantlers $35.00\nGeneral Public $65.00\n$200.00 cash deposit required to bid\nAll vehicles must be paid for in full CASH ONLY at the conclusion of the auction\nAll vehicles must be removed by Friday following the auction\nLien sale vehicles sold to the general public are sold as is with all vaults and defects\, you are required to pay all DMV back registration and obtain a smog certificate before receiving your title from the DMV\, sales tax for your purchase will be paid directly to the DMV upon submission of the lien sale packet you will receive at the conclusion of the auction. Out of state buyers\, check with your local DMV to be sure that they will accept California lien sale documents for registration in your state.\nFor more info call direct 760-722-6686
URL:https://jbauctioneers.net/event/oceanside-auto-auction-20241203/
LOCATION:S&R Towing\, 1060 Airport Rd.\, Oceanside\, CA\, 92058\, United States
END:VEVENT
END:VCALENDAR