BEGIN:VCALENDAR
VERSION:2.0
PRODID:-//Joe Bradley Auctioneers - ECPv6.15.20//NONSGML v1.0//EN
CALSCALE:GREGORIAN
METHOD:PUBLISH
X-WR-CALNAME:Joe Bradley Auctioneers
X-ORIGINAL-URL:https://jbauctioneers.net
X-WR-CALDESC:Events for Joe Bradley Auctioneers
REFRESH-INTERVAL;VALUE=DURATION:PT1H
X-Robots-Tag:noindex
X-PUBLISHED-TTL:PT1H
BEGIN:VTIMEZONE
TZID:America/Los_Angeles
BEGIN:DAYLIGHT
TZOFFSETFROM:-0800
TZOFFSETTO:-0700
TZNAME:PDT
DTSTART:20230312T100000
END:DAYLIGHT
BEGIN:STANDARD
TZOFFSETFROM:-0700
TZOFFSETTO:-0800
TZNAME:PST
DTSTART:20231105T090000
END:STANDARD
BEGIN:DAYLIGHT
TZOFFSETFROM:-0800
TZOFFSETTO:-0700
TZNAME:PDT
DTSTART:20240310T100000
END:DAYLIGHT
BEGIN:STANDARD
TZOFFSETFROM:-0700
TZOFFSETTO:-0800
TZNAME:PST
DTSTART:20241103T090000
END:STANDARD
BEGIN:DAYLIGHT
TZOFFSETFROM:-0800
TZOFFSETTO:-0700
TZNAME:PDT
DTSTART:20250309T100000
END:DAYLIGHT
BEGIN:STANDARD
TZOFFSETFROM:-0700
TZOFFSETTO:-0800
TZNAME:PST
DTSTART:20251102T090000
END:STANDARD
END:VTIMEZONE
BEGIN:VEVENT
DTSTART;TZID=America/Los_Angeles:20241204T123500
DTEND;TZID=America/Los_Angeles:20241204T123500
DTSTAMP:20260422T063902
CREATED:20241109T004610Z
LAST-MODIFIED:20241129T233803Z
UID:23974-1733315700-1733315700@jbauctioneers.net
SUMMARY:OTAY MESA - AUTO AUCTION
DESCRIPTION:Presented By: PUBLIC AUTO AUCTIONUp to 70 Lien Sale VehiclesWednesday December 4th  @ 12:35pm(Preview 12:00pm) Auctions held WednesdaysOtay Valley Rd & Heritage Rd\, Chula Vista(Look for signs to our facility from this location\, actual site is up the hill on 738 Heritage Rd.)Phone: 619-694-7809For a map and directions\, click here Here are some photos of vehicles available at this week’s Western Towing Auto Auction.Click on any of the images below to see the larger picture.\n\n\n\n\nno images were found \n\n\n\n\nTo download a copy of the list in Adobe pdf format\, Click here.\n\n\n\n\n\n\n	#CONTROLYEAR/MAKE MODELREF NOLS/TREGKEYSALVAGEOUT OF STATE\n\n\n\n\n	124-349908 VOLKSWAGENPASSAT383422LS\n\n\n	224-121299 HONDACIVIC359916LS\n\n\n	324-329805 FORDESCAPE381228LS\n\n\n	424-111416 CHEVROLETCRUZE313621LS\n\n\n	524-266713 VOLKSWAGENJETTA375528LS\n\n\n	624-328502 TOYOTAAVALON380813LS\n\n\n	724-352806 CHRYSLERTOWN&COUNTRY383519LS\n\n\n	824-349607 CHEVROLETAVEO383504LS\n\n\n	924-347601 SAAB9-3383273LS\n\n\n	1024-347015 FORDESCAPE378402LS\n\n\n	1124-357511 NISSANALTIMA384241LS\n\n\n	1224-350695 TOYOTAAVALON383391LS\n\n\n	1324-107202 YAMAHAXVS650358253LS07/04YESNONO\n\n\n	1424-101789 KAWASAKININJA357634LSO/SNONOO/S(?)CA 1/04\n\n\n	1524-130814 YAMAHAFZ6R360849LS04/16 YESNONO\n\n\n	1624-192607 YAMAHAXVS1100367439LS02/14YESNONO\n\n\n	1724-334806 HONDAVT950381725LS06/21YESNONO\n\n\n	1824-101195 YAMAHAFLR600357672LS05/12NOSALVAGENO\n\n\n	1924-264007 XTCMOTORCYCLE375286LS03/22NONONO\n\n\n	2024-090719 KYMCOSPADE356611LS07/21YESNONO\n\n\n	2124-308106 DUCATISUPERSPORT379282LS08/20YESNONO\n\n\n	2221-399905 BMWG35259060LS06/15NONONO\n\n\n	2324-279004 KAWASAKININJA 250R376682LS11/24YESNONO\n\n\n	2424-279602 HONDASHADOW376732LS09/23YESNONO\n\n\n	2524-289691 HONDACBR1000377738LSO/SNONOO/S(?) NO CA\n\n\n	2623-336717 KAWASAKININJA 342504LS2/23YESNONO\n\n\n	2724-206011 KAWASAKININJA 1000368636LS5/21NONONO\n\n\n	2824-287389 HONDASHADOW377532LSO/SYESNOO/S(PA) NO CA\n\n\n	2924-310512 DUCATISUPERBIKE379682LS06/19NONONO\n\n\n	3024-164715 HONDACB300364478LS11/22YESNONO\n\n\n	3124-217215 YAMAHASR400370308LS09/22YESNONO\n\n\n	3224-076017 RAZKULL354932LS07/21YESNONO\n\n\n	3324-300707 KAWASAKININJA ZX10R378853LS10/23YESNONO\n\n\n	3424-186906 YAMAHAYZFR6367083LS11/23YESNONO\n\n\n	3524-290323 DONGFANG377726LSO/SYESNOO/S(?) NO CA\n\n\n	3624-356409 YAMAHAFZ6R384189LS05/19YESSALVAGENO\n\n\n	3724-094313 BMWX1356890LS\n\n\n	3824-326211 DODGEDURANGO381069LS\n\n\n	3924-347913 FORDTAURUS383287LS\n\n\n	4024-347106 HONDACIVIC383311LS\n\n\n	4124-348401 HONDAACCORD383315LS\n\n\n	4224-349806 CHEVROLETIMPALA383506LS\n\n\n	4324-347306 DODGEGRD CARAVAN383293LS\n\n\n	4424-288411 BMW328i377694LS\n\n\n	4524-355706 HONDAACCORD384088LS\n\n\n	4624-326506 NISSANALTIMA381343LS\n\n\n	4724-350004 TOYOTASIENNA383416LS\n\n\n	4824-351403 CHRYSLERTOWN&COUNTRY383564LS\n\n\n	4924-262312 NISSANARMADA380434LS\n\n\n	5024-322506 TOYOTATUNDRA380434LS\n\n\n\n\n\n\n\nTERMS AND CONDITIONS\n\nCash Only – All Sales are Final\n$200.00 refundable cash deposit to bid\nRefunds are available anytime during auction\nAll cars must be paid for and picked up by 4pm on Thursday ( no exceptions )\nAdditional deposits are required on vehicle’s over $1000.00\nLien sale vehicles sold to the general public are sold as is with all vaults and defects\, you are required to pay all DMV back registration and obtain a smog certificate before receiving your title from the DMV\, sales tax for your purchase will be paid directly to the DMV upon submission of the lien sale packet you will receive at the conclusion of the auction. Out of state buyers\, check with your local DMV to be sure that they will accept California lien sale documents for registration in your state.
URL:https://jbauctioneers.net/event/otay-mesa-auto-auction-20241204/
LOCATION:Western Towing\, 738 Heritage Rd.\, San Diego\, CA\, 92154\, United States
END:VEVENT
END:VCALENDAR