BEGIN:VCALENDAR
VERSION:2.0
PRODID:-//Joe Bradley Auctioneers - ECPv6.15.20//NONSGML v1.0//EN
CALSCALE:GREGORIAN
METHOD:PUBLISH
X-ORIGINAL-URL:https://jbauctioneers.net
X-WR-CALDESC:Events for Joe Bradley Auctioneers
REFRESH-INTERVAL;VALUE=DURATION:PT1H
X-Robots-Tag:noindex
X-PUBLISHED-TTL:PT1H
BEGIN:VTIMEZONE
TZID:America/Los_Angeles
BEGIN:DAYLIGHT
TZOFFSETFROM:-0800
TZOFFSETTO:-0700
TZNAME:PDT
DTSTART:20230312T100000
END:DAYLIGHT
BEGIN:STANDARD
TZOFFSETFROM:-0700
TZOFFSETTO:-0800
TZNAME:PST
DTSTART:20231105T090000
END:STANDARD
BEGIN:DAYLIGHT
TZOFFSETFROM:-0800
TZOFFSETTO:-0700
TZNAME:PDT
DTSTART:20240310T100000
END:DAYLIGHT
BEGIN:STANDARD
TZOFFSETFROM:-0700
TZOFFSETTO:-0800
TZNAME:PST
DTSTART:20241103T090000
END:STANDARD
BEGIN:DAYLIGHT
TZOFFSETFROM:-0800
TZOFFSETTO:-0700
TZNAME:PDT
DTSTART:20250309T100000
END:DAYLIGHT
BEGIN:STANDARD
TZOFFSETFROM:-0700
TZOFFSETTO:-0800
TZNAME:PST
DTSTART:20251102T090000
END:STANDARD
END:VTIMEZONE
BEGIN:VEVENT
DTSTART;TZID=America/Los_Angeles:20241211T123500
DTEND;TZID=America/Los_Angeles:20241211T123500
DTSTAMP:20260422T064107
CREATED:20241109T004529Z
LAST-MODIFIED:20241206T230419Z
UID:23973-1733920500-1733920500@jbauctioneers.net
SUMMARY:OTAY MESA - AUTO AUCTION
DESCRIPTION:Presented By: PUBLIC AUTO AUCTIONUp to 70 Lien Sale VehiclesWednesday December 11th  @ 12:35pm(Preview 12:00pm) Auctions held WednesdaysOtay Valley Rd & Heritage Rd\, Chula Vista(Look for signs to our facility from this location\, actual site is up the hill on 738 Heritage Rd.)Phone: 619-694-7809For a map and directions\, click here Here are some photos of vehicles available at this week’s Western Towing Auto Auction.Click on any of the images below to see the larger picture.\n\n\n\n\nno images were found \n\n\n\n\nTo download a copy of the list in Adobe pdf format\, Click here.\n\n\n\n\n\n\n	NOCONTROLYEAR/MAKE MODELREF#LS/T\n\n\n\n\n	124-351607 BMWX3383766LS\n\n\n	224-343712 CHEVROLETCRUZE382881LS\n\n\n	324-352389 CHRYSLERTOWN&COUNTRY383784LS\n\n\n	424-366705 FORDFREESTYLE385034LS\n\n\n	524-362105 SATURNVUE384631LS\n\n\n	624-319508 VOLVOS40380374LS\n\n\n	724-329507 CHEVROLETHHR381010LS\n\n\n	824-351704 TOYOTACAMRY383767LS\n\n\n	924-325992 MITSUBISHIECLIPSE380893LS\n\n\n	1024-283609 LINCOLNTOWNCAR376807LS\n\n\n	1124-275107 SATURNOUTLOOK376469LS\n\n\n	1224-356702 HONDAACCORD384144LS\n\n\n	1324-247707 DODGEDURANGO374072LS\n\n\n	1424-310011 HONDACIVIC379446LS\n\n\n	1524-340205 HONDAACCORD382353LS\n\n\n	1624-353108 NISSANALTIMA383797LS\n\n\n	1724-346603 HONDACRV383187LS\n\n\n	1824-356504 HYUNDAIXG350384160LS\n\n\n	1924-349805 CHEVROLETIMPALA383428LS\n\n\n	2024-360504 SATURNION384588LS\n\n\n	2124-358497 CHRYSLERTOWN&COUNTRY384266LS\n\n\n	2224-327814 VOLKSWAGENJETTA381203LS\n\n\n	2324-344108 SUZUKIFORENZA382930LS\n\n\n	2424-360407 AUDIA4384581LS\n\n\n	2524-333611 CHEVROLETMALIBU381560LS\n\n\n	2624-359909 BMW328i384477LS\n\n\n	2724-306007 HONDACIVIC379182LS\n\n\n	2824-319307 ACURAMDX380267LS\n\n\n	2924-301212 NISSANALTIMA378742LS\n\n\n	3024-364604 ACURAMDX384879LS\n\n\n	3124-348398 DODGEGRD CARAVAN383308LS\n\n\n	3224-055201 CHEVROLETTAHOE352748LS\n\n\n	3324-347216 HYUNDAIACCENT383312LS\n\n\n	3424-369707 GMCACADIA385443LS\n\n\n	3524-326114 NISSANJUKE380973LS\n\n\n	3624-345510 MERCEDESGLK350383060LS\n\n\n	3724-339008 MERCURYMILAN382204LS\n\n\n	3824-351505 ACURAMDX383651LS\n\n\n	3924-254511 MAZDACX-9374452LS\n\n\n	4024-293304 NISSANARMADA378198LS\n\n\n	4124-327402 FORDMUSTANG381256LS\n\n\n	4224-319808 CHRYSLERPT CRUISER380362LS\n\n\n	4324-364101 CHEVROLETSUBURBAN384726LS\n\n\n	4424-328804 HONDACIVIC380806LS\n\n\n	4524-300403 LANDROVERRANGEROVER378627LS\n\n\n	4624-317912 MERCEDESC-CLASS380375LS\n\n\n	4724-332091 CHEVROLETCAPRICE381371LS\n\n\n	4824-329101 FORDE350381138LS\n\n\n	4924-141877 FORDF250362061LS\n\n\n	5024-310704 FORDE350379686LS\n\n\n\n\n\n\n\nTERMS AND CONDITIONS\n\nCash Only – All Sales are Final\n$200.00 refundable cash deposit to bid\nRefunds are available anytime during auction\nAll cars must be paid for and picked up by 4pm on Thursday ( no exceptions )\nAdditional deposits are required on vehicle’s over $1000.00\nLien sale vehicles sold to the general public are sold as is with all vaults and defects\, you are required to pay all DMV back registration and obtain a smog certificate before receiving your title from the DMV\, sales tax for your purchase will be paid directly to the DMV upon submission of the lien sale packet you will receive at the conclusion of the auction. Out of state buyers\, check with your local DMV to be sure that they will accept California lien sale documents for registration in your state.
URL:https://jbauctioneers.net/event/otay-mesa-auto-auction-20241211/
LOCATION:Western Towing\, 738 Heritage Rd.\, San Diego\, CA\, 92154\, United States
END:VEVENT
END:VCALENDAR