BEGIN:VCALENDAR
VERSION:2.0
PRODID:-//Joe Bradley Auctioneers - ECPv6.15.20//NONSGML v1.0//EN
CALSCALE:GREGORIAN
METHOD:PUBLISH
X-WR-CALNAME:Joe Bradley Auctioneers
X-ORIGINAL-URL:https://jbauctioneers.net
X-WR-CALDESC:Events for Joe Bradley Auctioneers
REFRESH-INTERVAL;VALUE=DURATION:PT1H
X-Robots-Tag:noindex
X-PUBLISHED-TTL:PT1H
BEGIN:VTIMEZONE
TZID:America/Los_Angeles
BEGIN:DAYLIGHT
TZOFFSETFROM:-0800
TZOFFSETTO:-0700
TZNAME:PDT
DTSTART:20240310T100000
END:DAYLIGHT
BEGIN:STANDARD
TZOFFSETFROM:-0700
TZOFFSETTO:-0800
TZNAME:PST
DTSTART:20241103T090000
END:STANDARD
BEGIN:DAYLIGHT
TZOFFSETFROM:-0800
TZOFFSETTO:-0700
TZNAME:PDT
DTSTART:20250309T100000
END:DAYLIGHT
BEGIN:STANDARD
TZOFFSETFROM:-0700
TZOFFSETTO:-0800
TZNAME:PST
DTSTART:20251102T090000
END:STANDARD
BEGIN:DAYLIGHT
TZOFFSETFROM:-0800
TZOFFSETTO:-0700
TZNAME:PDT
DTSTART:20260308T100000
END:DAYLIGHT
BEGIN:STANDARD
TZOFFSETFROM:-0700
TZOFFSETTO:-0800
TZNAME:PST
DTSTART:20261101T090000
END:STANDARD
END:VTIMEZONE
BEGIN:VEVENT
DTSTART;TZID=America/Los_Angeles:20250115T123500
DTEND;TZID=America/Los_Angeles:20250115T123500
DTSTAMP:20260422T050518
CREATED:20241129T233425Z
LAST-MODIFIED:20250109T233909Z
UID:24390-1736944500-1736944500@jbauctioneers.net
SUMMARY:OTAY MESA - AUTO AUCTION
DESCRIPTION:Presented By: PUBLIC AUTO AUCTIONUp to 70 Lien Sale VehiclesWednesday January 15th  @ 12:35pm(Preview 12:00pm) Auctions held WednesdaysOtay Valley Rd & Heritage Rd\, Chula Vista(Look for signs to our facility from this location\, actual site is up the hill on 738 Heritage Rd.)Phone: 619-694-7809For a map and directions\, click here Here are some photos of vehicles available at this week’s Western Towing Auto Auction.Click on any of the images below to see the larger picture.\n\n\n\n\nno images were found \n\n\n\n\nTo download a copy of the list in Adobe pdf format\, Click here.\n\n\n\n\n\n\n	NOCONTROLYEAR/MAKE MODELREF#LS/T\n\n\n\n\n	124-351607 BMWX3383766LS\n\n\n	224-344806 HONDACIVIC382938LS\n\n\n	324-377302 ACURATL386034LS\n\n\n	424-364206 CHRYSLER300C384379LS\n\n\n	524-096815 DODGECARAVAN357310LS\n\n\n	624-376608 NISSANALTIMA386016LS\n\n\n	724-396904 MITSUBISHIENDEAVOR388325LS\n\n\n	824-352790 MAZDAMX5363751LS\n\n\n	924-364904 VOLKSWAGENBEETLE384831LS\n\n\n	1024-344006 SATURNION382794LS\n\n\n	1124-384106 NISSANALTIMA387175LS\n\n\n	1224-043902 FORDWINDSTAR361532LS\n\n\n	1324-392703 HONDACIVIC387802LS\n\n\n	1424-386402 JEEPLIBERTY387160LS\n\n\n	1524-351007 FORDFOCUS383800LS\n\n\n	1624-391003 GMCYUKON387763LS\n\n\n	1724-338614 FORDFOCUS382227LS\n\n\n	1824-182190 MAZDAMX5366049LS\n\n\n	1924-369604 MERCEDESC-CLASS385267LS\n\n\n	2024-381104 AUDIA4386577LS\n\n\n	2124-355290 MERCEDES300383904LS\n\n\n	2224-340499 MERCEDESSLK CLASS382467LS\n\n\n	2324-358908 HONDA CRV384243LS\n\n\n	2424-357300 NISSANMAXIMA384231LS\n\n\n	2524-368905 BMW745i385314LS\n\n\n	2624-367500 LINCOLNLS385181LS\n\n\n	2724-336208 FORDEDGE381988LS\n\n\n	2824-367006 HONDAACCORD385049LS\n\n\n	2924-376804 CHEVROLETCAVALIER386188LS\n\n\n	3024-383905 KIASEDONA387041LS\n\n\n	3124-391506 NISSANMURANO387681LS\n\n\n	3224-397406 PONTIACSOLSTICE388335LS\n\n\n	3324-347216 HYUNDAIACCENT383312LS\n\n\n	3424-377102 HONDACIVIC386370LS\n\n\n	3524-391810 DODGECALIBER387784LS\n\n\n	3624-391707 VOLKSJETTA387734LS\n\n\n	3723-308513 MAZDACX-9338963LS\n\n\n	3824-388814 FORDTRANSIT VAN380725LS\n\n\n	3923-078303 FORDMUSTANG312478LS\n\n\n	4023-123214 FORDESCAPE318037LS\n\n\n	4124-361910 HYUNDAIELANTRA384354LS\n\n\n	4224-158923 MG MG5363663LS\n\n\n	4323-206015 NISSANVERSA327884LS\n\n\n	4424-373706 BMW545i387891LS\n\n\n	4524-394704 BMW545i387891LS\n\n\n	4624-344299 MERCEDESM-CLASS382664LS\n\n\n	4724-385606 CHEVROLETSILVERADO387028LS\n\n\n	4824-268700 FORDEXPEDITION375531LS\n\n\n	4924-386501 FORDE150387174LS\n\n\n	5024-310704 FORDE350379686LS\n\n\n	51N/A93 FORDF250NO TITLELS\n\n\n\n\n\n\n\nTERMS AND CONDITIONS\n\nCash Only – All Sales are Final\n$200.00 refundable cash deposit to bid\nRefunds are available anytime during auction\nAll cars must be paid for and picked up by 4pm on Thursday ( no exceptions )\nAdditional deposits are required on vehicle’s over $1000.00\nLien sale vehicles sold to the general public are sold as is with all vaults and defects\, you are required to pay all DMV back registration and obtain a smog certificate before receiving your title from the DMV\, sales tax for your purchase will be paid directly to the DMV upon submission of the lien sale packet you will receive at the conclusion of the auction. Out of state buyers\, check with your local DMV to be sure that they will accept California lien sale documents for registration in your state.
URL:https://jbauctioneers.net/event/otay-mesa-auto-auction-20250115/
LOCATION:Western Towing\, 738 Heritage Rd.\, San Diego\, CA\, 92154\, United States
END:VEVENT
END:VCALENDAR