BEGIN:VCALENDAR
VERSION:2.0
PRODID:-//Joe Bradley Auctioneers - ECPv6.15.20//NONSGML v1.0//EN
CALSCALE:GREGORIAN
METHOD:PUBLISH
X-WR-CALNAME:Joe Bradley Auctioneers
X-ORIGINAL-URL:https://jbauctioneers.net
X-WR-CALDESC:Events for Joe Bradley Auctioneers
REFRESH-INTERVAL;VALUE=DURATION:PT1H
X-Robots-Tag:noindex
X-PUBLISHED-TTL:PT1H
BEGIN:VTIMEZONE
TZID:America/Los_Angeles
BEGIN:DAYLIGHT
TZOFFSETFROM:-0800
TZOFFSETTO:-0700
TZNAME:PDT
DTSTART:20240310T100000
END:DAYLIGHT
BEGIN:STANDARD
TZOFFSETFROM:-0700
TZOFFSETTO:-0800
TZNAME:PST
DTSTART:20241103T090000
END:STANDARD
BEGIN:DAYLIGHT
TZOFFSETFROM:-0800
TZOFFSETTO:-0700
TZNAME:PDT
DTSTART:20250309T100000
END:DAYLIGHT
BEGIN:STANDARD
TZOFFSETFROM:-0700
TZOFFSETTO:-0800
TZNAME:PST
DTSTART:20251102T090000
END:STANDARD
BEGIN:DAYLIGHT
TZOFFSETFROM:-0800
TZOFFSETTO:-0700
TZNAME:PDT
DTSTART:20260308T100000
END:DAYLIGHT
BEGIN:STANDARD
TZOFFSETFROM:-0700
TZOFFSETTO:-0800
TZNAME:PST
DTSTART:20261101T090000
END:STANDARD
END:VTIMEZONE
BEGIN:VEVENT
DTSTART;TZID=America/Los_Angeles:20250924T123500
DTEND;TZID=America/Los_Angeles:20250924T123500
DTSTAMP:20260421T173440
CREATED:20250829T221351Z
LAST-MODIFIED:20250918T213651Z
UID:27827-1758717300-1758717300@jbauctioneers.net
SUMMARY:OTAY MESA - AUTO AUCTION
DESCRIPTION:Presented By: PUBLIC AUTO AUCTIONUp to 70 Lien Sale VehiclesWednesday September 24th  @ 12:35pm(Preview 12:00pm) Auctions held WednesdaysOtay Valley Rd & Heritage Rd\, Chula Vista(Look for signs to our facility from this location\, actual site is up the hill on 738 Heritage Rd.)Phone: 619-694-7809For a map and directions\, click here Here are some photos of vehicles available at this week’s Western Towing Auto Auction.Click on any of the images below to see the larger picture.\n\n\n\n\n\n\n\n		\n				\n						\n			\n								\n			\n		\n							\n			\n				\n						\n			\n								\n			\n		\n							\n			\n				\n						\n			\n								\n			\n		\n							\n			\n				\n						\n			\n								\n			\n		\n							\n			\n				\n						\n			\n								\n			\n		\n							\n			\n				\n						\n			\n								\n			\n		\n							\n			\n				\n						\n			\n								\n			\n		\n							\n			\n				\n						\n			\n								\n			\n		\n							\n			\n				\n						\n			\n								\n			\n		\n							\n			\n				\n						\n			\n								\n			\n		\n							\n			\n				\n						\n			\n								\n			\n		\n							\n			\n				\n						\n			\n								\n			\n		\n							\n			\n				\n						\n			\n								\n			\n		\n							\n			\n				\n						\n			\n								\n			\n		\n							\n			\n				\n						\n			\n								\n			\n		\n							\n			\n				\n						\n			\n								\n			\n		\n							\n			\n				\n						\n			\n								\n			\n		\n							\n			\n				\n						\n			\n								\n			\n		\n							\n			\n				\n						\n			\n								\n			\n		\n							\n			\n				\n						\n			\n								\n			\n		\n							\n			\n				\n						\n			\n								\n			\n		\n							\n			\n				\n						\n			\n								\n			\n		\n							\n			\n				\n						\n			\n								\n			\n		\n							\n			\n				\n						\n			\n								\n			\n		\n							\n			\n				\n						\n			\n								\n			\n		\n							\n			\n				\n						\n			\n								\n			\n		\n							\n			\n				\n						\n			\n								\n			\n		\n							\n			\n				\n						\n			\n								\n			\n		\n							\n			\n				\n						\n			\n								\n			\n		\n							\n			\n				\n						\n			\n								\n			\n		\n							\n			\n				\n						\n			\n								\n			\n		\n							\n			\n				\n						\n			\n								\n			\n		\n							\n			\n				\n						\n			\n								\n			\n		\n							\n			\n				\n						\n			\n								\n			\n		\n							\n			\n				\n						\n			\n								\n			\n		\n							\n			\n				\n						\n			\n								\n			\n		\n							\n			\n				\n						\n			\n								\n			\n		\n							\n			\n				\n						\n			\n								\n			\n		\n							\n			\n				\n						\n			\n								\n			\n		\n							\n			\n				\n						\n			\n								\n			\n		\n							\n			\n				\n						\n			\n								\n			\n		\n							\n			\n				\n						\n			\n								\n			\n		\n							\n			\n				\n						\n			\n								\n			\n		\n							\n			\n				\n						\n			\n								\n			\n		\n							\n			\n				\n						\n			\n								\n			\n		\n							\n			\n				\n						\n			\n								\n			\n		\n							\n			\n				\n						\n			\n								\n			\n		\n							\n			\n				\n						\n			\n								\n			\n		\n							\n			\n				\n						\n			\n								\n			\n		\n							\n			\n				\n						\n			\n								\n			\n		\n							\n			\n	\n	\n\n	\n		\n			\n\n\n\n\n\nTo download a copy of the list in Adobe pdf format\, Click here.\n\n\n\n\n\n\n	NOCONTROLYEAR/MAKE MODELREF#LS/T\n\n\n\n\n	125-273786 PONTIACFIERO418142LS\n\n\n	225-223510 TOYOTACOROLLA413184LS\n\n\n	325-276112 NISSANVERSA418418LS\n\n\n	425-270202 MAZDAPROTÉGÉ417786LS\n\n\n	525-276703 HONDAACCORD418425LS\n\n\n	625-284397 TOYOTACAMRY419008LS\n\n\n	725-285200 TOYOTAAVALON419029LS\n\n\n	825-280706 HYUNDAISANTA FE419203LS\n\n\n	925-266809 SCIONTC417545LS\n\n\n	1025-287209 TOYOTACOROLLA419405LS\n\n\n	1125-288109 FORDFOCUS419558LS\n\n\n	1225-233505 BUICKLACROSSE414032LS\n\n\n	1325-277205 JEEPGRD CHEROKEE418400LS\n\n\n	1425-271096 MERCEDESS-CLASS417884LS\n\n\n	1525-288803 MERCEDESML350419526LS\n\n\n	1625-254403 MERCEDESE-CLASS416447LS\n\n\n	1725-289705 ACURAMDX419674LS\n\n\n	1825-278299 MERCEDESM-CLASS418682LS\n\n\n	1925-279606 MERCEDESCLK CLASS418767LS\n\n\n	2025-262406 HONDACIVIC417158LS\n\n\n	2125-288702 MERCEDESSLK320419527LS\n\n\n	2225-284801 HONDAACCORD418909LS\n\n\n	2325-285104 NISSAN350Z419010LS\n\n\n	2425-278304 HYUNDAISANTA FE418675LS\n\n\n	2525-284505 FORDF150418891LS\n\n\n	2625-219512 VOLVOS60412449LS\n\n\n	2725-275998 HONDACIVIC418435LS\n\n\n	2825-254010 TOYOTAPRIUS416440LS\n\n\n	2925-223805 DODGEDAKOTA413326LS\n\n\n	3025-281710 HYUNDAIGENESIS419048LS\n\n\n	3125-260306 DODGERAM 1500416839LS\n\n\n	3225-217508 CHEVSILVERADO412829LS\n\n\n	3325-278508 NISSANVERSA418661LS\n\n\n	3425-280502 FORDEXPLORER SPORT419156LS\n\n\n	3525-283805 HONDACIVIC419182LS\n\n\n	3625-281000 MERCEDESS-CLASS418879LS\n\n\n	3725-169312 VOLKSWAGETIGUAN407133LS\n\n\n	3825-251289 CHEVROLETGMT400416049LS\n\n\n	3925-274704 NISSANMURANO418176LS\n\n\n	4025-250310 AUDIA4415907LS\n\n\n	4125-258000 MERCEDESE-CLASS416582LS\n\n\n	4225-278705 MERCURYMONTEGO419680LS\n\n\n	4325-273900 CHEVROLETMONTE CARLO418280LS\n\n\n	4425-267191 MERCEDES300E417522LS\n\n\n	4525-247612 BMW335i415588LS\n\n\n	46N/A19 TOYOTAYARIS417523LS\n\n\n	4725-286302 MERCURYGRD MARQUIS419326LS\n\n\n	4825-288002 DODGERAM 1500419510LS\n\n\n	4925-299700 MERCEDESE-CLASS420672TITLE\n\n\n	5025-274301 LEXUSRX418027LS\n\n\n\n\n\n\n\nTERMS AND CONDITIONS\n\nCash Only – All Sales are Final\n$300.00 refundable cash deposit to bid\nRefunds are available anytime during auction\nAll cars must be paid for and picked up by 4pm on Thursday ( no exceptions )\nAdditional deposits are required on vehicle’s over $1000.00\nLien sale vehicles sold to the general public are sold as is with all vaults and defects\, you are required to pay all DMV back registration and obtain a smog certificate before receiving your title from the DMV\, sales tax for your purchase will be paid directly to the DMV upon submission of the lien sale packet you will receive at the conclusion of the auction. Out of state buyers\, check with your local DMV to be sure that they will accept California lien sale documents for registration in your state.
URL:https://jbauctioneers.net/event/otay-mesa-auto-auction-20250924/
LOCATION:Western Towing\, 738 Heritage Rd.\, San Diego\, CA\, 92154\, United States
END:VEVENT
END:VCALENDAR