BEGIN:VCALENDAR
VERSION:2.0
PRODID:-//Joe Bradley Auctioneers - ECPv6.15.20//NONSGML v1.0//EN
CALSCALE:GREGORIAN
METHOD:PUBLISH
X-WR-CALNAME:Joe Bradley Auctioneers
X-ORIGINAL-URL:https://jbauctioneers.net
X-WR-CALDESC:Events for Joe Bradley Auctioneers
REFRESH-INTERVAL;VALUE=DURATION:PT1H
X-Robots-Tag:noindex
X-PUBLISHED-TTL:PT1H
BEGIN:VTIMEZONE
TZID:America/Los_Angeles
BEGIN:DAYLIGHT
TZOFFSETFROM:-0800
TZOFFSETTO:-0700
TZNAME:PDT
DTSTART:20240310T100000
END:DAYLIGHT
BEGIN:STANDARD
TZOFFSETFROM:-0700
TZOFFSETTO:-0800
TZNAME:PST
DTSTART:20241103T090000
END:STANDARD
BEGIN:DAYLIGHT
TZOFFSETFROM:-0800
TZOFFSETTO:-0700
TZNAME:PDT
DTSTART:20250309T100000
END:DAYLIGHT
BEGIN:STANDARD
TZOFFSETFROM:-0700
TZOFFSETTO:-0800
TZNAME:PST
DTSTART:20251102T090000
END:STANDARD
BEGIN:DAYLIGHT
TZOFFSETFROM:-0800
TZOFFSETTO:-0700
TZNAME:PDT
DTSTART:20260308T100000
END:DAYLIGHT
BEGIN:STANDARD
TZOFFSETFROM:-0700
TZOFFSETTO:-0800
TZNAME:PST
DTSTART:20261101T090000
END:STANDARD
END:VTIMEZONE
BEGIN:VEVENT
DTSTART;TZID=America/Los_Angeles:20251001T123500
DTEND;TZID=America/Los_Angeles:20251001T123500
DTSTAMP:20260421T160052
CREATED:20250829T230027Z
LAST-MODIFIED:20250925T232305Z
UID:27828-1759322100-1759322100@jbauctioneers.net
SUMMARY:OTAY MESA - AUTO AUCTION
DESCRIPTION:Presented By: PUBLIC AUTO AUCTIONUp to 70 Lien Sale VehiclesWednesday October 1st  @ 12:35pm(Preview 12:00pm) Auctions held WednesdaysOtay Valley Rd & Heritage Rd\, Chula Vista(Look for signs to our facility from this location\, actual site is up the hill on 738 Heritage Rd.)Phone: 619-694-7809For a map and directions\, click here Here are some photos of vehicles available at this week’s Western Towing Auto Auction.Click on any of the images below to see the larger picture.\n\n\n\n\n\n\n\n		\n				\n						\n			\n								\n			\n		\n							\n			\n				\n						\n			\n								\n			\n		\n							\n			\n				\n						\n			\n								\n			\n		\n							\n			\n				\n						\n			\n								\n			\n		\n							\n			\n				\n						\n			\n								\n			\n		\n							\n			\n				\n						\n			\n								\n			\n		\n							\n			\n				\n						\n			\n								\n			\n		\n							\n			\n				\n						\n			\n								\n			\n		\n							\n			\n				\n						\n			\n								\n			\n		\n							\n			\n				\n						\n			\n								\n			\n		\n							\n			\n				\n						\n			\n								\n			\n		\n							\n			\n				\n						\n			\n								\n			\n		\n							\n			\n				\n						\n			\n								\n			\n		\n							\n			\n				\n						\n			\n								\n			\n		\n							\n			\n				\n						\n			\n								\n			\n		\n							\n			\n				\n						\n			\n								\n			\n		\n							\n			\n				\n						\n			\n								\n			\n		\n							\n			\n				\n						\n			\n								\n			\n		\n							\n			\n				\n						\n			\n								\n			\n		\n							\n			\n				\n						\n			\n								\n			\n		\n							\n			\n				\n						\n			\n								\n			\n		\n							\n			\n				\n						\n			\n								\n			\n		\n							\n			\n				\n						\n			\n								\n			\n		\n							\n			\n				\n						\n			\n								\n			\n		\n							\n			\n				\n						\n			\n								\n			\n		\n							\n			\n				\n						\n			\n								\n			\n		\n							\n			\n				\n						\n			\n								\n			\n		\n							\n			\n				\n						\n			\n								\n			\n		\n							\n			\n				\n						\n			\n								\n			\n		\n							\n			\n				\n						\n			\n								\n			\n		\n							\n			\n				\n						\n			\n								\n			\n		\n							\n			\n				\n						\n			\n								\n			\n		\n							\n			\n				\n						\n			\n								\n			\n		\n							\n			\n				\n						\n			\n								\n			\n		\n							\n			\n				\n						\n			\n								\n			\n		\n							\n			\n				\n						\n			\n								\n			\n		\n							\n			\n				\n						\n			\n								\n			\n		\n							\n			\n				\n						\n			\n								\n			\n		\n							\n			\n				\n						\n			\n								\n			\n		\n							\n			\n				\n						\n			\n								\n			\n		\n							\n			\n				\n						\n			\n								\n			\n		\n							\n			\n				\n						\n			\n								\n			\n		\n							\n			\n				\n						\n			\n								\n			\n		\n							\n			\n				\n						\n			\n								\n			\n		\n							\n			\n				\n						\n			\n								\n			\n		\n							\n			\n				\n						\n			\n								\n			\n		\n							\n			\n				\n						\n			\n								\n			\n		\n							\n			\n				\n						\n			\n								\n			\n		\n							\n			\n				\n						\n			\n								\n			\n		\n							\n			\n				\n						\n			\n								\n			\n		\n							\n			\n	\n	\n\n	\n		\n			\n\n\n\n\n\nTo download a copy of the list in Adobe pdf format\, Click here.\n\n\n\n\n\n\n	NOCONTROLYEAR/MAKE MODELREF#LS/T\n\n\n\n\n	125-272509 HONDAACCORD418199LS\n\n\n	225-301206 NISSANMAXIMA420627LS\n\n\n	325-301112 NISSANMAXIMA420755LS\n\n\n	425-289011 CHEVROLETEQUINOX419567LS\n\n\n	525-285098 ACURACL418947LS\n\n\n	625-231606 TOYOTACAMRY414012LS\n\n\n	725-213513 CADILLACSRX412275LS\n\n\n	825-276207 TOYOTAMATRIX418093LS\n\n\n	925-301701 TOYOTAAVALON420917LS\n\n\n	1025-290404 TOYOTAHIGHLANDER419919LS\n\n\n	1125-297408 JEEPPATRIOT420545LS\n\n\n	1225-291798 DODGEGRD CARAVAN419738LS\n\n\n	1325-290808 NISSANALTIMA420053LS\n\n\n	1425-293698 TOYOTACAMRY419910LS\n\n\n	1525-290605 ACURAMDX419972LS\n\n\n	1625-296807 BMW328i420531LS\n\n\n	1725-247094 DODGEDAKOTA415512LS\n\n\n	1825-291204 BMW325i420051LS\n\n\n	1925-296000 BMW528i420149LS\n\n\n	2025-185304 LAND ROVERRANGE ROVER408948LS\n\n\n	2125-253805 BMWX5416341LS\n\n\n	2225-261006 MERCEDESE-CLASS416889LS\n\n\n	2325-291113 DODGEJOURNEY419868LS\n\n\n	2425-302415 FORDTAURUS421021LS\n\n\n	2525-289800 DODGECARAVAN419627LS\n\n\n	2625-283608 BMW328i418995LS\n\n\n	2725-288408 KIAOPTIMA419535LS\n\n\n	2825-291012 SCIONXB419840LS\n\n\n	2925-287406 BMW330i419412LS\n\n\n	3025-295812 VOLKSWAGENGOLF420291LS\n\n\n	3125-292713 KIASORENTO420057LS\n\n\n	3225-289314 KIAOPTIMA419658LS\n\n\n	3325-247510 CHEVROLETCAMARO415572LS\n\n\n	3425-286505 LEXUSRX330419359LS\n\n\n	3525-284206 BMW325i418999LS\n\n\n	3625-270101 JEEPGRD CHEROKEE417775LS\n\n\n	3725-272907 NISSANSENTRA418068LS\n\n\n	3825-237702 CHEVROLETSILVERADO414191LS\n\n\n	3925-221702 LANDROVERDISCOVERY413128LS\n\n\n	4025-248911 CHEVROLETCRUZE415790LS\n\n\n	4125-282408 CADILLACSTS418943LS\n\n\n	4225-282502 TOYOTAHIGHLANDER418998LS\n\n\n	4325-291506 NISSANALTIMA419933LS\n\n\n	4425-096113 AUDIQ5398692LS\n\n\n	4525-218308 SCIONXB412476LS\n\n\n	4625-251405 MERCEDESE-CLASS416015LS\n\n\n	4725-256607 AUDIA6416291LS\n\n\n	4825-279210 FORDFUSION418778LS\n\n\n	4925-210818 MAZDA3411977LS\n\n\n	5025-293700 NISSANFRONTIER419917LS\n\n\n\n\n\n\n\nTERMS AND CONDITIONS\n\nCash Only – All Sales are Final\n$300.00 refundable cash deposit to bid\nRefunds are available anytime during auction\nAll cars must be paid for and picked up by 4pm on Thursday ( no exceptions )\nAdditional deposits are required on vehicle’s over $1000.00\nLien sale vehicles sold to the general public are sold as is with all vaults and defects\, you are required to pay all DMV back registration and obtain a smog certificate before receiving your title from the DMV\, sales tax for your purchase will be paid directly to the DMV upon submission of the lien sale packet you will receive at the conclusion of the auction. Out of state buyers\, check with your local DMV to be sure that they will accept California lien sale documents for registration in your state.
URL:https://jbauctioneers.net/event/otay-mesa-auto-auction-20251001/
LOCATION:Western Towing\, 738 Heritage Rd.\, San Diego\, CA\, 92154\, United States
END:VEVENT
END:VCALENDAR