BEGIN:VCALENDAR
VERSION:2.0
PRODID:-//Joe Bradley Auctioneers - ECPv6.15.20//NONSGML v1.0//EN
CALSCALE:GREGORIAN
METHOD:PUBLISH
X-ORIGINAL-URL:https://jbauctioneers.net
X-WR-CALDESC:Events for Joe Bradley Auctioneers
REFRESH-INTERVAL;VALUE=DURATION:PT1H
X-Robots-Tag:noindex
X-PUBLISHED-TTL:PT1H
BEGIN:VTIMEZONE
TZID:America/Los_Angeles
BEGIN:DAYLIGHT
TZOFFSETFROM:-0800
TZOFFSETTO:-0700
TZNAME:PDT
DTSTART:20250309T100000
END:DAYLIGHT
BEGIN:STANDARD
TZOFFSETFROM:-0700
TZOFFSETTO:-0800
TZNAME:PST
DTSTART:20251102T090000
END:STANDARD
BEGIN:DAYLIGHT
TZOFFSETFROM:-0800
TZOFFSETTO:-0700
TZNAME:PDT
DTSTART:20260308T100000
END:DAYLIGHT
BEGIN:STANDARD
TZOFFSETFROM:-0700
TZOFFSETTO:-0800
TZNAME:PST
DTSTART:20261101T090000
END:STANDARD
BEGIN:DAYLIGHT
TZOFFSETFROM:-0800
TZOFFSETTO:-0700
TZNAME:PDT
DTSTART:20270314T100000
END:DAYLIGHT
BEGIN:STANDARD
TZOFFSETFROM:-0700
TZOFFSETTO:-0800
TZNAME:PST
DTSTART:20271107T090000
END:STANDARD
END:VTIMEZONE
BEGIN:VEVENT
DTSTART;TZID=America/Los_Angeles:20260211T123500
DTEND;TZID=America/Los_Angeles:20260211T123500
DTSTAMP:20260421T094245
CREATED:20260206T170246Z
LAST-MODIFIED:20260206T170559Z
UID:29973-1770813300-1770813300@jbauctioneers.net
SUMMARY:OTAY MESA - AUTO AUCTION
DESCRIPTION:Presented By: PUBLIC AUTO AUCTIONUp to 70 Lien Sale VehiclesWednesday February 11th  @ 12:35pm(Preview 12:00pm) Auctions held WednesdaysOtay Valley Rd & Heritage Rd\, Chula Vista(Look for signs to our facility from this location\, actual site is up the hill on 738 Heritage Rd.)Phone: 619-694-7809For a map and directions\, click here Here are some photos of vehicles available at this week’s Western Towing Auto Auction.Click on any of the images below to see the larger picture.\n\n\n\n\n\n\n\n		\n				\n						\n			\n								\n			\n		\n							\n			\n				\n						\n			\n								\n			\n		\n							\n			\n				\n						\n			\n								\n			\n		\n							\n			\n				\n						\n			\n								\n			\n		\n							\n			\n				\n						\n			\n								\n			\n		\n							\n			\n				\n						\n			\n								\n			\n		\n							\n			\n				\n						\n			\n								\n			\n		\n							\n			\n				\n						\n			\n								\n			\n		\n							\n			\n				\n						\n			\n								\n			\n		\n							\n			\n				\n						\n			\n								\n			\n		\n							\n			\n				\n						\n			\n								\n			\n		\n							\n			\n				\n						\n			\n								\n			\n		\n							\n			\n				\n						\n			\n								\n			\n		\n							\n			\n				\n						\n			\n								\n			\n		\n							\n			\n				\n						\n			\n								\n			\n		\n							\n			\n				\n						\n			\n								\n			\n		\n							\n			\n				\n						\n			\n								\n			\n		\n							\n			\n				\n						\n			\n								\n			\n		\n							\n			\n				\n						\n			\n								\n			\n		\n							\n			\n				\n						\n			\n								\n			\n		\n							\n			\n				\n						\n			\n								\n			\n		\n							\n			\n				\n						\n			\n								\n			\n		\n							\n			\n				\n						\n			\n								\n			\n		\n							\n			\n				\n						\n			\n								\n			\n		\n							\n			\n				\n						\n			\n								\n			\n		\n							\n			\n				\n						\n			\n								\n			\n		\n							\n			\n				\n						\n			\n								\n			\n		\n							\n			\n				\n						\n			\n								\n			\n		\n							\n			\n				\n						\n			\n								\n			\n		\n							\n			\n				\n						\n			\n								\n			\n		\n							\n			\n				\n						\n			\n								\n			\n		\n							\n			\n				\n						\n			\n								\n			\n		\n							\n			\n				\n						\n			\n								\n			\n		\n							\n			\n				\n						\n			\n								\n			\n		\n							\n			\n				\n						\n			\n								\n			\n		\n							\n			\n				\n						\n			\n								\n			\n		\n							\n			\n				\n						\n			\n								\n			\n		\n							\n			\n				\n						\n			\n								\n			\n		\n							\n			\n				\n						\n			\n								\n			\n		\n							\n			\n				\n						\n			\n								\n			\n		\n							\n			\n				\n						\n			\n								\n			\n		\n							\n			\n				\n						\n			\n								\n			\n		\n							\n			\n				\n						\n			\n								\n			\n		\n							\n			\n				\n						\n			\n								\n			\n		\n							\n			\n				\n						\n			\n								\n			\n		\n							\n			\n				\n						\n			\n								\n			\n		\n							\n			\n				\n						\n			\n								\n			\n		\n							\n			\n				\n						\n			\n								\n			\n		\n							\n			\n				\n						\n			\n								\n			\n		\n							\n			\n				\n						\n			\n								\n			\n		\n							\n			\n	\n	\n\n	\n		\n			\n\n\n\n\n\nTo download a copy of the list in Adobe pdf format\, Click here.\n\n\n\n\n\n\n	NOCONTROLYEAR/MAKE MODELREF#LS/T\n\n\n\n\n	126-038204 VOLKSWAGENGOLF436449LS\n\n\n	224-278216 SUBARUIMPREZA376317LS\n\n\n	326-039910 CHEVROLETMALIBU436826LS\n\n\n	426-009011 MINICLUBMAN433639LS\n\n\n	525-408412 KIAOPTIMA431687LS\n\n\n	626-033707 FORDFUSION436016LS\n\n\n	725-389907 AUDIA6429878LS\n\n\n	826-014802 HONDAODYSSEY434292LS\n\n\n	925-411612 HONDAACCORD432115LS\n\n\n	1025-410587 HONDACIVIC431949LS\n\n\n	1126-032107 MAZDATHREE435860LS\n\n\n	1226-027515 HYUNDAITUCSON435272LS\n\n\n	1325-357305 DODGERAM 1500426378LS\n\n\n	1425-410112 CHEVROLETCRUZE432112LS\n\n\n	1525-385504 BMW325i429451LS\n\n\n	1626-010796 CHEVROLETCAPRICE433904LS\n\n\n	1725-399805 MERCEDESC-CLASS430932LS\n\n\n	1825-386097 FORDEXPEDITION429380LS\n\n\n	1925-407597 HONDACIVIC431655LS\n\n\n	2025-400704 LEXUSES43116LS\n\n\n	2126-009104 JEEPGRD CHEROKEE433663LS\n\n\n	2225-404200 HONDAACCORD431282LS\n\n\n	2325-412102 BMW325i431844LS\n\n\n	2425-333211 FORDFOCUS423796LS\n\n\n	2526-016314 KIASORENTO434505LS\n\n\n	2625-414789 MAZDAB-SERIES432269LS\n\n\n	2726-008112 CHEVROLETIMPALA433743LS\n\n\n	2826-029209 TOYOTACOROLLA435667LS\n\n\n	2926-028999 HONDAACCORD435721LS\n\n\n	3026-021608 FORDEDGE434396LS\n\n\n	3126-040212 NISSANSENTRA436763LS\n\n\n	3225-001313 BMW750i388722LS\n\n\n	3325-350600 TOYOTACAMRY425930LS\n\n\n	3426-014698 TOYOTACAMRY434264LS\n\n\n	3525-378206 FORDF150428522LS\n\n\n	3625-343312 NISSANVERSA424849LS\n\n\n	3725-321317 CHEVROLETCRUZE422708LS\n\n\n	3825-246515 DODGEDART415277LS\n\n\n	3925-336618 KIAOPTIMA425769LS\n\n\n	4025-350101 MERCEDESS-CLASS425809LS\n\n\n	4125-015812 HONDACIVIC434360LS\n\n\n	4226-016907 DODGERAM 1500434664LS\n\n\n	4326-007911 SCIONTC433505LS\n\n\n	4426-031992 CHEVROLETGMT400435955LS\n\n\n	4526-033099 TOYOTACOROLLA435941LS\n\n\n	4626-009807 BMWX3433628LS\n\n\n	4726-015319 HONDAINSIGHT434191LS\n\n\n	4826-017603 HYUNDAIELANTRA434578LS\n\n\n	4926-027214 HYUNDAISONATA435367LS\n\n\n	5024-314500 FORDE250379818LS\n\n\n\n\n\n\n\nTERMS AND CONDITIONS\n\nCash Only – All Sales are Final\n$300.00 refundable cash deposit to bid\nRefunds are available anytime during auction\nAll cars must be paid for and picked up by 4pm on Thursday ( no exceptions )\nAdditional deposits are required on vehicle’s over $1000.00\nLien sale vehicles sold to the general public are sold as is with all vaults and defects\, you are required to pay all DMV back registration and obtain a smog certificate before receiving your title from the DMV\, sales tax for your purchase will be paid directly to the DMV upon submission of the lien sale packet you will receive at the conclusion of the auction. Out of state buyers\, check with your local DMV to be sure that they will accept California lien sale documents for registration in your state.
URL:https://jbauctioneers.net/event/otay-mesa-auto-auction-20260211/
LOCATION:Western Towing\, 738 Heritage Rd.\, San Diego\, CA\, 92154\, United States
END:VEVENT
END:VCALENDAR