BEGIN:VCALENDAR
VERSION:2.0
PRODID:-//Joe Bradley Auctioneers - ECPv6.15.20//NONSGML v1.0//EN
CALSCALE:GREGORIAN
METHOD:PUBLISH
X-ORIGINAL-URL:https://jbauctioneers.net
X-WR-CALDESC:Events for Joe Bradley Auctioneers
REFRESH-INTERVAL;VALUE=DURATION:PT1H
X-Robots-Tag:noindex
X-PUBLISHED-TTL:PT1H
BEGIN:VTIMEZONE
TZID:America/Los_Angeles
BEGIN:DAYLIGHT
TZOFFSETFROM:-0800
TZOFFSETTO:-0700
TZNAME:PDT
DTSTART:20250309T100000
END:DAYLIGHT
BEGIN:STANDARD
TZOFFSETFROM:-0700
TZOFFSETTO:-0800
TZNAME:PST
DTSTART:20251102T090000
END:STANDARD
BEGIN:DAYLIGHT
TZOFFSETFROM:-0800
TZOFFSETTO:-0700
TZNAME:PDT
DTSTART:20260308T100000
END:DAYLIGHT
BEGIN:STANDARD
TZOFFSETFROM:-0700
TZOFFSETTO:-0800
TZNAME:PST
DTSTART:20261101T090000
END:STANDARD
BEGIN:DAYLIGHT
TZOFFSETFROM:-0800
TZOFFSETTO:-0700
TZNAME:PDT
DTSTART:20270314T100000
END:DAYLIGHT
BEGIN:STANDARD
TZOFFSETFROM:-0700
TZOFFSETTO:-0800
TZNAME:PST
DTSTART:20271107T090000
END:STANDARD
END:VTIMEZONE
BEGIN:VEVENT
DTSTART;TZID=America/Los_Angeles:20260225T123500
DTEND;TZID=America/Los_Angeles:20260225T123500
DTSTAMP:20260421T093015
CREATED:20260206T170425Z
LAST-MODIFIED:20260220T170054Z
UID:30185-1772022900-1772022900@jbauctioneers.net
SUMMARY:OTAY MESA - AUTO AUCTION
DESCRIPTION:Presented By: PUBLIC AUTO AUCTIONUp to 70 Lien Sale VehiclesWednesday February 25th  @ 12:35pm(Preview 12:00pm) Auctions held WednesdaysOtay Valley Rd & Heritage Rd\, Chula Vista(Look for signs to our facility from this location\, actual site is up the hill on 738 Heritage Rd.)Phone: 619-694-7809For a map and directions\, click here Here are some photos of vehicles available at this week’s Western Towing Auto Auction.Click on any of the images below to see the larger picture.\n\n\n\n\n\n\n\n		\n				\n						\n			\n								\n			\n		\n							\n			\n				\n						\n			\n								\n			\n		\n							\n			\n				\n						\n			\n								\n			\n		\n							\n			\n				\n						\n			\n								\n			\n		\n							\n			\n				\n						\n			\n								\n			\n		\n							\n			\n				\n						\n			\n								\n			\n		\n							\n			\n				\n						\n			\n								\n			\n		\n							\n			\n				\n						\n			\n								\n			\n		\n							\n			\n				\n						\n			\n								\n			\n		\n							\n			\n				\n						\n			\n								\n			\n		\n							\n			\n				\n						\n			\n								\n			\n		\n							\n			\n				\n						\n			\n								\n			\n		\n							\n			\n				\n						\n			\n								\n			\n		\n							\n			\n				\n						\n			\n								\n			\n		\n							\n			\n				\n						\n			\n								\n			\n		\n							\n			\n				\n						\n			\n								\n			\n		\n							\n			\n				\n						\n			\n								\n			\n		\n							\n			\n				\n						\n			\n								\n			\n		\n							\n			\n				\n						\n			\n								\n			\n		\n							\n			\n				\n						\n			\n								\n			\n		\n							\n			\n				\n						\n			\n								\n			\n		\n							\n			\n				\n						\n			\n								\n			\n		\n							\n			\n				\n						\n			\n								\n			\n		\n							\n			\n				\n						\n			\n								\n			\n		\n							\n			\n				\n						\n			\n								\n			\n		\n							\n			\n				\n						\n			\n								\n			\n		\n							\n			\n				\n						\n			\n								\n			\n		\n							\n			\n				\n						\n			\n								\n			\n		\n							\n			\n				\n						\n			\n								\n			\n		\n							\n			\n				\n						\n			\n								\n			\n		\n							\n			\n				\n						\n			\n								\n			\n		\n							\n			\n				\n						\n			\n								\n			\n		\n							\n			\n				\n						\n			\n								\n			\n		\n							\n			\n				\n						\n			\n								\n			\n		\n							\n			\n				\n						\n			\n								\n			\n		\n							\n			\n				\n						\n			\n								\n			\n		\n							\n			\n				\n						\n			\n								\n			\n		\n							\n			\n				\n						\n			\n								\n			\n		\n							\n			\n				\n						\n			\n								\n			\n		\n							\n			\n				\n						\n			\n								\n			\n		\n							\n			\n				\n						\n			\n								\n			\n		\n							\n			\n				\n						\n			\n								\n			\n		\n							\n			\n				\n						\n			\n								\n			\n		\n							\n			\n				\n						\n			\n								\n			\n		\n							\n			\n				\n						\n			\n								\n			\n		\n							\n			\n				\n						\n			\n								\n			\n		\n							\n			\n				\n						\n			\n								\n			\n		\n							\n			\n				\n						\n			\n								\n			\n		\n							\n			\n				\n						\n			\n								\n			\n		\n							\n			\n				\n						\n			\n								\n			\n		\n							\n			\n	\n	\n\n	\n		\n			\n\n\n\n\n\nTo download a copy of the list in Adobe pdf format\, Click here.\n\n\n\n\n\n\n	NOCONTROLYEAR/MAKE MODELREF#LS/T\n\n\n\n\n	126-046408 DODGEAVENGER437189LS\n\n\n	226-042806 TOYOTACOROLLA437064LS\n\n\n	326-011916 TOYOTACOROLLA434028LS\n\n\n	426-035711 FORDFUSION436371LS\n\n\n	526-043612 DODGEAVENGER437107LS\n\n\n	626-048706 NISSANMURANO437589LS\n\n\n	726-036499 BUICKCENTURY436379LS\n\n\n	826-026312 HYUNDAIELANTRA435425LS\n\n\n	926-044697 JEEPGRD CHEROKEE437299LS\n\n\n	1026-032010 NISSANROGUE435841LS\n\n\n	1126-004597 HONDAODYSSEY433247LS\n\n\n	1226-014107 HONDAACCORD434209LS\n\n\n	1326-051315 FORDFUSION437868LS\n\n\n	1426-025102 FORDEXPLORER435441LS\n\n\n	1525-417602 LEXUSES300432492LS\n\n\n	1625-180703 MERCEDESE-CLASS408449LS\n\n\n	1725-408106 AUDIA6431697LS\n\n\n	1825-412809 VOLKSWAGENPASSAT431837LS\n\n\n	1925-416714 VOLKSWAGENJETTA432606LS\n\n\n	2026-003607 BMW328i433101LS\n\n\n	2125-394308 HONDAODYSSEY430279LS\n\n\n	2226-008213 BMW528i433713LS\n\n\n	2325-410016 NISSANVERSA432107LS\n\n\n	2425-408308 TOYOTAYARIS431751LS\n\n\n	2525-401001 DODGEDURANGO431157LS\n\n\n	2626-045706 LEXUSIS437197LS\n\n\n	2726-042303 BUICKCENTURY436978LS\n\n\n	2825-393114 TOYOTAPRIUS430226LS\n\n\n	2926-008303 JEEPGRD CHEROKEE433735LS\n\n\n	3026-001002 FORDF150432769LS\n\n\n	3126-039507 CADILLACESCALADE436458LS\n\n\n	3225-001313 BMW750i388722LS\n\n\n	3325-415504 MERCEDESE-CLASS432412LS\n\n\n	3424-256320 TOYOTAMIRAI373658LS\n\n\n	3525-386617 JEEPPATRIOT429151LS\n\n\n	3626-059408 MAZDA3438772LS\n\n\n	3726-056415 HYUNDAISONATA438587LS\n\n\n	3825-236809 BMWX6414401LS\n\n\n	3925-343103 BMW325i424837LS\n\n\n	4026-035696 NISSAN200SX436370LS\n\n\n	4126-039811 HYUNDAISANTA FE436656LS\n\n\n	4226-029111 AUDIA4435657LS\n\n\n	4326-049208 TOYOTASIENNA437722LS\n\n\n	4426-058704 HONDACIVIC438667LS\n\n\n	4525-315217 BMW330i421625LS\n\n\n	4626-044406 ACURATL437213LS\n\n\n	4725-382808 FORDE250429129LS\n\n\n	4826-020391 LEXUSLS434527LS\n\n\n	4926-032904 LEXUSIS435937LS\n\n\n	5026-041903 FORDE350 VAN436970LS\n\n\n	51N/A06 GMCYUKONN/ATITLE\n\n\n\n\n\n\n\nTERMS AND CONDITIONS\n\nCash Only – All Sales are Final\n$300.00 refundable cash deposit to bid\nRefunds are available anytime during auction\nAll cars must be paid for and picked up by 4pm on Thursday ( no exceptions )\nAdditional deposits are required on vehicle’s over $1000.00\nLien sale vehicles sold to the general public are sold as is with all vaults and defects\, you are required to pay all DMV back registration and obtain a smog certificate before receiving your title from the DMV\, sales tax for your purchase will be paid directly to the DMV upon submission of the lien sale packet you will receive at the conclusion of the auction. Out of state buyers\, check with your local DMV to be sure that they will accept California lien sale documents for registration in your state.
URL:https://jbauctioneers.net/event/otay-mesa-auto-auction-20260225/
LOCATION:Western Towing\, 738 Heritage Rd.\, San Diego\, CA\, 92154\, United States
END:VEVENT
END:VCALENDAR