BEGIN:VCALENDAR
VERSION:2.0
PRODID:-//Joe Bradley Auctioneers - ECPv6.15.20//NONSGML v1.0//EN
CALSCALE:GREGORIAN
METHOD:PUBLISH
X-WR-CALNAME:Joe Bradley Auctioneers
X-ORIGINAL-URL:https://jbauctioneers.net
X-WR-CALDESC:Events for Joe Bradley Auctioneers
REFRESH-INTERVAL;VALUE=DURATION:PT1H
X-Robots-Tag:noindex
X-PUBLISHED-TTL:PT1H
BEGIN:VTIMEZONE
TZID:America/Los_Angeles
BEGIN:DAYLIGHT
TZOFFSETFROM:-0800
TZOFFSETTO:-0700
TZNAME:PDT
DTSTART:20250309T100000
END:DAYLIGHT
BEGIN:STANDARD
TZOFFSETFROM:-0700
TZOFFSETTO:-0800
TZNAME:PST
DTSTART:20251102T090000
END:STANDARD
BEGIN:DAYLIGHT
TZOFFSETFROM:-0800
TZOFFSETTO:-0700
TZNAME:PDT
DTSTART:20260308T100000
END:DAYLIGHT
BEGIN:STANDARD
TZOFFSETFROM:-0700
TZOFFSETTO:-0800
TZNAME:PST
DTSTART:20261101T090000
END:STANDARD
BEGIN:DAYLIGHT
TZOFFSETFROM:-0800
TZOFFSETTO:-0700
TZNAME:PDT
DTSTART:20270314T100000
END:DAYLIGHT
BEGIN:STANDARD
TZOFFSETFROM:-0700
TZOFFSETTO:-0800
TZNAME:PST
DTSTART:20271107T090000
END:STANDARD
END:VTIMEZONE
BEGIN:VEVENT
DTSTART;TZID=America/Los_Angeles:20260421T103000
DTEND;TZID=America/Los_Angeles:20260421T143000
DTSTAMP:20260419T174755
CREATED:20260329T153558Z
LAST-MODIFIED:20260418T065605Z
UID:30976-1776767400-1776781800@jbauctioneers.net
SUMMARY:OCEANSIDE - AUTO AUCTION
DESCRIPTION:Presented By:Auctions the 1st and 3rd Tuesdays of each monthPUBLIC AUTO AUCTIONUp to 80 Selected Vehicles\nTuesday April 21st @ 10:30am1060 Airport Rd. (in the Oceanside location towing yard)Oceanside 92058Phone. 760-722-6686For a map and directions\, click here\n\nHere are some photos of vehicles available at this week’s S&R Towing auction.Vehicles posted are subject to change without notice.Click on any of the images below to see the larger picture.\n\n\n*** RUNNERS ***\n\n\n\n\n\n\n\n		\n				\n						\n			\n								\n			\n		\n							\n			\n				\n						\n			\n								\n			\n		\n							\n			\n				\n						\n			\n								\n			\n		\n							\n			\n				\n						\n			\n								\n			\n		\n							\n			\n				\n						\n			\n								\n			\n		\n							\n			\n				\n						\n			\n								\n			\n		\n							\n			\n				\n						\n			\n								\n			\n		\n							\n			\n				\n						\n			\n								\n			\n		\n							\n			\n				\n						\n			\n								\n			\n		\n							\n			\n				\n						\n			\n								\n			\n		\n							\n			\n				\n						\n			\n								\n			\n		\n							\n			\n				\n						\n			\n								\n			\n		\n							\n			\n				\n						\n			\n								\n			\n		\n							\n			\n				\n						\n			\n								\n			\n		\n							\n			\n				\n						\n			\n								\n			\n		\n							\n			\n				\n						\n			\n								\n			\n		\n							\n			\n				\n						\n			\n								\n			\n		\n							\n			\n				\n						\n			\n								\n			\n		\n							\n			\n				\n						\n			\n								\n			\n		\n							\n			\n				\n						\n			\n								\n			\n		\n							\n			\n				\n						\n			\n								\n			\n		\n							\n			\n				\n						\n			\n								\n			\n		\n							\n			\n				\n						\n			\n								\n			\n		\n							\n			\n				\n						\n			\n								\n			\n		\n							\n			\n	\n	\n\n	\n		\n			\n\n\n\n*** NON-RUNNERS ***\n\n\n\n\n\n\n		\n				\n						\n			\n								\n			\n		\n							\n			\n				\n						\n			\n								\n			\n		\n							\n			\n				\n						\n			\n								\n			\n		\n							\n			\n				\n						\n			\n								\n			\n		\n							\n			\n				\n						\n			\n								\n			\n		\n							\n			\n				\n						\n			\n								\n			\n		\n							\n			\n				\n						\n			\n								\n			\n		\n							\n			\n				\n						\n			\n								\n			\n		\n							\n			\n				\n						\n			\n								\n			\n		\n							\n			\n				\n						\n			\n								\n			\n		\n							\n			\n				\n						\n			\n								\n			\n		\n							\n			\n				\n						\n			\n								\n			\n		\n							\n			\n				\n						\n			\n								\n			\n		\n							\n			\n				\n						\n			\n								\n			\n		\n							\n			\n				\n						\n			\n								\n			\n		\n							\n			\n				\n						\n			\n								\n			\n		\n							\n			\n				\n						\n			\n								\n			\n		\n							\n			\n				\n						\n			\n								\n			\n		\n							\n			\n				\n						\n			\n								\n			\n		\n							\n			\n				\n						\n			\n								\n			\n		\n							\n			\n				\n						\n			\n								\n			\n		\n							\n			\n				\n						\n			\n								\n			\n		\n							\n			\n				\n						\n			\n								\n			\n		\n							\n			\n				\n						\n			\n								\n			\n		\n							\n			\n				\n						\n			\n								\n			\n		\n							\n			\n				\n						\n			\n								\n			\n		\n							\n			\n				\n						\n			\n								\n			\n		\n							\n			\n				\n						\n			\n								\n			\n		\n							\n			\n				\n						\n			\n								\n			\n		\n							\n			\n				\n						\n			\n								\n			\n		\n							\n			\n				\n						\n			\n								\n			\n		\n							\n			\n				\n						\n			\n								\n			\n		\n							\n			\n				\n						\n			\n								\n			\n		\n							\n			\n				\n						\n			\n								\n			\n		\n							\n			\n				\n						\n			\n								\n			\n		\n							\n			\n				\n						\n			\n								\n			\n		\n							\n			\n				\n						\n			\n								\n			\n		\n							\n			\n				\n						\n			\n								\n			\n		\n							\n			\n				\n						\n			\n								\n			\n		\n							\n			\n				\n						\n			\n								\n			\n		\n							\n			\n				\n						\n			\n								\n			\n		\n							\n			\n				\n						\n			\n								\n			\n		\n							\n			\n				\n						\n			\n								\n			\n		\n							\n			\n				\n						\n			\n								\n			\n		\n							\n			\n				\n						\n			\n								\n			\n		\n							\n			\n				\n						\n			\n								\n			\n		\n							\n			\n				\n						\n			\n								\n			\n		\n							\n			\n				\n						\n			\n								\n			\n		\n							\n			\n				\n						\n			\n								\n			\n		\n							\n			\n				\n						\n			\n								\n			\n		\n							\n			\n				\n						\n			\n								\n			\n		\n							\n			\n				\n						\n			\n								\n			\n		\n							\n			\n				\n						\n			\n								\n			\n		\n							\n			\n				\n						\n			\n								\n			\n		\n							\n			\n				\n						\n			\n								\n			\n		\n							\n			\n				\n						\n			\n								\n			\n		\n							\n			\n				\n						\n			\n								\n			\n		\n							\n			\n				\n						\n			\n								\n			\n		\n							\n			\n				\n						\n			\n								\n			\n		\n							\n			\n	\n	\n\n	\n		\n			\n\n\n\n\n\nTo download a copy of the list in Adobe pdf format\, Click here.\n\n\n\n\n\n\n\n	CALL#LOT#YEARMAKEMODELVINEXPPLATECOLORMILEST/S\n\n\n\n\n	17321312017FordMustang1FA6P8TH3H52599029GEN077Blue\n\n\n	17428422003ToyotaHighlanderJTEGF21A0301050725CRA373SilverTITLE\n\n\n	17386932003ToyotaCamry4T1BE32K03U1231684ZPT207White\n\n\n	17256642001FordE-3501FTSE34L01HA56250NONEWhite\n\n\n	17213052007ToyotaTacoma5TENX22NX7Z41406321262R2White\n\n\n	16609362009HondaCR-V5J6RE48749L0369138VUA977Gold\n\n\n	16699572004BMW7 SeriesWBAGN63434DS478827EFR209White\n\n\n	17535982008DodgeDakota1D7HE48N78S61928984891X3SilverTITLE/SAL\n\n\n	17347992016MazdaMazda33MZBM1K75GM3126077UGN336BlackTITLE\n\n\n	173796102007HyundaiSONATA5NPEU46F87H2323558GCY229Silver\n\n\n	171721112005ToyotaCamry4T1BE32K05U4112747UKS871SilverSAL\n\n\n	169171122003FordFocus1FAFP33Z33W2271915ELS970White\n\n\n	167885132006ChryslerPT Cruiser3A4FY48BX6T2638935TKP122Green\n\n\n	171028142016BMW3 SeriesWBA8E1G55GNT336248KEW467Black\n\n\n	172226152017ToyotaCamry4T1BF1FK9HU3444649NAA418Blue\n\n\n	172473162000ToyotaCamry Solara2T1FF28PXYC4127429RJD600Silver\n\n\n	172223171988FordF-1501FTEX14H3JKA407023K10623Black\n\n\n	172509182007FordE-Series Wagon1FDNE11W57DA353879BCW285WhiteTITLE\n\n\n	169809192012HyundaiGenesisKMHGC4DD2CU1992646WPK095White\n\n\n	172741202001HondaOdyssey2HKRL18601H5913044TLB900White\n\n\n	174007212003ToyotaSienna4T3ZF19C03U5367466SUM230GoldSAL\n\n\n	172576221989FordF-3502FTJW35G6KCB3346404856J1White\n\n\n	174734231993JeepGrand Cherokee1J4GZ58S1PC502395YBV236GrayTITLE\n\n\n	173680242005ToyotaPriusJTDKB20UX57031708WHLSSURed\n\n\n	171522252011Chrysler3002C3CA6CT0BH5229259VFW203SilverSAL\n\n\n	165832262012ToyotaPriusJTDKN3DU2C15245168JBM798White\n\n\n	173156272007ToyotaCorolla1NXBR32E17Z9301879VNR925Silver\n\n\n	175881PT282011ToyotaCorolla2T1BU4EE6BC5958099FHA215Silver\n\n\n	175901PT292005MitsubishiEclipse4A3AC44G35E0013689CXF671BlueTITLE\n\n\n	176187PT302007HyundaiSANTA FE5NMSG13D87H0814285ZTL876White\n\n\n	172894312006NissanArmada5N1AA08AX6N7339998XUP189Gray\n\n\n	172638322002VolkswagenEuroVanWV2KB47072H0619796PPT856White\n\n\n	172182331994NissanTruck1N6SD11S9RC3174817R66534Red\n\n\n	168330342021ToyotaCorolla5YFEPMAE7MP2611869SBY478Silver\n\n\n	175995352009HondaCivic2HGFA16539H3231597GYL633SilverTITLE\n\n\n	170399362009AudiA5WAUDK78T99A0479698XVF404White\n\n\n	170379371984ChevroletCorvette1G1AY0784E51003109KWE330Silver\n\n\n	170886382013VolkswagenCCWVWBP7AN6DE5184679DXY921Silver\n\n\n	174130392001GMCYukon1GKEC13T91J1975345XGL137WhiteSAL\n\n\n	173128401988FordE-2501FMHE21GXJHB356432JIX692Blue\n\n\n	173996412014NissanAltima1N4AL3AP5EN2087557DSH382White\n\n\n	172105422000ChevroletCamaro2G1FP32G5Y2153283NONEWhite\n\n\n	172008432014HondaCR-V2HKRM3H76EH5340297FFE233Blue\n\n\n	155414442017KiaOptima HybridKNAGT4LE6H50191528PBU738Black\n\n\n	171551452015HondaCivic19XFB2F83FE214171NONEBlack\n\n\n	173304462010AudiQ5WA1LKAFP8AA0836226LRX685White\n\n\n	170093472012BMW3 SeriesWBA3C1C53CF4308339AQP075White\n\n\n	172107482000HondaAccordJHMCG5677YC0057476YNZ971Red\n\n\n	173046492002ToyotaHighlanderJTEGD21A6200358564XMH168Red\n\n\n	176265PT502013VolvoS60YV1612FS8D22322647AQZ622Silver\n\n\n	176266PT512007SciontCJTKDE177X701591378LHN335Black\n\n\n	174016522003DodgeRam 15001D7HA18N93S17157503973N1Gray\n\n\n	168699532014ToyotaPriusJTDKN3DU1E03747639EGG514White\n\n\n	176177542002FordMustang1FAFP42XX2F2025529NSC673BlueTITLE\n\n\n	170144551972ScoutInternationalA83880G4849724BGB220Green\n\n\n	173820562015MazdaMazda33MZBM1U79FM1695447VCJ230WhiteTITLE\n\n\n	167224572020ChevroletAveoLSGHD52H4LD053440NXA6967Brown\n\n\n	172700582011ToyotaCamry4T4BF3EK8BR1191699CJY691BlackSAL\n\n\n	174285592015Ram15001C6RR6FG4FS56568311673V3Black\n\n\n	172897602004ToyotaCorolla1NXBR32E34Z296263NONEGray\n\n\n	167556612022ToyotaCorolla5YFEPMAE9NP32537401/269PWB194White49231\n\n\n	171052622009HondaFitJHMGE88419S064781OOSRKC 9672Blue180816\n\n\n	173973632007ChryslerTown and Country2A4GP44RX7R23159002/216TFD178Gold211273\n\n\n	174132642000DodgeNeon1B3ES46C1YD62433811/25NONESilver167240SAL\n\n\n	169624651999DodgeRam 25001B7KC2365XJ64123907/246A61996White261598\n\n\n	173339662015HondaCivic2HGFB2F94FH51262902/269NSE943Black163400\n\n\n	172563672011Mercedes-BenzC-ClassWDDGF5EB9BA44642807/259MOF438Silver80721SAL\n\n\n	172884682007BMW5 SeriesWBANE53517CK9192004/256VLX260Silver178842\n\n\n	173261692005FordMustang1ZVFT80N35514477401/266LYX497Black190880\n\n\n	173826702004FordF-1501FTRW12W34KC5230207/2646260M3Blue175009TITLE/SAL\n\n\n	159595712009NissanVersa3N1BC13E29L42325701/246GTR169Black220952\n\n\n	159499722008FordEdge2FMDK46C98BA3645606/249AIN428Silver228377\n\n\n	172778732011BMWX35UXWX5C57BL71107407/258XFB704Black237021\n\n\n	174159742002FordE-Series1FTNS24L62HB5379312/2313087F1White118904TITLE/SAL\n\n\n	173378752006NissanTitan1N6AA07A76N56266411/2365172U3White225661SAL\n\n\n	176251PF762013VolkswagenJetta3VW5A7AJ9DM23345712/226ZCZ881White122567\n\n\n	172604772000HondaCivic1HGEJ6127YL11587408/234MTV654Silver212238\n\n\n	169367782004AcuraTSXJH4CL96974C03187605/256ZQM642Black212794\n\n\n	172671792011JeepGrand Cherokee1J4RS4GG7BC67668007/19NONEBurgundy136634\n\n\n	168702802003DodgeRam 15001D7HA18N43S24002601/2583230Z3White184035\n\n\n	176252PF812007SubaruOutback4S4BP62C47732144001/255YAP244Silver-\n\n\n	175289PF822017FordFusion3FA6P0HD5HR10683201/248BLU991Black94788\n\n\n	175383PF832009CadillacSRX1GYEE63739011282104/248KZJ419Beige104948\n\n\n	175291PF841991VolkswagenCabrioletWVWCC5151MK02783002/192ZML774White90188\n\n\n\n\n\n\n\n\n\n\n\nTERMS AND CONDITIONS\n\n\nBuyers fees: Dealers & Dismantlers $35.00\nGeneral Public $65.00\n$200.00 cash deposit required to bid\nAll vehicles must be paid for in full CASH ONLY at the conclusion of the auction\nAll vehicles must be removed by Friday following the auction\nLien sale vehicles sold to the general public are sold as is with all vaults and defects\, you are required to pay all DMV back registration and obtain a smog certificate before receiving your title from the DMV\, sales tax for your purchase will be paid directly to the DMV upon submission of the lien sale packet you will receive at the conclusion of the auction. Out of state buyers\, check with your local DMV to be sure that they will accept California lien sale documents for registration in your state.\nFor more info call direct 760-722-6686
URL:https://jbauctioneers.net/event/oceanside-auto-auction-20260421/
LOCATION:S&R Towing\, 1060 Airport Rd.\, Oceanside\, CA\, 92058\, United States
END:VEVENT
BEGIN:VEVENT
DTSTART;TZID=America/Los_Angeles:20260421T110000
DTEND;TZID=America/Los_Angeles:20260421T130000
DTSTAMP:20260419T174757
CREATED:20260317T010541Z
LAST-MODIFIED:20260317T021114Z
UID:30874-1776769200-1776776400@jbauctioneers.net
SUMMARY:REPUBLIC MOVING & STORAGE VAULTS
DESCRIPTION:LIVE ONSITE AUCTION\nNO BUYERS PREMIUM / OVER 25 VAULTS\n\nTuesday\, April 21st @ 11:00am\n6747 Gateway Park Dr. San Diego\, Ca. 92154For a map and directions\, click here\n\nEverything imaginable has been found in storage vaults\, Antiques\, rare coins\, photos\, furniture\, tools\, general equipment\, vintage clothing\, household goods and much more. \nPreview: 1/2 hour prior to auction start (See additional notes below).\nPickup Schedule: Load out and transportation will be the responsibility of the buyer. (See additional notes below) \nContact us for more information: 619-318-3149 or rsvp@joebradley.comHere are some photos of the vaults available at this auction.Click on any of the images below to see the larger picture.\n\n\n\n\n\n\n\n		\n				\n						\n			\n								\n			\n		\n							\n			\n				\n						\n			\n								\n			\n		\n							\n			\n				\n						\n			\n								\n			\n		\n							\n			\n				\n						\n			\n								\n			\n		\n							\n			\n				\n						\n			\n								\n			\n		\n							\n			\n				\n						\n			\n								\n			\n		\n							\n			\n				\n						\n			\n								\n			\n		\n							\n			\n				\n						\n			\n								\n			\n		\n							\n			\n				\n						\n			\n								\n			\n		\n							\n			\n				\n						\n			\n								\n			\n		\n							\n			\n				\n						\n			\n								\n			\n		\n							\n			\n				\n						\n			\n								\n			\n		\n							\n			\n				\n						\n			\n								\n			\n		\n							\n			\n				\n						\n			\n								\n			\n		\n							\n			\n				\n						\n			\n								\n			\n		\n							\n			\n				\n						\n			\n								\n			\n		\n							\n			\n				\n						\n			\n								\n			\n		\n							\n			\n				\n						\n			\n								\n			\n		\n							\n			\n				\n						\n			\n								\n			\n		\n							\n			\n				\n						\n			\n								\n			\n		\n							\n			\n				\n						\n			\n								\n			\n		\n							\n			\n				\n						\n			\n								\n			\n		\n							\n			\n				\n						\n			\n								\n			\n		\n							\n			\n				\n						\n			\n								\n			\n		\n							\n			\n				\n						\n			\n								\n			\n		\n							\n			\n				\n						\n			\n								\n			\n		\n							\n			\n				\n						\n			\n								\n			\n		\n							\n			\n				\n						\n			\n								\n			\n		\n							\n			\n				\n						\n			\n								\n			\n		\n							\n			\n				\n						\n			\n								\n			\n		\n							\n			\n				\n						\n			\n								\n			\n		\n							\n			\n				\n						\n			\n								\n			\n		\n							\n			\n	\n	\n\n	\n		\n			\n\n\n\n\n\n\nTERMS AND CONDITIONS\n\n$200.00 Cash Deposit required to bid\nCONDITIONS: Buyers complete inspection of property is encouraged. All announcements made by the Auctioneer at the Auction will take precedence over any previous printed material or any other oral statements made. All items will sell at Absolute Auction.\nSALES TAX: 7.75% Sales Tax will be charged. Any person or business claiming tax exemption must provide a copy of the resale license to our office by Monday April 20th 2026\, email copy to rsvp@joebradley.com\, any person claiming tax exemption day of sale will not be honored \nPAYMENTS: Accepted form of payment is cash. FINAL PAYMENT IS DUE AT CONCLUSION OF AUCTION ON ALL VAULTS.\nLOAD OUT/TRANSPORTATION:  Load out and transportation will be the responsibility of the buyer. Property will become the responsibility of the purchasers once pronounced sold. Buyers and their agents\, will dismantle\, load\, and remove all property at their own risk and expense. Buyers will schedule an appointment for pickup with warehouse. \nBuyers $200.00 deposit will be returned once vaults are returned clean.\nAUCTIONEERS DISCLAIMER:  Buyers are encouraged to personally inspect items and rely on their own judgement and inspection. All items are sold AS IS\, WHERE IS with all faults if any.\nACCIDENTS: Joe Bradley Auctioneers\, nor the sellers are responsible for any accidental injury or theft.\nATTENTION AUCTION BUYERS PREVIEW: We suggest that you arrive ½ hour prior to the Auction to register and have any last-minute questions answered.
URL:https://jbauctioneers.net/event/republic-20260421/
LOCATION:Republic Moving & Storage – Otay Mesa\, 6747 Gateway Park Dr.\, San Diego\, CA\, 92154\, United States
END:VEVENT
BEGIN:VEVENT
DTSTART;TZID=America/Los_Angeles:20260422T123500
DTEND;TZID=America/Los_Angeles:20260422T123500
DTSTAMP:20260419T174757
CREATED:20260329T153313Z
LAST-MODIFIED:20260416T231532Z
UID:30970-1776861300-1776861300@jbauctioneers.net
SUMMARY:OTAY MESA - AUTO AUCTION
DESCRIPTION:Presented By: PUBLIC AUTO AUCTIONUp to 70 Lien Sale VehiclesWednesday April 22nd  @ 12:35pm(Preview 12:00pm) Auctions held WednesdaysOtay Valley Rd & Heritage Rd\, Chula Vista(Look for signs to our facility from this location\, actual site is up the hill on 738 Heritage Rd.)Phone: 619-694-7809For a map and directions\, click here Here are some photos of vehicles available at this week’s Western Towing Auto Auction.Click on any of the images below to see the larger picture.\n\n\n\n\n\n\n\n		\n				\n						\n			\n								\n			\n		\n							\n			\n				\n						\n			\n								\n			\n		\n							\n			\n				\n						\n			\n								\n			\n		\n							\n			\n				\n						\n			\n								\n			\n		\n							\n			\n				\n						\n			\n								\n			\n		\n							\n			\n				\n						\n			\n								\n			\n		\n							\n			\n				\n						\n			\n								\n			\n		\n							\n			\n				\n						\n			\n								\n			\n		\n							\n			\n				\n						\n			\n								\n			\n		\n							\n			\n				\n						\n			\n								\n			\n		\n							\n			\n				\n						\n			\n								\n			\n		\n							\n			\n				\n						\n			\n								\n			\n		\n							\n			\n				\n						\n			\n								\n			\n		\n							\n			\n				\n						\n			\n								\n			\n		\n							\n			\n				\n						\n			\n								\n			\n		\n							\n			\n				\n						\n			\n								\n			\n		\n							\n			\n				\n						\n			\n								\n			\n		\n							\n			\n				\n						\n			\n								\n			\n		\n							\n			\n				\n						\n			\n								\n			\n		\n							\n			\n				\n						\n			\n								\n			\n		\n							\n			\n				\n						\n			\n								\n			\n		\n							\n			\n				\n						\n			\n								\n			\n		\n							\n			\n				\n						\n			\n								\n			\n		\n							\n			\n				\n						\n			\n								\n			\n		\n							\n			\n				\n						\n			\n								\n			\n		\n							\n			\n				\n						\n			\n								\n			\n		\n							\n			\n				\n						\n			\n								\n			\n		\n							\n			\n				\n						\n			\n								\n			\n		\n							\n			\n				\n						\n			\n								\n			\n		\n							\n			\n				\n						\n			\n								\n			\n		\n							\n			\n				\n						\n			\n								\n			\n		\n							\n			\n				\n						\n			\n								\n			\n		\n							\n			\n				\n						\n			\n								\n			\n		\n							\n			\n				\n						\n			\n								\n			\n		\n							\n			\n				\n						\n			\n								\n			\n		\n							\n			\n				\n						\n			\n								\n			\n		\n							\n			\n				\n						\n			\n								\n			\n		\n							\n			\n				\n						\n			\n								\n			\n		\n							\n			\n				\n						\n			\n								\n			\n		\n							\n			\n				\n						\n			\n								\n			\n		\n							\n			\n				\n						\n			\n								\n			\n		\n							\n			\n				\n						\n			\n								\n			\n		\n							\n			\n				\n						\n			\n								\n			\n		\n							\n			\n				\n						\n			\n								\n			\n		\n							\n			\n				\n						\n			\n								\n			\n		\n							\n			\n				\n						\n			\n								\n			\n		\n							\n			\n				\n						\n			\n								\n			\n		\n							\n			\n				\n						\n			\n								\n			\n		\n							\n			\n				\n						\n			\n								\n			\n		\n							\n			\n				\n						\n			\n								\n			\n		\n							\n			\n	\n	\n\n	\n		\n			\n\n\n\n\n\nTo download a copy of the list in Adobe pdf format\, Click here.\n\n\n\n\n\n\n	NOCONTROLYEAR/MAKE MODELREF#LS/T\n\n\n\n\n	126-079812 BMW535i441237LS\n\n\n	226-099905 CHEVROLETEQUINOX443627LS\n\n\n	326-090303 SAAB9-3443452LS\n\n\n	426-043200 NISSANXTERRA437089LS\n\n\n	526-096802 SUBARUIMPREZA443138LS\n\n\n	626-103711 TOYOTACAMRY444030LS\n\n\n	725-364806 NISSANALTIMA427128LS\n\n\n	826-107202 HYUNDAISANTA FE444484LS\n\n\n	926-099797 VOLKSWAGENGOLF443522LS\n\n\n	1026-104105 SCIONTC444124LS\n\n\n	1125-354617 HYUNDAISANTA FE425830LS\n\n\n	1226-106613 HYUNDAISONATA444457LS\n\n\n	1326-087404 BMw325i441990LS\n\n\n	1426-108303 GMCENVOY444591LS\n\n\n	1526-080409 MERCEDESC-CLASS441208LS\n\n\n	1626-108407 JEEPLIBERTY444557LS\n\n\n	1726-107002 BMW745444486LS\n\n\n	1826-079812 BMW535i441237LS\n\n\n	1926-105998 INFINITIQX4444387LS\n\n\n	2026-033811 AUDIQ5436070LS\n\n\n	2126-108507 BMW335i444559LS\n\n\n	2226-098507 HONDACIVIC443256LS\n\n\n	2326-099698 MERCEDESCLK CLASS443454LS\n\n\n	2426-086390 FORDRANGER441910LS\n\n\n	2526-001807 HONDAACCORD432868LS\n\n\n	2626-107195 SUBARULEGACY444451LS\n\n\n	2726-059515 JEEPCHEROKEE438734LS\n\n\n	2825-372707 HONDACIVIC428054LS\n\n\n	2926-098105 NISSANALTIMA443437LS\n\n\n	3026-065911 BMW535i439505LS\n\n\n	3125-396617 INFINITIQX60430497LS\n\n\n	3226-112505 GMCENVOY445139LS\n\n\n	3326-054012 NISSANALTIMA438393LS\n\n\n	3426-089716 VOLKSWAGEPASSAT442219LS\n\n\n	3526-096407 HONDAODYSSEY443031LS\n\n\n	3626-103813 NISSANSENTRA444050LS\n\n\n	3726-086411 CHEVROLETMALIBU441767LS\n\n\n	3826-049606 FORDF150437843LS\n\n\n	3926-108207 CHEVROLETTAHOE444599LS\n\n\n	4026-098606 HONDAPILOT443311LS\n\n\n	4126-096113 KIAOPTIMA442959LS\n\n\n	4226-072108 GMCACADIA440363LS\n\n\n	4326-024970 VOLKSWAGENBUG435162LS\n\n\n	4426-104404 DODGEDURANGO444082LS\n\n\n	4526-063097 MERCEDESE-CLASS430133LS\n\n\n	4626-080610 NISSANVERSA441212LS\n\n\n	4726-110814 NISSANALTIMA444682LS\n\n\n	4825-357711 MERCEDESE-CLASS426356LS\n\n\n	4926-073804 FORDE150440483LS\n\n\n	5026-088703 FORDE250442112LS\n\n\n\n\n\n\n\nTERMS AND CONDITIONS\n\nCash Only – All Sales are Final\n$300.00 refundable cash deposit to bid\nRefunds are available anytime during auction\nAll cars must be paid for and picked up by 4pm on Thursday ( no exceptions )\nAdditional deposits are required on vehicle’s over $1000.00\nLien sale vehicles sold to the general public are sold as is with all vaults and defects\, you are required to pay all DMV back registration and obtain a smog certificate before receiving your title from the DMV\, sales tax for your purchase will be paid directly to the DMV upon submission of the lien sale packet you will receive at the conclusion of the auction. Out of state buyers\, check with your local DMV to be sure that they will accept California lien sale documents for registration in your state.
URL:https://jbauctioneers.net/event/otay-mesa-auto-auction-20260422/
LOCATION:Western Towing\, 738 Heritage Rd.\, San Diego\, CA\, 92154\, United States
END:VEVENT
BEGIN:VEVENT
DTSTART;TZID=America/Los_Angeles:20260429T123500
DTEND;TZID=America/Los_Angeles:20260429T123500
DTSTAMP:20260419T174757
CREATED:20260329T153345Z
LAST-MODIFIED:20260329T153345Z
UID:30969-1777466100-1777466100@jbauctioneers.net
SUMMARY:OTAY MESA - AUTO AUCTION
DESCRIPTION:Presented By:PUBLIC AUTO AUCTIONUp to 70 Lien Sale VehiclesWednesday April 29th @ 12:35pm(Preview 12:00pm) Auctions held Wednesdays*** NEW LOCATION ***Otay Valley Rd & Heritage Rd\, Chula Vista(Look for signs to the new facility from this location\, actual site is up the hill on Heritage Rd.)Phone: 619-694-7809For a map and directions\, click here *** PHOTOS AND LIST FOR THE CURRENT AUCTION WILL BE POSTED SOON. PLEASE CHECK BACK. ***\n\n\n\nTERMS AND CONDITIONS\n\nCash Only – All Sales are Final\n$300.00 refundable cash deposit to bid\nRefunds are available anytime during auction\nAll cars must be paid for and picked up by 4pm on Thursday ( no exceptions )\nAdditional deposits are required on vehicle’s over $1000.00
URL:https://jbauctioneers.net/event/otay-mesa-auto-auction-20260429/
LOCATION:Western Towing\, 738 Heritage Rd.\, San Diego\, CA\, 92154\, United States
END:VEVENT
END:VCALENDAR