BEGIN:VCALENDAR
VERSION:2.0
PRODID:-//Joe Bradley Auctioneers - ECPv6.15.20//NONSGML v1.0//EN
CALSCALE:GREGORIAN
METHOD:PUBLISH
X-WR-CALNAME:Joe Bradley Auctioneers
X-ORIGINAL-URL:https://jbauctioneers.net
X-WR-CALDESC:Events for Joe Bradley Auctioneers
REFRESH-INTERVAL;VALUE=DURATION:PT1H
X-Robots-Tag:noindex
X-PUBLISHED-TTL:PT1H
BEGIN:VTIMEZONE
TZID:America/Los_Angeles
BEGIN:DAYLIGHT
TZOFFSETFROM:-0800
TZOFFSETTO:-0700
TZNAME:PDT
DTSTART:20190310T100000
END:DAYLIGHT
BEGIN:STANDARD
TZOFFSETFROM:-0700
TZOFFSETTO:-0800
TZNAME:PST
DTSTART:20191103T090000
END:STANDARD
BEGIN:DAYLIGHT
TZOFFSETFROM:-0800
TZOFFSETTO:-0700
TZNAME:PDT
DTSTART:20200308T100000
END:DAYLIGHT
BEGIN:STANDARD
TZOFFSETFROM:-0700
TZOFFSETTO:-0800
TZNAME:PST
DTSTART:20201101T090000
END:STANDARD
BEGIN:DAYLIGHT
TZOFFSETFROM:-0800
TZOFFSETTO:-0700
TZNAME:PDT
DTSTART:20210314T100000
END:DAYLIGHT
BEGIN:STANDARD
TZOFFSETFROM:-0700
TZOFFSETTO:-0800
TZNAME:PST
DTSTART:20211107T090000
END:STANDARD
END:VTIMEZONE
BEGIN:VEVENT
DTSTART;TZID=America/Los_Angeles:20201201T103000
DTEND;TZID=America/Los_Angeles:20201201T143000
DTSTAMP:20260425T150145
CREATED:20201123T024807Z
LAST-MODIFIED:20201128T200541Z
UID:5396-1606818600-1606833000@jbauctioneers.net
SUMMARY:OCEANSIDE - AUTO AUCTION
DESCRIPTION:Attention Valued Customers\, Only Registered bidders will be allowed to attend the auction. We are taking extra precaution to keep you and our staff safe. We will provide portable bathroom & washing station\,  we will all practice social distancing\, all attendees must wear protective face covering in the auction sale yard area.\n\n\nPresented By:Auctions the 1st and 3rd Tuesdays of each monthPUBLIC AUTO AUCTIONUp to 80 Selected Vehicles\nTuesday December 1st @ 10:30am1060 Airport Rd. (in the Oceanside location towing yard)Oceanside 92058Phone. 760-722-6686For a map and directions\, click hereHere are some photos of vehicles available at this week’s S&R Towing auction.Vehicles posted are subject to change without notice.Click on any of the images below to see the larger picture.*** THIS WEEK’S FEATURED VEHICLES ***\n\n\n\nno images were found \n\n\n\n*** NON-RUNNERS ***\n\n\n\nno images were found \n\n\n\nTo download a copy of the list in Adobe pdf format\, Click here\n\n\n\n\n\n\n	INVOICE #YEARMAKEMODELPLATELIC EXPVINODOMTIT / SAL\n\n\n\n\n	1342992005FordMustang5NHP7161ZVFT80N155168636TIT\n\n\n	2347312000ToyotaAvalon8GAC5234T1BF28B7YU045767TIT/SAL\n\n\n	3313071993FordExplorer3EML7371FMDU34X8PUC13498\n\n\n	4340381987ToyotaPickup3K93127JT4RN63R4H5028842TIT\n\n\n	5340602003HyundaiTiburon4XAZ091KMHHM65D43U011209TIT\n\n\n	6275991999FordF-15014371A11FTZF1729XKA98656\n\n\n	7306382002NissanQuest6DBN4384N2ZN16T52D801581\n\n\n	8213292006ToyotaAvalon5UCT7114T1BK36B46U131426\n\n\n	9266662012NissanVersa7VQW4703N1CN7AP9CL811468TIT/SAL\n\n\n	10313052002FordExplorer6YVT7001FMZU62E12ZB57697SAL\n\n\n	11311391997HondaCivic4SBL7692HGEJ6523VH556386\n\n\n	12311352000Toyota4Runner6NZV456JT3GM84R1Y0067569SAL\n\n\n	13300971998HondaAccord7CBK5861HGCG5648WA088638SAL\n\n\n	14295742003HyundaiElantra5GPP706KMHDN45D43U606853\n\n\n	15319312001VolkswagenPassat4TJK942WVWRH63B41P125379\n\n\n	16270982002GMCSierra 150082230M22GTEC19TX21411221\n\n\n	17315592010ToyotaCamry6LVU7814T4BF3EK4AR084919\n\n\n	18348632005ToyotaCorolla6JUS2851NXBR32E85Z410212SAL\n\n\n	19284542004HyundaiSonata6UVH306KMHWF35H44A927247\n\n\n	20305552000FordMustang4TXR3771FAFP45X0YF271447\n\n\n	21332511993HondaAccord3CJG663JHMCB7650PC017679TIT\n\n\n	22325232001BuickCentury4VUY8362G4WS52J611174714\n\n\n	23341812004Mercedes-BenzC-Class5VZJ064WDBRF64JX4F451546TIT\n\n\n	24300542005HondaCivic5NFR0341HGEM21905L041030\n\n\n	25343912001HondaCivic6PIJ1292HGES16571H526181SAL\n\n\n	26343921988ChevroletS10C63404J1GCDT19Z6J2185659\n\n\n	27308132007DodgeCaliberMOBOHL11B3HB48B77D564582\n\n\n	28295882001ChryslerPT Cruiser4TKP1663C8FY4BB01T696869\n\n\n	29334532000VolkswagenJetta5NOK5003VWSC29M9YM141916TIT\n\n\n	30218512000ChevroletT75001GBJ7C1C1YJ509115\n\n\n	31330702003DodgeNeon5EOR9251B3ES56C93D204101\n\n\n	32325132005NissanAltima5RSW0631N4AL11D85N925659\n\n\n	33325592005HondaOdyssey5MHL0205FNRL38775B051232\n\n\n	34334362004ToyotaTundra7N604655TBET34194S453028\n\n\n	35327542004HondaCivicNOPLATE1HGEM22164L038690SAL\n\n\n	36253532007NissanVersa7WUM5103N1BC13E77L357639\n\n\n	37311632004FordExplorer1055UDP1FMZU62E04UC27447\n\n\n	38291081998HondaAccord3XIE7971HGCG5640WA079240\n\n\n	39310641999CadillacEscalade01GYEK13R7XR405546\n\n\n	40276231999ChevroletEXPRESS 15005RIM8351GBFG15R4X1049133\n\n\n	41293252002FordFocusDWBK373FAFP31322R141211\n\n\n	42308082001NissanAltima4TIM6451N4DL01D21C220014\n\n\n	43323862016ChevroletSonic7PGC6451G1JE5SB8G4136986\n\n\n	44\n\n\n	45334712006PONTIACG65PIU2161G2ZM151664140790\n\n\n	46311961992HondaAccord5VRF0481HGCB7651NA121593\n\n\n	47325242008KiaSedona8GME032KNDMB233186249526\n\n\n	48290271985FordRanger6T 5261F1CR10T3GUA77791\n\n\n	49\n\n\n	50\n\n\n	51\n\n\n	52\n\n\n	53\n\n\n	54121122010FordF-350 Super DutyAH88N3406/191FTWW3BR0AEA09761178209\n\n\n	55313512005Mercedes-BenzC2305KRY20910/20WDBRF40J05F622526201571\n\n\n	56289662010VolkswagenJetta6MJA69907/183VWJZ7AJ1AM090426152327\n\n\n	57305031985ChevroletCorvette7DME55601/171G1YY0789F5111318208393\n\n\n	58283172000ChevroletSilverado 15007S6076412/192GCEC19V2Y1379424274\,551\n\n\n	59134852016DodgeCharger8CHD63005/192C3CDXHGXGH27206192400\n\n\n	60324402001ToyotaHighlander8NLX73110/20JTEGD21A910019570\n\n\n	61269812007FordExplorer Spors07121t207/201FMEU53K97UA11825170395\n\n\n	62275392014NissanSentra7FPC65106/203N1AB7APXEY225786146105\n\n\n	63304222006ScionxA8MVM39205/21JTKKT604060135177214727\n\n\n\n\n\n\n\nTERMS AND CONDITIONS\n\nBuyers fees: Dealers & Dismantlers $35.00\nGeneral Public $65.00\n$200.00 cash deposit required to bid\nAll vehicles must be paid for in full CASH ONLY at the conclusion of the auction\nAll vehicles must be removed by Friday following the auction\nFor more info call direct 760-722-6686
URL:https://jbauctioneers.net/event/oceanside-auto-auction-20201201/
LOCATION:S&R Towing\, 1060 Airport Rd.\, Oceanside\, CA\, 92058\, United States
END:VEVENT
BEGIN:VEVENT
DTSTART;TZID=America/Los_Angeles:20201202T123500
DTEND;TZID=America/Los_Angeles:20201202T123500
DTSTAMP:20260425T150145
CREATED:20201123T024131Z
LAST-MODIFIED:20201127T221452Z
UID:5384-1606912500-1606912500@jbauctioneers.net
SUMMARY:OTAY MESA - AUTO AUCTION
DESCRIPTION:Attention Valued Customers\, Only Registered bidders will be allowed to attend the auction. We are taking extra precaution to keep you and our staff safe. We will provide portable bathroom & washing station\, we will all practice social distancing\, all attendees must wear protective face covering in the auction sale yard area.\n\n\nPresented By:		\n		    \nPUBLIC AUTO AUCTION\nUp to 70 Lien Sale Vehicles\nWednesday December 2nd @ 12:35pm\n(Preview 12:00pm)\n Auctions held Wednesdays\n7144 Otay Mesa Road\nPhone: 1-619-661-8355\nFor a map and directions\, click here\n\nHere are some photos of vehicles available at this week’s Western Towing Auto Auction.\nClick on any of the images below to see the larger picture.\n\n\n\nno images were found \n\n\n\n\nTo download a copy of the list in Adobe pdf format\, Click here.\n\n\n\n\n\n\n\n	NOCONTROLYEAR/MAKEMODELREF NOLS/T\n\n\n\n\n	120-322706 PONTIACG6213223LS\n\n\n	220-292905 VOLKSJETTA209698LS\n\n\n	320-301499 TOYOTASIENNA211261LS\n\n\n	419-369303 NISSAN350Z171257LS\n\n\n	516-130210 SMART CARPASSION44805LS\n\n\n	620-247301 NISSANPATHFINDER205389LS\n\n\n	720-306101 TOYOTACAMRY211834LS\n\n\n	820-309004 SATURNION212107LS\n\n\n	920-308902 SATURNSC1212106LS\n\n\n	1020-288197 TOYOTACAMRY209486LS\n\n\n	1120-320301 VOLVOV40213123LS\n\n\n	1220-320897 HONDACIVIC213406LS\n\n\n	1320-326108 HYUNDAIELANTRA213715LS\n\n\n	1420-318208 FORDTAURUS212950LS\n\n\n	1520-258708 SATURNASTRA206568LS\n\n\n	1620-274795 CHEVCAMARO208028LS\n\n\n	1720-321707 VOLVOS40213233LS\n\n\n	1820-320406 MITSUBISHILANCER213175LS\n\n\n	1920-305106 SATURNVUE211529LS\n\n\n	2020-317902 BMW530i212949LS\n\n\n	21N/A00 HONDACIVIC210955TITLE\n\n\n	2220-303302 FORDTAURUS211334LS\n\n\n	2320-316098 TOYOTACAMRY212588LS\n\n\n	2420-293103 TOYOTAECHO209811LS\n\n\n	2520-305307 CHEVCOBALT211576LS\n\n\n	2620-306401 M-BENZE430211876LS\n\n\n	2720-315801 DODGECARAVAN212140LS\n\n\n	2820-323004 VOLVOS60213294LS\n\n\n	2920-315701 VOLVOS60212333LS\n\n\n	3020-301104 TOYOTAHIGHLANDER211221LS\n\n\n	3120-311994 HYUNDAIEXCEL212211LS\n\n\n	3220-325403 TOYOTACOROLLA213571LS\n\n\n	3320-315906 ACURA3.2TL212560LS\n\n\n	3420-306803 HONDACIVIC211889LS\n\n\n	3520-196708 FORDESCAPE200093LS\n\n\n	3620-207104 FORDECONOLINE200968LS\n\n\n	3720-336889 CHEVASTROVAN214785LS\n\n\n	3820-319200 HONDAACCORD213070LS\n\n\n	3920-237505 CADILLACCTS204304LS\n\n\n	4020-316200 CHRYSLERCONCORDE212886LS\n\n\n	4120-285006 M-BENZE350208761LS\n\n\n	4220-274504 CHEVSILVERADO208152LS\n\n\n	4320-289110 DODGEAVENGER209563LS\n\n\n	4420-326705 FORDMUSTANG213576LS\n\n\n	4520-291900 FORDF150209704LS\n\n\n	4620-306001 FORDESCAPE211681LS\n\n\n	4720-239603 CADILLACCTS204517LS\n\n\n	4820-230107 TOYOTACAMRY203578LS\n\n\n	4920-325298 DODGERAM 1500213596LS\n\n\n	50N/A10 TOYOTACOROLLA8ATITLE\n\n\n	5120-299402 GMCENVOY211133LS\n\n\n	5220-313705 NISSANMURANO212717LS\n\n\n	5320-209006 FORDFUSION201370LS\n\n\n	5420-313301 HONDAACCORD212468LS\n\n\n	5520-331000 NISSANQUEST214232LS\n\n\n	5620-316806 MAZDA3212866LS\n\n\n	5720-326200 M-BENZML430213684LS\n\n\n	5820-328304 JEEPCHEROKEE213965LS\n\n\n	5919-314713 AUDIA4166150LS\n\n\n	6020-254104 MAZDARX8206164LS\n\n\n	6120-322404 HONDAODYSSEY213178LS\n\n\n	6220-328496 NISSANSENTRA213951LS\n\n\n	6320-331197 HONDAACCORD214281LS\n\n\n	6420-326303 HYUNDAISONATA213713LS\n\n\n	6520-323306 MAZDA6213462LS\n\n\n	6617-169172 VOLKSVANAGON52928TITLE\n\n\n	6720-320190 DODGERAM 3500213106LS\n\n\n	6820-321293 LINCOLNTOWNCAR213483LS\n\n\n	6920-322008 CHEVIMPALA213460LS\n\n\n	7020-321603 HONDAACCORD213470LS\n\n\n	7120-321505 CHRYSLER300213467LS\n\n\n	7220-318095 HONDACIVIC212982LS\n\n\n	7320-327202 HONDACIVIC213860LS\n\n\n	7420-313501 INFINITII30212713LS\n\n\n	7520-246801 BUICKLESABRE205369LS\n\n\n\n\n\n\n\nTERMS AND CONDITIONS\nCash Only – All Sales are Final\n$200.00 refundable cash deposit to bid\nRefunds are available anytime during auction\nAll cars must be paid for and picked up by 4pm on Thursday ( no exceptions )\nAdditional deposits are required on vehicle’s over $1000.00
URL:https://jbauctioneers.net/event/otay-mesa-auto-auction-20201202/
LOCATION:Western Towing\, 738 Heritage Rd.\, San Diego\, CA\, 92154\, United States
END:VEVENT
BEGIN:VEVENT
DTSTART;TZID=America/Los_Angeles:20201209T123500
DTEND;TZID=America/Los_Angeles:20201209T123500
DTSTAMP:20260425T150145
CREATED:20201123T024311Z
LAST-MODIFIED:20201205T004816Z
UID:5386-1607517300-1607517300@jbauctioneers.net
SUMMARY:OTAY MESA - AUTO AUCTION
DESCRIPTION:Attention Valued Customers\, Only Registered bidders will be allowed to attend the auction. We are taking extra precaution to keep you and our staff safe. We will provide portable bathroom & washing station\, we will all practice social distancing\, all attendees must wear protective face covering in the auction sale yard area.\n\n\nPresented By:		\n		    \nPUBLIC AUTO AUCTION\nUp to 70 Lien Sale Vehicles\nWednesday December 9th @ 12:35pm\n(Preview 12:00pm)\n Auctions held Wednesdays\n7144 Otay Mesa Road\nPhone: 1-619-661-8355\nFor a map and directions\, click here\n\nHere are some photos of vehicles available at this week’s Western Towing Auto Auction.\nClick on any of the images below to see the larger picture.\n\n\n\nno images were found \n\n\n\n\nTo download a copy of the list in Adobe pdf format\, Click here.\n\n\n\n\n\n\n\n	NOCONTROLYEAR/MAKEMODELREF NOLS/T\n\n\n\n\n	120-308598 GMCYUKON211949LS\n\n\n	220-336206 CHRYSLER300214650LS\n\n\n	320-316505 NISSANALTIMA212825LS\n\n\n	420-337400 SUBARULEGACY214715LS\n\n\n	520-335107 PONTIACG6214550LS\n\n\n	620-299807 KIAOPTIMA210591LS\n\n\n	720-338599 HONDACIVIC215015LS\n\n\n	820-309892 TOYOTACOROLLA212134LS\n\n\n	920-323100 MITSUBISHIDIAMANTE213322LS\n\n\n	1020-330290 VOLKSJETTA214038LS\n\n\n	1120-241903 MERCEDESE500204797LS\n\n\n	1220-323903 TOYOTASEQUOIA213266LS\n\n\n	1320-304101 FORDCRWN VIC211472LS\n\n\n	1420-314902 SATURNSL2212695LS\n\n\n	1520-208111 CHRYSLER300201259LS\n\n\n	1620-333808 AUDIA6214445LS\n\n\n	1720-328600 LEXUSRX300213967LS\n\n\n	1820-327792 OLDSMOBILECUTLASS213841LS\n\n\n	1920-325807 FORDFUSION213594LS\n\n\n	2020-309605 JEEPCHEROKEE212071LS\n\n\n	2120-272601 CHEVROLETEXPRESS VAN207803LS\n\n\n	2219-275202 FORDF250162500LS\n\n\n	2320-330700 HONDAACCORD214185LS\n\n\n	2420-315507 PONTIACG6212595LS\n\n\n	2520-323713 MITSUBISHILANCER213468LS\n\n\n	2620-347000 FORDEXCURSION215620LS\n\n\n	2720-357302 HYUNDAIACCENT216653LS\n\n\n	2820-341298 FORDEXPEDITION214872LS\n\n\n	2920-327305 MERCURYSABLE213842LS\n\n\n	3020-291699 MERCURYVILLAGER209853LS\n\n\n	3120-313906 ACURA3.2TL212719LS\n\n\n	3220-320698 FORDEXPLORER213358LS\n\n\n	3320-214207 JEEPCHEROKEE201941LS\n\n\n	3420-336104 BMW325ci214614LS\n\n\n	3520-331897 DODGEDAKOTA214292LS\n\n\n	3620-319598 FORDEXPEDITION213110LS\n\n\n	3720-346905 MAZDA6215563LS\n\n\n	3820-343207 CHRYSLERPACIFICA215258LS\n\n\n	3920-308714 NISSANSENTRA212046LS\n\n\n	4020-317803 CHEVROLETAVALANCHE212995LS\n\n\n	4120-317500 VOLVOS70212996LS\n\n\n	4220-329495 TOYOTACOROLLA214342LS\n\n\n	4320-342498 BMW328i204306LS\n\n\n	4420-327599 HONDAACCORD213823LS\n\n\n	4520-330101 CHEVROLETSILVERADO214112LS\n\n\n	4620-340802 FORDWINDSTAR215072LS\n\n\n	4720-306707 FORDEXPEDITION211849LS\n\n\n	4820-298103 MERCEDESE500210992LS\n\n\n	4920-331688 BUICKREATTA214159LS\n\n\n	5020-252305 CHEVROLETG2500 VAN205814LS\n\n\n	5120-333907 DODGECALIBER214177LS\n\n\n	5220-331904 HYUNDAIELANTRA214305LS\n\n\n	5320-331502 BUICKLESABRE214059LS\n\n\n	5420-323298 CHEVROLETS10213377LS\n\n\n	5520-345199 TOYOTAAVALON215483LS\n\n\n	5620-340606 HYUNDAIELANTRA215063LS\n\n\n	5720-320595 MERCURYCOUGAR213210LS\n\n\n	5820-329396 DODGECARAVAN214256LS\n\n\n	5920-330591 ACURALEGEND214183LS\n\n\n	6020-335998 VOLVOV70214676LS\n\n\n	6120-346300 MITSUBISHIGALANT215614LS\n\n\n	6220-340702 NISSANALTIMA215067LS\n\n\n	6320-319408 HYUNDAISONATA213101LS\n\n\n	6420-289098 DODGERAM 1500 VAN209584LS\n\n\n	6520-234502 FORDF150204107LS\n\n\n	6620-294298 FORDEXPEDITION210747LS\n\n\n	6720-343106 KIASPECTRA215237LS\n\n\n	6820-339891 OLDSMOBILEALERO214725LS\n\n\n	6920-327605 SUZUKIFORENZA213836LS\n\n\n	7020-319199 DODGECARAVAN213080LS\n\n\n\n\n\n\n\nTERMS AND CONDITIONS\nCash Only – All Sales are Final\n$200.00 refundable cash deposit to bid\nRefunds are available anytime during auction\nAll cars must be paid for and picked up by 4pm on Thursday ( no exceptions )\nAdditional deposits are required on vehicle’s over $1000.00
URL:https://jbauctioneers.net/event/otay-mesa-auto-auction-20201209/
LOCATION:Western Towing\, 738 Heritage Rd.\, San Diego\, CA\, 92154\, United States
END:VEVENT
BEGIN:VEVENT
DTSTART;TZID=America/Los_Angeles:20201215T103000
DTEND;TZID=America/Los_Angeles:20201215T143000
DTSTAMP:20260425T150145
CREATED:20201123T024859Z
LAST-MODIFIED:20201212T022444Z
UID:5397-1608028200-1608042600@jbauctioneers.net
SUMMARY:OCEANSIDE - AUTO AUCTION
DESCRIPTION:Attention Valued Customers\, Only Registered bidders will be allowed to attend the auction. We are taking extra precaution to keep you and our staff safe. We will provide portable bathroom & washing station\,  we will all practice social distancing\, all attendees must wear protective face covering in the auction sale yard area.\n\n\nPresented By:Auctions the 1st and 3rd Tuesdays of each monthPUBLIC AUTO AUCTIONUp to 80 Selected Vehicles\nTuesday December 15th @ 10:30am1060 Airport Rd. (in the Oceanside location towing yard)Oceanside 92058Phone. 760-722-6686For a map and directions\, click hereHere are some photos of vehicles available at this week’s S&R Towing auction.Vehicles posted are subject to change without notice.Click on any of the images below to see the larger picture.*** THIS WEEK’S FEATURED VEHICLES ***\n\n\n\nno images were found \n\n\n\n*** NON-RUNNERS ***\n\n\n\nno images were found \n\n\n\nTo download a copy of the list in Adobe pdf format\, Click here\n\n\n\n\n\n\n	Auction #YearMakeModelVINOdometerPlatePlate ExpTitle/Sal\n\n\n\n\n	12001ToyotaHighlanderJTEGD21A9100195708NLX731\n\n\n	22004HondaCivic1HGEM21924L034465166LBH\n\n\n	31992ToyotaPickup4TARN81A1NZ00513870093V2\n\n\n	41978Merz300D123130 12083647095SRWTitle\n\n\n	52004ChevroletImpala2G1WH52K2494196505FDH422\n\n\n	62014ToyotaCamry4T1BF1FK6EU7476708BKP970Title\n\n\n	72014HondaCivic19XFB2E53EE0566807FYH086\n\n\n	82004DodgeDurango1D4HB38NX4F1298537WJW860\n\n\n	92004FordExplorer Sport Trac1FMZU67K94UB856968SBY135Title\n\n\n	101999AudiA6 QUATTROWAUBA24B3XN0443726PLJ439\n\n\n	112005HondaCivic1HGEM211X5L0172775KZK767\n\n\n	122007MercuryMariner Hybrid4M2CU39H07KJ213875XWD104Title\n\n\n	131999ToyotaSienna4T3ZF13C5XU1002464DJY210Title\n\n\n	142005KiaSedonaKNDUP1322567460827XNC478Salvage\n\n\n	151998HondaCR-VJHLRD1844WC0586024CMR025\n\n\n	162000FordF-1501FTRX08L0YKA500576F43636\n\n\n	172002MerzCLK320WDBLJ65G02T1087045PMM251\n\n\n	182004FordMustang1FAFP406X4F1374876BCA460\n\n\n	191991HondaAccordJHMCB7654MC0106792URA301\n\n\n	201996HondaAccord1HGCD5534TA1325528MQR370\n\n\n	211985BMW3 SeriesWBAAE5404F06979973ESK864\n\n\n	221997JeepGrand Cherokee1J4GX78Y3VC7731063WJT744Salvage\n\n\n	231999MazdaProtegeJM1BJ222XX01931714HZL281\n\n\n	242002FordTaurus1FAFP55U62G1022866UVM971\n\n\n	251996ChryslerConcorde2C3HD56T8TH2137873RUW633\n\n\n	262003ToyotaECHOJTDBT1237302836898APN233\n\n\n	272003ToyotaSienna4T3ZF19C83U5300017NYS846Title\n\n\n	282004HyundaiSanta FeKM8SB12BX4U6552045JKE394\n\n\n	291993FordMustang1FACP41M2PF1021556BEJ222\n\n\n	302003FordTaurus1FAFP55203A2022257GEB403Salvage\n\n\n	311986WinnerBoatWNR8615TB6865436SN\n\n\n	322008Mazda3JM1BK34M2811234496VDM988\n\n\n	332005NissanXterra5N1AN08W45C6527516VIY528\n\n\n	342001FordTaurus1FAHP52U81G1936854WAZ240\n\n\n	352004HondaAccord1HGCM82694A0054268CZR227\n\n\n	362001HondaAccord3HGCG66531G7107964TSB589Title\n\n\n	372001DodgeRam Pickup 15003B7HC13Y01G2264737J76840\n\n\n	382000NissanMaximaJN1CA31D1YT7188286XZW665Title\n\n\n	392000AcuraTL19UUA5672YA0354988HKA391Salvage\n\n\n	402005VolkswagenJetta3VWSA69MX5M0148585MHB246Title\n\n\n	412014MitsubishiLancerJA32U2FU8EU0132087ZHZ104\n\n\n	422006BMW750LIWBAHN83536DT294626WQK772\n\n\n	432003ToyotaRAV4JTEGH20V8360129125CLN839Title\n\n\n	442007KiaSpectraKNAFE1223750089926CLY930\n\n\n	451997AcuraCL19UYA1258VL8016705ZBW720Salvage\n\n\n	462004NissanAltima1N4AL11DX4C1294085MKZ077\n\n\n	471997ToyotaTercelJT2AC52L7V02058643TPY542\n\n\n	482006AcuraTL19UUA65636A0068291491265RCB87111/17\n\n\n	492002HondaCivic1HGEM22992L0229381951387VEK6641/21Salvage\n\n\n	502008VolkswagenJetta3VWRZ81K28M0802901432056CSX5831/21\n\n\n	512007BMW3 SeriesWBAVC53587FZ779121094117FXW2186/20\n\n\n	522003HondaElement5J6YH28573L0289641627107RVY6147/19Salvage\n\n\n	532007ToyotaCamryJTNBB46K4730254431973365XFL21110/18\n\n\n	542002DodgeRam 15001D7HU18Z22S600290181164C47597L11/19\n\n\n	552002NissanSentra3N1CB51D92L5929031667137XNC5595/21\n\n\n	562003BMW5 SeriesWBADT63443CK29162NONE12/19Salvage\n\n\n	572006PontiacG61G2ZH1586641302622051197HMZ69511/19\n\n\n	582012FordFocus1FAHP3E2XCL468644111\,0546XLX17911/20\n\n\n	592007BMW335IWBAVB73527VF504091848026AQD5556/21\n\n\n	602005SciontCJTKDE1673500438601407425VBT2703/14Salvage\n\n\n	612007SaturnAura1G8ZS57NX7F2260801442876TZD5271/21Salvage\n\n\n	622004FordExplorer1FMZU62K34ZA622301760525CZT75612/17\n\n\n\n\n\n\n\nTERMS AND CONDITIONS\n\nBuyers fees: Dealers & Dismantlers $35.00\nGeneral Public $65.00\n$200.00 cash deposit required to bid\nAll vehicles must be paid for in full CASH ONLY at the conclusion of the auction\nAll vehicles must be removed by Friday following the auction\nFor more info call direct 760-722-6686
URL:https://jbauctioneers.net/event/oceanside-auto-auction-20201215/
LOCATION:S&R Towing\, 1060 Airport Rd.\, Oceanside\, CA\, 92058\, United States
END:VEVENT
BEGIN:VEVENT
DTSTART;TZID=America/Los_Angeles:20201216T123500
DTEND;TZID=America/Los_Angeles:20201216T123500
DTSTAMP:20260425T150145
CREATED:20201123T024353Z
LAST-MODIFIED:20201211T070912Z
UID:5387-1608122100-1608122100@jbauctioneers.net
SUMMARY:OTAY MESA - AUTO AUCTION
DESCRIPTION:Attention Valued Customers\, Only Registered bidders will be allowed to attend the auction. We are taking extra precaution to keep you and our staff safe. We will provide portable bathroom & washing station\, we will all practice social distancing\, all attendees must wear protective face covering in the auction sale yard area.\n\n\nPresented By:		\n		    \nPUBLIC AUTO AUCTION\nUp to 70 Lien Sale Vehicles\nWednesday December 16th @ 12:35pm\n(Preview 12:00pm)\n Auctions held Wednesdays\n7144 Otay Mesa Road\nPhone: 1-619-661-8355\nFor a map and directions\, click here\n\nHere are some photos of vehicles available at this week’s Western Towing Auto Auction.\nClick on any of the images below to see the larger picture.\n\n\n\nno images were found \n\n\n\n\nTo download a copy of the list in Adobe pdf format\, Click here.\n\n\n\n\n\n\n\n	NOCONTROLYEAR/MAKEMODELREF NOLS/T\n\n\n\n\n	120-338798 PLYMOUTHVOYAGER215097LS\n\n\n	220-308803 FORDEXPLORER212084LS\n\n\n	320-353405 PONTIACVIBE216370LS\n\n\n	420-334101 FORDEXPEDITION214446LS\n\n\n	520-335802 FORDTAURUS214616LS\n\n\n	620-280701 FORDEXCURSION208666LS\n\n\n	720-353306 NISSANALTIMA216352LS\n\n\n	820-324005 FORDMUSTANG213353LS\n\n\n	920-315003 BUICKCENTURY212435LS\n\n\n	1020-261803 MITSUBISHIECLIPSE206998LS\n\n\n	1120-265604 GMCC1500207304LS\n\n\n	1220-259491 VOLVO240DL206509LS\n\n\n	1320-321905 VOLKSWAGENBEETLE213405LS\n\n\n	1420-313893 BMW325i212718LS\n\n\n	1520-184210 MAZDA5198749LS\n\n\n	1620-274795 CHEVROLETCAMARO208028LS\n\n\n	1720-312905 HONDAACCORD212335LS\n\n\n	1820-329604 BMW330i214206LS\n\n\n	1920-297599 FORDF150210880LS\n\n\n	2020-250703 FORDEXPEDITION205604LS\n\n\n	2120-329502 BMW330ci214039LS\n\n\n	2220-232502 VOLKSWAGENBEETLE203864LS\n\n\n	2320-186394 TOYOTASHORTBREAD199129LS\n\n\n	2420-227701 FORDEXPLORER203262LS\n\n\n	2520-224899 MERCURYSABLE203164LS\n\n\n	2620-227002 VOLVOS80203238LS\n\n\n	2720-348106 CADILLACCTS215789LS\n\n\n	2820-297485 TOYOTAEXTRA CAB210594LS\n\n\n	2920-330800 LEXUSRX300214303LS\n\n\n	3020-346404 MITSUBISHILANCER215566LS\n\n\n	3120-352401 BMW740il216237LS\n\n\n	3220-342196 PONTIACGRAND AM214886LS\n\n\n	3320-343407 VOLKSWAGENJETTA GLI215212LS\n\n\n	3420-342793 HONDAACCORD211422LS\n\n\n	3520-340000 HONDACIVIC214968LS\n\n\n	3620-343795 FORDMUSTANG215277LS\n\n\n	3720-341102 MITSUBISHILANCER214863LS\n\n\n	3820-333799 HONDAPRELUDE214431LS\n\n\n	3920-338894 HONDADEL SOL215098LS\n\n\n	4020-335007 CHEVROLETCOBALT214563LS\n\n\n	4120-352396 VOLVO850216219LS\n\n\n	4220-337314 FORDFOCUS214794LS\n\n\n	4320-322101 HONDACIVIC213472LS\n\n\n	4420-329700 CHRYSLERSEBRING214222LS\n\n\n	4520-322200 HONDACIVIC213485LS\n\n\n	4620-326501 JEEPCHEROKEE213726LS\n\n\n	4720-344905 CHEVROLETIMPALA215500LS\n\n\n	4820-315195 NISSANSTANDARD212537LS\n\n\n	4920-269308 MERCEDESC300207645LS\n\n\n	5020-322605 HONDACIVIC213240LS\n\n\n	5120-309796 TOYOTAAVALON212069LS\n\n\n	5220-349600 HONDACIVIC215800LS\n\n\n	5319-295712 HONDACIVIC164278LS\n\n\n	5420-002898 TOYOTACAMRY178588LS\n\n\n	5518-258973 CHEVROLETMALIBU110094LS\n\n\n	5620-086012 FORDFUSION187592LS\n\n\n	5720-270002 LANDROVERFREELANDERS207804LS\n\n\n\n\n\n\n\nTERMS AND CONDITIONS\nCash Only – All Sales are Final\n$200.00 refundable cash deposit to bid\nRefunds are available anytime during auction\nAll cars must be paid for and picked up by 4pm on Thursday ( no exceptions )\nAdditional deposits are required on vehicle’s over $1000.00
URL:https://jbauctioneers.net/event/otay-mesa-auto-auction-20201216/
LOCATION:Western Towing\, 738 Heritage Rd.\, San Diego\, CA\, 92154\, United States
END:VEVENT
END:VCALENDAR