BEGIN:VCALENDAR
VERSION:2.0
PRODID:-//Joe Bradley Auctioneers - ECPv6.15.20//NONSGML v1.0//EN
CALSCALE:GREGORIAN
METHOD:PUBLISH
X-WR-CALNAME:Joe Bradley Auctioneers
X-ORIGINAL-URL:https://jbauctioneers.net
X-WR-CALDESC:Events for Joe Bradley Auctioneers
REFRESH-INTERVAL;VALUE=DURATION:PT1H
X-Robots-Tag:noindex
X-PUBLISHED-TTL:PT1H
BEGIN:VTIMEZONE
TZID:America/Los_Angeles
BEGIN:DAYLIGHT
TZOFFSETFROM:-0800
TZOFFSETTO:-0700
TZNAME:PDT
DTSTART:20200308T100000
END:DAYLIGHT
BEGIN:STANDARD
TZOFFSETFROM:-0700
TZOFFSETTO:-0800
TZNAME:PST
DTSTART:20201101T090000
END:STANDARD
BEGIN:DAYLIGHT
TZOFFSETFROM:-0800
TZOFFSETTO:-0700
TZNAME:PDT
DTSTART:20210314T100000
END:DAYLIGHT
BEGIN:STANDARD
TZOFFSETFROM:-0700
TZOFFSETTO:-0800
TZNAME:PST
DTSTART:20211107T090000
END:STANDARD
BEGIN:DAYLIGHT
TZOFFSETFROM:-0800
TZOFFSETTO:-0700
TZNAME:PDT
DTSTART:20220313T100000
END:DAYLIGHT
BEGIN:STANDARD
TZOFFSETFROM:-0700
TZOFFSETTO:-0800
TZNAME:PST
DTSTART:20221106T090000
END:STANDARD
END:VTIMEZONE
BEGIN:VEVENT
DTSTART;TZID=America/Los_Angeles:20210105T103000
DTEND;TZID=America/Los_Angeles:20210105T143000
DTSTAMP:20260425T132804
CREATED:20201231T171233Z
LAST-MODIFIED:20210101T160635Z
UID:5846-1609842600-1609857000@jbauctioneers.net
SUMMARY:OCEANSIDE - AUTO AUCTION
DESCRIPTION:Attention Valued Customers\, Only Registered bidders will be allowed to attend the auction. We are taking extra precaution to keep you and our staff safe. We will provide portable bathroom & washing station\,  we will all practice social distancing\, all attendees must wear protective face covering in the auction sale yard area.\n\n\nPresented By:Auctions the 1st and 3rd Tuesdays of each monthPUBLIC AUTO AUCTIONUp to 80 Selected Vehicles\nTuesday January 5th @ 10:30am1060 Airport Rd. (in the Oceanside location towing yard)Oceanside 92058Phone. 760-722-6686For a map and directions\, click hereHere are some photos of vehicles available at this week’s S&R Towing auction.Vehicles posted are subject to change without notice.Click on any of the images below to see the larger picture.*** THIS WEEK’S FEATURED VEHICLES ***\n\n\n\nno images were found \n\n\n\n*** NON-RUNNERS ***\n\n\n\nno images were found \n\n\n\nTo download a copy of the list in Adobe pdf format\, Click here\n\n\n\n\n\n\n	INVOICE #YEARMAKEMODELPLATELIC EXPVINODOMTIT / SAL\n\n\n\n\n	1345792006HondaOdyssey5RTL1165FNRL38646B016947Title\n\n\n	2355802004ToyotaCamry5GNU1914T1BF30K73U566238Title\n\n\n	3305781998HondaCivic4HNM493JHMEJ6674WS001920Sal\n\n\n	4290402000ToyotaCamry4KTG9634T1BG22K7YU665976\n\n\n	5340432005KiaSedona5NDC829KNDJD733755423563\n\n\n	6325701991AcuraLegend7HYJ129JH4KA7666MC042590Sal\n\n\n	7339002008ChevorletCobalt6KCP7181G1AL18F187112005\n\n\n	8200462007AudiA48GAP961WAUAF78E37A113874\n\n\n	9336652013FordFiesta6ZCT0353FADP4TJ5DM172669\n\n\n	10343842010CadillacSRXAU70Z613GYFNBEY3AS541375\n\n\n	11347392000MazdaProtégé5ZLX266JM1BJ222XY0211623Title\n\n\n	12338351995Toyota4Runner8JAS351JT3VN29V9S0046404\n\n\n	13350551997ChevorletS10952 6801GCCS1448V8207349J/S\n\n\n	14298982000DodgeCaravan7YIX4231B4GP44G9YB645414\n\n\n	15340722006ToyotaCorolla8NZN6301NXBR32E06Z580565\n\n\n	16357522008HyundaiSonata6UXH7255NPET46F28H371577\n\n\n	17362092011ToyotaTacoma94821P25TFNX4CN7BX002273Title\n\n\n	18340452007FordCrown Vic8MGZ7682FAFP71W47X115462\n\n\n	19326201999Toyota4Runner5BDA669JT3GM84R0X0047862Sal\n\n\n	20344302001ChevorletS106K890981GCCS19W418135764\n\n\n	21339482LexusRX300AU12P00JTJHF10U720265251\n\n\n	22341322005MitsubishiLancer5MCE768JA3AJ26E05U036625\n\n\n	23312102007JaguarX-Type6RQX035SAJWA51A68WJ29513\n\n\n	24339572005NissanSentra5KZG2553N1CB51D55L474318\n\n\n	25300542005HondaCivic5NFR0341HGEM21905L041030\n\n\n	26339852002ToyotaTacomaVPA4BJA5TEGN92N92Z026189\n\n\n	27332032010Mazda36KEU890JM1BL1H6XA1251618\n\n\n	28334242005VolvoS406TZZ931YV1MS390252066183\n\n\n	29367631992ToyotaPickup3L69692%0RN32001976\n\n\n	30367621982ToyotaPickup3W14783JT4RN38D7C0036161Title\n\n\n	31267172006ScionXA6FRS003JTKKT624060154020Title\n\n\n	32348932000MercedesSLK 230SC SLKWDBKK47F3YF163544\n\n\n	33346582003ToyotaCorolla7LOB7471NXBR32E63Z189562\n\n\n	34291522015ToyotaYaris6LZD684JTDJT923185207194\n\n\n	35334602008NissanMurano89451F75N1AZ2MG2GN101708\n\n\n	36329922007SubaruImprezaNOPLATEJF1GE61618H522161Title\n\n\n	37324282004HondaCivic8FZK053JHMEG865XNS004294\n\n\n	38381542001ChevyImpala7urs2032G1WF52E449132049\n\n\n	39376722004DodgeNeonHZR34681B3ES46C41D238521\n\n\n\n	40326011995Lexusrx 3307DUY629JTJGA31U840041803\n\n\n	41275182000DodgeRam4NWL7782B6HB21X3TK128048\n\n\n	42342011999MercedesML 4304JJB1334JGAB72E3YA152047\n\n\n	43281672004HondaCivic4HDY188JHMEJ667XXS002412\n\n\n	44372862004FordEscape1FMYU03115KA51591\n\n\n	45370012008BMW330ci5FGK066WBABW53474PL43028Title\n\n\n	46329132003HondaCR-V6D0H762JHLRE48738C053239\n\n\n	47338961994HondaOdyssey5DLE1365FNRL18083B120143\n\n\n	48370262003ChevyS1070760D1 \n1GCEC14Z4RZ194326Title\n\n\n	49340842004JeepLiberty7AWY2751J4GL58K43W554677\n\n\n	50354252000GMCEnvoy7HKB2451GKES12S046206656Title\n\n\n	51369622001FordExpedition4LKM6031FMRU1560YLB29974Title\n\n\n	52367062001FordTaurus7AJF9411FAFP52261A292272Title\n\n\n	53347181985BMW735i7YHW886WBAFH8403F0636011\n\n\n	54348602003VolkswagenGolf5UYU0289BWGK61J534020914\n\n\n	55358862001ToyotaTundra6M726145TBRT38171S164916Title\n\n\n	56287952007ScionTC8MOG094JTKDE167180222614Sal\n\n\n	57348492007AcuraTSXF592L0JH4CL96977C007923Sal\n\n\n	58296492003HyundaiAccent5bhs033KMHCG45C13U429613\n\n\n	59349052002MercedesC2406YEL231WDBRF61J62E007023\n\n\n	60327092004HondaCivicNO PLATEJHMES96604S003361Sal\n\n\n	61353331999DodgeRam Van7buc2892B4HB15X7XK531243Title\n\n\n	62372881991FordEconoline6MSR4371FDEE14H4MHA14564\n\n\n	63330512007ToyotaCamry5XFL21110/18JTNBB46K473025443197\,336\n\n\n	64339452003KiaSpectra7DME55612/20KNAFB121435299092131\,596\n\n\n	65319862004FordExplorer5FRD63812/171FMZU62K34ZA62230176\,052\n\n\n	66310652005PontiacGT5CZT75611/191G2ZH158664130262205\,119\n\n\n	67317842002HondaCivic7ABB5001/211HGEM22992L022938195\,138Sal\n\n\n	68300951997FordRanger7HMZ69510/181FTCR10A6VVB38465159\,929\n\n\n	69302122002ToyotaTacoma7VEK6646/215TESN92N32Z110180282\,490\n\n\n	70313512005MercedesC2305KRY20910/20WDBRF40J05F622526201\,571\n\n\n	71299492005NissanSentraAV20B489/213N1CB51D24L48730262\,599\n\n\n	72331201989ToyotaPickup3X039836/19JT4RN81R5K0019439299\,729\n\n\n	73318781994HondaCivic938KYV10/19JHMEH9694RS000236134\,319\n\n\n	74302201998ToyotaSienna3XHP81512/204T3ZF13C9WU015327129\,526\n\n\n	75350232006NissanAura8JBM43311/205N1AA08AX6N700226\n212\,111\n\n\n	76333112000ChevorletSuburban7CIX0278/183GNEC16TXYG215968209\,452\n\n\n	77272461993FordF-1504U933757/191FTDF15Y9PLA99379169\,729\n\n\n	78310522001DodgeRam6V55981\n21-Jan1B7HL2AX01S333466240\,139\n\n\n	79335192000FordE-1508SUP188\n6/211FMRE11LXYHA32602\n203\,347Title\n\n\n	80300172000NissanMaxima4LUJ1275/21JN1CA31D7YT722396156\,941Title\n\n\n	81346592012DodgeAvenger8ETT518\n9/201C3CDZAB0CN103324135\,513\n\n\n	82326772003HondaCivic5EWU4129/20JHMES96613S028882163\,815\n\n\n\n\n\n\n\nTERMS AND CONDITIONS\n\nBuyers fees: Dealers & Dismantlers $35.00\nGeneral Public $65.00\n$200.00 cash deposit required to bid\nAll vehicles must be paid for in full CASH ONLY at the conclusion of the auction\nAll vehicles must be removed by Friday following the auction\nFor more info call direct 760-722-6686
URL:https://jbauctioneers.net/event/oceanside-auto-auction-20210105/
LOCATION:S&R Towing\, 1060 Airport Rd.\, Oceanside\, CA\, 92058\, United States
END:VEVENT
BEGIN:VEVENT
DTSTART;TZID=America/Los_Angeles:20210113T123500
DTEND;TZID=America/Los_Angeles:20210113T123500
DTSTAMP:20260425T132804
CREATED:20210101T161953Z
LAST-MODIFIED:20210108T070423Z
UID:5884-1610541300-1610541300@jbauctioneers.net
SUMMARY:OTAY MESA - AUTO AUCTION
DESCRIPTION:Attention Valued Customers\, Only Registered bidders will be allowed to attend the auction. We are taking extra precaution to keep you and our staff safe. We will provide portable bathroom & washing station\, we will all practice social distancing\, all attendees must wear protective face covering in the auction sale yard area.\n\n\nPresented By:		\n		    \nPUBLIC AUTO AUCTION\nUp to 70 Lien Sale Vehicles\nWednesday January 13th @ 12:35pm\n(Preview 12:00pm)\n Auctions held Wednesdays\n*** NEW LOCATION ***\nOtay Valley Rd & Heritage Rd\, Chula Vista\n(Look for signs to the new facility from this location\, actual site is up the hill on 738 Heritage Rd.)\nPhone: 1-619-661-8355\nFor a map and directions\, click here\n\nHere are some photos of vehicles available at this week’s Western Towing Auto Auction.\nClick on any of the images below to see the larger picture.\n\n\n\nno images were found \n\n\n\n\nTo download a copy of the list in Adobe pdf format\, Click here.\n\n\n\n\n\n\n\n	NOCONTROLYEAR/MAKEMODELREF NOLS/T\n\n\n\n\n	120-336500 INFINITII30214736LS\n\n\n	220-353609 CHEVROLETAVEO216383LS\n\n\n	320-356299 PONTIACBONNEVILLE216486LS\n\n\n	420-336608 SCIONTC214781LS\n\n\n	520-350007 SCIONTC215924LS\n\n\n	620-351198 CADILLACSEVILLE215978LS\n\n\n	720-353503 TOYOTAMATRIX216330LS\n\n\n	820-346701 TOYOTACAMRY215565LS\n\n\n	920-326901 ACURATL 3.2213740LS\n\n\n	1020-341398 CHEVROLETBLAZER214980LS\n\n\n	1120-330905 VOLVOXC70214172LS\n\n\n	1220-349003 HONDACIVIC215894LS\n\n\n	1320-343596 JEEPCHEROKEE215214LS\n\n\n	1420-355406 FORDRANGER216434LS\n\n\n	1520-353005 NISSANSENTRA216123LS\n\n\n	1620-344512 FORDFOCUS215330LS\n\n\n	1720-330600 PONTIACGRAND PRIX214184LS\n\n\n	1820-344704 FORDFREESTAR215332LS\n\n\n	1920-339299 SAAB9-3215083LS\n\n\n	2020-356197 MITSUBISHIMIRAGE216469LS\n\n\n	2120-329290 FORDRANGER214114LS\n\n\n	2220-348804 INFINITII35215785LS\n\n\n	2320-358501 HONDAACCORD216840LS\n\n\n	2420-359704 HONDAACCORD217092LS\n\n\n	2520-357503 LEXUSES300216737LS\n\n\n	2620-361704 NISSANMAXIMA217198LS\n\n\n	2720-356400 CHEVROLETASTRO VAN216532LS\n\n\n	2820-341501 HONDAACCORD215109LS\n\n\n	2920-349707 HONDACIVIC215716LS\n\n\n	3020-346608 KIARIO215528LS\n\n\n	3120-086012 FORDFUSION187592LS\n\n\n	3220-334202 M-BENZML500214046LS\n\n\n	3320-358696 CHEVROLETBLAZER216858LS\n\n\n	3420-341699 DODGEDURANGO215117LS\n\n\n	3520-330494 GMCSIERRA214160LS\n\n\n	3620-350191 ACURALEGEND215684LS\n\n\n	3720-359903 CADILLACDEVILLE217076LS\n\n\n	3820-347203 TOYOTACAMRY215571LS\n\n\n	3920-360790 MITSUBISHIMONTERO217084LS\n\n\n	4020-345203 VOLKSWAGENJETTA215417LS\n\n\n	4120-351391 HONDAACCORD216031LS\n\n\n	4220-360197 TOYOTACAMRY217123LS\n\n\n	4320-350409 HYUNDAISONATA215718LS\n\n\n	4420-362206 HONDAACCORD217206LS\n\n\n	4520-361407 VOLKSWAGENPASSAT217130LS\n\n\n	4619-295712 HONDACIVIC164278LS\n\n\n	4720-316605 INFINITIG35212779LS\n\n\n	4820-358200 FORDFOCUS216853LS\n\n\n	4920-354005 FORDFOCUS216331LS\n\n\n	5020-301300 AUDITT COUPE211239LS\n\n\n\n\n\n\n\nTERMS AND CONDITIONS\nCash Only – All Sales are Final\n$200.00 refundable cash deposit to bid\nRefunds are available anytime during auction\nAll cars must be paid for and picked up by 4pm on Thursday ( no exceptions )\nAdditional deposits are required on vehicle’s over $1000.00
URL:https://jbauctioneers.net/event/otay-mesa-auto-auction-20210113/
LOCATION:Western Towing\, 738 Heritage Rd.\, San Diego\, CA\, 92154\, United States
END:VEVENT
BEGIN:VEVENT
DTSTART;TZID=America/Los_Angeles:20210119T103000
DTEND;TZID=America/Los_Angeles:20210119T143000
DTSTAMP:20260425T132804
CREATED:20201231T171317Z
LAST-MODIFIED:20210116T082003Z
UID:5849-1611052200-1611066600@jbauctioneers.net
SUMMARY:OCEANSIDE - AUTO AUCTION
DESCRIPTION:Attention Valued Customers\, Only Registered bidders will be allowed to attend the auction. We are taking extra precaution to keep you and our staff safe. We will provide portable bathroom & washing station\,  we will all practice social distancing\, all attendees must wear protective face covering in the auction sale yard area.\n\n\nPresented By:Auctions the 1st and 3rd Tuesdays of each monthPUBLIC AUTO AUCTIONUp to 80 Selected Vehicles\nTuesday January 19th @ 10:30am1060 Airport Rd. (in the Oceanside location towing yard)Oceanside 92058Phone. 760-722-6686For a map and directions\, click hereHere are some photos of vehicles available at this week’s S&R Towing auction.Vehicles posted are subject to change without notice.Click on any of the images below to see the larger picture.*** THIS WEEK’S FEATURED VEHICLES ***\n\n\n\nno images were found \n\n\n\n*** NON-RUNNERS ***\n\n\n\nno images were found \n\n\n\nTo download a copy of the list in Adobe pdf format\, Click here\n\n\n\n\n\n\n	INVOICE #YEARMAKEMODELPLATELIC EXPVINODOMTIT / SAL\n\n\n\n\n	1371231999ToyotaTacoma6X597434TAVL52N1XZ448882TIT\n\n\n	2325382009MINICooper8ARK594WMWMF33589TW71174\n\n\n	3331132000ToyotaCorollaDIA 2601NXBR12E9YZ314761\n\n\n	4351411994HondaAccordNONE1HGCD5654RA076315\n\n\n	5365162007FordEdgeNO PLATES2FMDK36C87BB28862\n\n\n	6363052006PontiacVibe5SWV3335Y2SL65846Z436453\n\n\n	7341002012Chrysler3006WPU3792C3CCACG8CH309416\n\n\n	8345732007NissanTitan8H979151N6AA07A27N213218TIT\n\n\n	9351942006ToyotaTundra8A599445TBRT34186S472268\n\n\n	10353992000HondaCivic8MQR6672HGEJ6677YH516388\n\n\n	11366232007ChevroletHHR7SDD7543GNDA23D17S576845TIT\n\n\n	12351102009HondaCivic7FKB15619XFA16619E031612SAL\n\n\n	13343282008NissanRogue7BET512JN8AS58T58W013415SAL\n\n\n	14360092011NissanSentra6VVX4563N1AB6AP1BL668542\n\n\n	15339242005BMW325CI6NXK504WBABD33425JY99018SAL\n\n\n	16358102009HondaCivic7XBS92319XFA16919E017106\n\n\n	17376912001ToyotaTundra7P162505TBRT34171S157308TIT\n\n\n	18346392001Mercedes-BenzCLKNO PLATEWDBLK65G61T078488\n\n\n	19363742002Land RoverDiscovery4VNG188SALTW15452A750576\n\n\n	20361492005HondaCivic8GJV3492HGES16525H501775\n\n\n	21363001994DodgeRam Pickup 15008N944513B7HC16Y1RM536768SAL\n\n\n	22359382008ScionxB6CRR052JTLKE50E381043762TIT\n\n\n	23345241997FordWindstar3TJV0522FMDA5146VBC93644\n\n\n	24352072003InfinitiM455BAP518JNKAY41E03M003832\n\n\n	25357732002CadillacEscalade4YLW8141GYEK63N72R276467TIT\n\n\n	26345502001AcuraMDX4RMG4012HNYD18801H515322\n\n\n	27343981998FordExplorer8GOG7431FMZU35P4WZA92491\n\n\n	28349122005LexusRX 3305LVV685JTJHA31U250084989\n\n\n	29355001998HondaCivic6ZDT0611HGEJ6125WL047104\n\n\n	30360811984ChevroletC/K 20 Series7K856461GCGC24M4EJ126846\n\n\n	31349212003MazdaMPVAJ991DPJM3LW28J530361515TIT\n\n\n	32340432005KiaSorento5NDC829KNDJD733755423563\n\n\n	33\n\n\n	34343952005HyundaiSanta Fe5LXP903KM8SC13E75U911550\n\n\n	35353142011InfinitiG37 Sedan8NYB014JN1CV6AP5BM303075SAL\n\n\n	36356232014DodgeChallenger7FPJ6082C3CDYAG2EH225605\n\n\n	37356171995HondaCivic4AQE053JHMEG8641SS006227\n\n\n	38341712001ToyotaCamry7PYN3914T1BG28K21U103853\n\n\n	39349602001VolvoC704SWD015YV1NC53D61J019599\n\n\n	40351992003ChevroletSilverado 15007D261302GCEC19T431290106\n\n\n	41337861976FordFairmont284WYF9K93T180334TTTTTT\n\n\n	42\n\n\n	43378032008ChevroletUplanderACA6DYA1GNDV33W68D104508TIT\n\n\n	44353531993HondaAccord3EJZ6861HGCB7693PA134867\n\n\n	4538360JB2000FordExcursion7CUB9171FMNU43S4YEB86912T.APP\n\n\n	46352772007FordFocus7SAV8271FAFP34N87W164428\n\n\n	47347002000FordExplorer4LXC5441FMZU62X1YUB19765\n\n\n	48370701994SaturnS-Series3FHT0171G8ZH5594RZ149390TIT\n\n\n	49330312002HondaCivic7AIX5451HGEM219X2L021976\n\n\n	50377022008ToyotaCorolla6CEC4131NXBR32EX8Z039400TIT\n\n\n	51349222004HondaCivic6AEJ7791HGEM21964L005907SAL\n\n\n	5237288PT1991FordE-1506MSR4371FDEE14H4MHA14564\n\n\n	53356812004SaturnVueE8843255GZCZ23D64S843187\n\n\n	54378882007NissanSentra7DMB4733N1AB61E67L623747TIT\n\n\n	55354001996AcuraIntegra8ASL632JH4DC4447TS019794\n\n\n	56363822005FordFive Hundred8HJP9411FAFP28155G110710\n\n\n	5738361JB1989OldsmobileCutlass Supreme2ROT1131G3WS14T9KD391532T.APP\n\n\n	58357602001FordEscape4SHP98004/171FMCU03101KA99961198461\n\n\n	59285032003MazdaPROTEGE55BVS60303/18JM1BJ245631150040218682\n\n\n	60334542003SaturnVue5FJW56708/195GZCZ53B63S908165284091\n\n\n	6138067BSA2000ChevroletBlazer5DEP73606/211GNDT13W6Y2394092226309TIT\n\n\n	62300172000NissanMaxima4LUJ12705/21JN1CA31D7YT722396156941TIT\n\n\n	63328491999FordExpedition4DSA03511/171FMRU1765XLA23306221613\n\n\n	64348392017NissanSentra8AYA24110/213N1AB7AP0HL71292022116\n\n\n	65324521999FordRanger53041H103/201FTYR10V6XPA62255177453SAL\n\n\n	66360062002Toyota4Runner5YWM44802/21JT3GN86R920255886160928\n\n\n	67351442005HondaAccord6TYU34802/211HGCM66355A029244162487SAL\n\n\n	68349682004GMCSierra 150059082G109/192GTEC19V741409821180722SAL\n\n\n	69306872002HondaAccord4WSR13903/20JHMCG66812C020640173554\n\n\n	70350242006SciontC8SVU99007/21JTKDE177060074242197605SAL\n\n\n	71280762005AudiA4PAPER08/19WAUJC68E45A017915220258\n\n\n	72363942009MazdaMazda6455KGIOOS1YVHP81H695M48433148763\n\n\n	73320511999ChevroletSilverado 15006C2392009/202GCEK19T6X1288656347363\n\n\n	74364612013VolkswagenPassatNX-069-617OOS1VWBP7A36DC02768093079\n\n\n	75356992010HondaInsight6JKM94407/20JHMZE2H53AS01186098452\n\n\n\n\n\n\n\nTERMS AND CONDITIONS\n\nBuyers fees: Dealers & Dismantlers $35.00\nGeneral Public $65.00\n$200.00 cash deposit required to bid\nAll vehicles must be paid for in full CASH ONLY at the conclusion of the auction\nAll vehicles must be removed by Friday following the auction\nFor more info call direct 760-722-6686
URL:https://jbauctioneers.net/event/oceanside-auto-auction-20210119/
LOCATION:S&R Towing\, 1060 Airport Rd.\, Oceanside\, CA\, 92058\, United States
END:VEVENT
BEGIN:VEVENT
DTSTART;TZID=America/Los_Angeles:20210120T123500
DTEND;TZID=America/Los_Angeles:20210120T123500
DTSTAMP:20260425T132804
CREATED:20210101T162053Z
LAST-MODIFIED:20210130T063201Z
UID:5885-1611146100-1611146100@jbauctioneers.net
SUMMARY:OTAY MESA - AUTO AUCTION
DESCRIPTION:Attention Valued Customers\, Only Registered bidders will be allowed to attend the auction. We are taking extra precaution to keep you and our staff safe. We will provide portable bathroom & washing station\, we will all practice social distancing\, all attendees must wear protective face covering in the auction sale yard area.\n\n\nPresented By:		\n		    \nPUBLIC AUTO AUCTION\nUp to 70 Lien Sale Vehicles\nWednesday February 3rd @ 12:35pm\n(Preview 12:00pm)\n Auctions held Wednesdays\n*** NEW LOCATION ***\nOtay Valley Rd & Heritage Rd\, Chula Vista\n(Look for signs to the new facility from this location\, actual site is up the hill on 738 Heritage Rd.)\nPhone: 1-619-661-8355\nFor a map and directions\, click here\n\nHere are some photos of vehicles available at this week’s Western Towing Auto Auction.\nClick on any of the images below to see the larger picture.\n\n\n\nno images were found \n\n\n\n\nTo download a copy of the list in Adobe pdf format\, Click here.\n\n\n\n\n\n\n\n	NOCONTROLYEAR/MAKEMODELREF NOLS/T\n\n\n\n\n	120-331502 BUICKLESABRE214059LS\n\n\n	220-269308 MERCEDESC300207645LS\n\n\n	320-364308 VOLKSPASSAT217384LS\n\n\n	420-358400 FORDMUSTANG216583LS\n\n\n	520-352506 DODGEMAGNUM216000LS\n\n\n	620-355506 SATURNVUE216630LS\n\n\n	720-362307 CHRYSLER300217057LS\n\n\n	821-002203 NISSANALTIMA218524LS\n\n\n	920-357998 FORDF150216860LS\n\n\n	1020-359297 HONDACIVIC216844LS\n\n\n	1121-004906 VOLVOS40218738LS\n\n\n	1221-004002 SATURNL300218950LS\n\n\n	1321-001707 SATURNVUE218512LS\n\n\n	1420-365404 DODGENEON217464LS\n\n\n	1520-339514 NISSANVERSA214835LS\n\n\n	1620-339600 CHEVROLETSUBURBAN214966LS\n\n\n	1720-350305 CHEVROLETCOLORADO215810LS\n\n\n	1820-339997 FORDE250 VAN214958LS\n\n\n	1920-355898 FORDWINDSTAR216475LS\n\n\n	2020-363906 TOYOTATACOMA217242LS\n\n\n	2120-359502 HONDACIVIC217005LS\n\n\n	2220-354396 BMW318i216353LS\n\n\n	2320-372295 GEOMETRO218043LS\n\n\n	2420-364100 HONDACIVIC217531LS\n\n\n	2520-329104 HONDAACCORD214104LS\n\n\n	2620-356903 VOLKSPASSAT216490LS\n\n\n	2721-002114 FORDFOCUS218501LS\n\n\n	2821-003210 FORDFUSION218626LS\n\n\n	2920-367601 NISSANPATHFINDER217720LS\n\n\n	3020-362505 TOYOTACOROLLA217164LS\n\n\n	3121-000598 SUBARULEGACY218175LS\n\n\n	3220-366200 HONDACIVIC217594LS\n\n\n	3320-328110 VOLKSGTI213935LS\n\n\n	3420-359101 CHEVROLETTAHOE216995LS\n\n\n	3520-372108 PONTIACG6218009LS\n\n\n	3620-371595 CHEVROLETLUMINA218207LS\n\n\n	3720-348798 BMW528i215513LS\n\n\n	3820-365303 FORDWINDSTAR217433LS\n\n\n	3920-349999 NISSANMAXIMA215725LS\n\n\n	4021-003101 FORDTAURUS218644LS\n\n\n	4120-365296 BUICKRIVIERA217416LS\n\n\n	4220-321301 TOYOTASIENNA213347LS\n\n\n	4320-371402 CHEVROLETAVALANCHE218066LS\n\n\n	4421-002098 HONDAPRELUDE218504LS\n\n\n	4520-362402 FORDF150217072LS\n\n\n	4620-258708 SATURNASTRA206568LS\n\n\n	4720-365801 TOYOTACOROLLA217548LS\n\n\n	4820-372502 FORDTAURUS218147LS\n\n\n	4921-004105 SAAB9-3218827LS\n\n\n	50N/A98 TOYOTA4RUNNER219882LS\n\n\n	51N/A07 KIAOPTIMA210951LS\n\n\n	52N/A01 MERCEDESS500N/AAPP FOR DUP\n\n\n	53N/A97 HONDACIVICN/AAPP FOR DUP\n\n\n	54N/A08 BMW650iN/ALS\n\n\n\n\n\n\n\nTERMS AND CONDITIONS\nCash Only – All Sales are Final\n$200.00 refundable cash deposit to bid\nRefunds are available anytime during auction\nAll cars must be paid for and picked up by 4pm on Thursday ( no exceptions )\nAdditional deposits are required on vehicle’s over $1000.00
URL:https://jbauctioneers.net/event/otay-mesa-auto-auction-20210120/
LOCATION:Western Towing\, 738 Heritage Rd.\, San Diego\, CA\, 92154\, United States
END:VEVENT
END:VCALENDAR