BEGIN:VCALENDAR
VERSION:2.0
PRODID:-//Joe Bradley Auctioneers - ECPv6.15.20//NONSGML v1.0//EN
CALSCALE:GREGORIAN
METHOD:PUBLISH
X-WR-CALNAME:Joe Bradley Auctioneers
X-ORIGINAL-URL:https://jbauctioneers.net
X-WR-CALDESC:Events for Joe Bradley Auctioneers
REFRESH-INTERVAL;VALUE=DURATION:PT1H
X-Robots-Tag:noindex
X-PUBLISHED-TTL:PT1H
BEGIN:VTIMEZONE
TZID:America/Los_Angeles
BEGIN:DAYLIGHT
TZOFFSETFROM:-0800
TZOFFSETTO:-0700
TZNAME:PDT
DTSTART:20200308T100000
END:DAYLIGHT
BEGIN:STANDARD
TZOFFSETFROM:-0700
TZOFFSETTO:-0800
TZNAME:PST
DTSTART:20201101T090000
END:STANDARD
BEGIN:DAYLIGHT
TZOFFSETFROM:-0800
TZOFFSETTO:-0700
TZNAME:PDT
DTSTART:20210314T100000
END:DAYLIGHT
BEGIN:STANDARD
TZOFFSETFROM:-0700
TZOFFSETTO:-0800
TZNAME:PST
DTSTART:20211107T090000
END:STANDARD
BEGIN:DAYLIGHT
TZOFFSETFROM:-0800
TZOFFSETTO:-0700
TZNAME:PDT
DTSTART:20220313T100000
END:DAYLIGHT
BEGIN:STANDARD
TZOFFSETFROM:-0700
TZOFFSETTO:-0800
TZNAME:PST
DTSTART:20221106T090000
END:STANDARD
END:VTIMEZONE
BEGIN:VEVENT
DTSTART;TZID=America/Los_Angeles:20210202T103000
DTEND;TZID=America/Los_Angeles:20210202T143000
DTSTAMP:20260425T115309
CREATED:20210130T061229Z
LAST-MODIFIED:20210130T061229Z
UID:6246-1612261800-1612276200@jbauctioneers.net
SUMMARY:OCEANSIDE - AUTO AUCTION
DESCRIPTION:Attention Valued Customers\, Only Registered bidders will be allowed to attend the auction. We are taking extra precaution to keep you and our staff safe. We will provide portable bathroom & washing station\,  we will all practice social distancing\, all attendees must wear protective face covering in the auction sale yard area.\n\n\nPresented By:Auctions the 1st and 3rd Tuesdays of each monthPUBLIC AUTO AUCTIONUp to 80 Selected Vehicles\nTuesday February 2nd @ 10:30am1060 Airport Rd. (in the Oceanside location towing yard)Oceanside 92058Phone. 760-722-6686For a map and directions\, click hereHere are some photos of vehicles available at this week’s S&R Towing auction.Vehicles posted are subject to change without notice.Click on any of the images below to see the larger picture.*** THIS WEEK’S FEATURED VEHICLES ***\n\n\n\nno images were found \n\n\n\n*** NON-RUNNERS ***\n\n\n\nno images were found \n\n\n\nTo download a copy of the list in Adobe pdf format\, Click here\n\n\n\n\n\n\n	INVOICE #YEARMAKEMODELPLATELIC EXPVINODOMTIT / SAL\n\n\n\n\n	1372672009HondaCivic8JSZ9762HGFA16539H307589T/S\n\n\n	2363492003InfinitiG355DDL835JNKCV51E23M305954\n\n\n	3335661999LincolnNavigator8GCJ9905LMRU27L9XLJ09677\n\n\n	4369842013PlymouthReliant6AUY343VP23G4B401408\n\n\n	5366262001PontiacSunfire8JDR1291G2JB524117282576\n\n\n	6364372001HondaCivic6YWH526JHMES16541S002444\n\n\n	7377122002FordExplorer Sport5AEZ6471FMYU60E62UD22042T\n\n\n	8331012009BMW528i6GIV357WBANU53529C121331\n\n\n	9373951999Toyota4Runner5los165JT3GN86R8X0125637T\n\n\n	10388842004AcuraRSX5HGY933JH4DC54834S003991T\n\n\n	11363692000HondaAccord4HYA9881HGCG3273YA004376T\n\n\n	12376062001FordMustang7HKU7381FAFP40461F149551T\n\n\n	13397611990FordF-35037141J12FDKF37M5LCB01609\n\n\n	14294092003FordExpedition7XAJ4081FMPU16L03LC09182\n\n\n	15368702004ChevroletSilverado 15007H549102GCEC19V741156631\n\n\n	16365302008ChryslerSebring7ZWU4361C3LC55R28N157069\n\n\n	17371652016FordFocus8HNH5301FADP3F27GL405634\n\n\n	18372452005ToyotaCamry8BKL7774T1BE32K55U517431\n\n\n	19372012000FordTaurus7PYJ9971FAFP5226YG147398\n\n\n	20371622002ChevroletS106Y965141GCCS145828257043\n\n\n	21373561999AcuraCL4GGV13519UYA2259XL008404T\n\n\n	22369101990Volvo2402VSY389YV1AA8844L1398202\n\n\n	23318461997GeoMetro5BFD1402C1MR5292V6725255\n\n\n	24344802003VolkswagenPassat5HML697WVWVD63B33E461680\n\n\n	25302441996ToyotaTacoma5H052274TANL42N5TZ139680T\n\n\n	26363192004NissanXterra5HYM9825N1ED28T24C632194\n\n\n	27370272003HondaAccord8STX2061HGCM665X3A092130T\n\n\n	28324652006HyundaiElantra7SDG810KMHDN56D46U187993\n\n\n	29363382000HondaCivic7DWP0561HGEJ8241YL061936S\n\n\n	30366331998SaturnS-Series5FTA7541G8ZK5270WZ179681\n\n\n	31348592004SaturnVue9YD5335GZCZ23D54S867254\n\n\n	32326321992FordRangerNO PLATE1FTCR10U5NTA02084\n\n\n	33353101999HondaCivic5RXF6462HGEJ8645XH535831\n\n\n	34305822005DodgeNeonLALIN871B3ES56C35D203402\n\n\n	35367641962VolkswagenMANXFWV3464427583T\n\n\n	36362192013VolkswagenCCSALQASWVWBP7AN4DE554531\n\n\n	37382852003AcuraTL8STX43719UUA56813A023361T\n\n\n	38370312001MazdaProtege4PPB918JM1BJ226X10403603\n\n\n	39357882000BMW528IT8TCK325WBADM6349YGU23358\n\n\n	40348772004ToyotaCorolla8NMG8631NXBR32E94Z246161\n\n\n	41362211996ChevroletC/K 1500 Series7W848381GCEC19R6TE259734\n\n\n	42329711999FordExpeditionNO PLATE1FMPU18L6XLB02723\n\n\n	43275381994Toyota4Runner5AOA089JT3VN29V1R0034550\n\n\n	44338051999FordWindstar5CXB3622FMZA5140XBA21955\n\n\n	45362561997HondaCivic6VYH6451HGEJ6227VL111530S\n\n\n	46374522002ToyotaTundra81323U15TBRT34142S260414T\n\n\n	47353781995LincolnTown Car3MFU2091LNLM82W2SY753126\n\n\n	48372241999ChryslerConcorde4CFT2142C3HD46J2XH553726\n\n\n	49371942008FordRanger8N802891FTYR14EX8PA62514\n\n\n	50357642000BMW323I6ZKP792WBAAR3343YJM01961T\n\n\n	51364362000VolkswagenPassat4NDE74808/20WVWND23B5YE336020156642\n\n\n	52389042004FordExplorer8MBL93506/211FMZU63W04ZA84574147531T\n\n\n	53319281994Toyota4Runner3GAC45810/18JT3VN29V4R0021906213825\n\n\n	54369171987CHRYSLERFIFTH AVE2EIK76103/191C3BF66P2HX77111449119\n\n\n	55320511999ChevroletSilverado 15006C2392009/202GCEK19T6X1288656347363\n\n\n	56\n\n\n	57383092003ChevroletTrailBlazer5BBY63102/211GNES16S136181276204720T\n\n\n	58343971998HondaCivic4BIT30304/201HGEJ8243WL031768167249\n\n\n	59338481992ToyotaPickup4M2770503/20JT4RN93P0N5056276149718\n\n\n	60313602008FordFusionDP291SW11/193FAHP07Z68R115125189733\n\n\n	61369052012NissanVersa8DXM32204/203N1CN7AP0CL901642134707\n\n\n	62364652000DodgeDurango7HF13309/161B4HR28Z3YF107346203703\n\n\n	63350342002VolkswagenBeetle7ZWR52905/203VWCD21C62M449895\n\n\n	64369832005Nissan350Z6TYL39606/19JN1AZ34E05M654548124384\n\n\n	65327921999ToyotaSienna4FRP02005/194T3ZF13CXXU155145155101\n\n\n	66361502005FordFreestar7AIE50906/192FMZA57675BA74495132466\n\n\n\n\n\n\n\nTERMS AND CONDITIONS\n\nBuyers fees: Dealers & Dismantlers $35.00\nGeneral Public $65.00\n$200.00 cash deposit required to bid\nAll vehicles must be paid for in full CASH ONLY at the conclusion of the auction\nAll vehicles must be removed by Friday following the auction\nFor more info call direct 760-722-6686
URL:https://jbauctioneers.net/event/oceanside-auto-auction-20210202/
LOCATION:S&R Towing\, 1060 Airport Rd.\, Oceanside\, CA\, 92058\, United States
END:VEVENT
BEGIN:VEVENT
DTSTART;TZID=America/Los_Angeles:20210203T123500
DTEND;TZID=America/Los_Angeles:20210203T123500
DTSTAMP:20260425T115309
CREATED:20210101T162158Z
LAST-MODIFIED:20210130T063148Z
UID:5886-1612355700-1612355700@jbauctioneers.net
SUMMARY:OTAY MESA - AUTO AUCTION
DESCRIPTION:Attention Valued Customers\, Only Registered bidders will be allowed to attend the auction. We are taking extra precaution to keep you and our staff safe. We will provide portable bathroom & washing station\, we will all practice social distancing\, all attendees must wear protective face covering in the auction sale yard area.\n\n\nPresented By:		\n		    \nPUBLIC AUTO AUCTION\nUp to 70 Lien Sale Vehicles\nWednesday February 3rd @ 12:35pm\n(Preview 12:00pm)\n Auctions held Wednesdays\n*** NEW LOCATION ***\nOtay Valley Rd & Heritage Rd\, Chula Vista\n(Look for signs to the new facility from this location\, actual site is up the hill on 738 Heritage Rd.)\nPhone: 1-619-661-8355\nFor a map and directions\, click here\n\nHere are some photos of vehicles available at this week’s Western Towing Auto Auction.\nClick on any of the images below to see the larger picture.\n\n\n\nno images were found \n\n\n\n\nTo download a copy of the list in Adobe pdf format\, Click here.\n\n\n\n\n\n\n\n	NOCONTROLYEAR/MAKEMODELREF NOLS/T\n\n\n\n\n	120-331502 BUICKLESABRE214059LS\n\n\n	220-269308 MERCEDESC300207645LS\n\n\n	320-364308 VOLKSPASSAT217384LS\n\n\n	420-358400 FORDMUSTANG216583LS\n\n\n	520-352506 DODGEMAGNUM216000LS\n\n\n	620-355506 SATURNVUE216630LS\n\n\n	720-362307 CHRYSLER300217057LS\n\n\n	821-002203 NISSANALTIMA218524LS\n\n\n	920-357998 FORDF150216860LS\n\n\n	1020-359297 HONDACIVIC216844LS\n\n\n	1121-004906 VOLVOS40218738LS\n\n\n	1221-004002 SATURNL300218950LS\n\n\n	1321-001707 SATURNVUE218512LS\n\n\n	1420-365404 DODGENEON217464LS\n\n\n	1520-339514 NISSANVERSA214835LS\n\n\n	1620-339600 CHEVROLETSUBURBAN214966LS\n\n\n	1720-350305 CHEVROLETCOLORADO215810LS\n\n\n	1820-339997 FORDE250 VAN214958LS\n\n\n	1920-355898 FORDWINDSTAR216475LS\n\n\n	2020-363906 TOYOTATACOMA217242LS\n\n\n	2120-359502 HONDACIVIC217005LS\n\n\n	2220-354396 BMW318i216353LS\n\n\n	2320-372295 GEOMETRO218043LS\n\n\n	2420-364100 HONDACIVIC217531LS\n\n\n	2520-329104 HONDAACCORD214104LS\n\n\n	2620-356903 VOLKSPASSAT216490LS\n\n\n	2721-002114 FORDFOCUS218501LS\n\n\n	2821-003210 FORDFUSION218626LS\n\n\n	2920-367601 NISSANPATHFINDER217720LS\n\n\n	3020-362505 TOYOTACOROLLA217164LS\n\n\n	3121-000598 SUBARULEGACY218175LS\n\n\n	3220-366200 HONDACIVIC217594LS\n\n\n	3320-328110 VOLKSGTI213935LS\n\n\n	3420-359101 CHEVROLETTAHOE216995LS\n\n\n	3520-372108 PONTIACG6218009LS\n\n\n	3620-371595 CHEVROLETLUMINA218207LS\n\n\n	3720-348798 BMW528i215513LS\n\n\n	3820-365303 FORDWINDSTAR217433LS\n\n\n	3920-349999 NISSANMAXIMA215725LS\n\n\n	4021-003101 FORDTAURUS218644LS\n\n\n	4120-365296 BUICKRIVIERA217416LS\n\n\n	4220-321301 TOYOTASIENNA213347LS\n\n\n	4320-371402 CHEVROLETAVALANCHE218066LS\n\n\n	4421-002098 HONDAPRELUDE218504LS\n\n\n	4520-362402 FORDF150217072LS\n\n\n	4620-258708 SATURNASTRA206568LS\n\n\n	4720-365801 TOYOTACOROLLA217548LS\n\n\n	4820-372502 FORDTAURUS218147LS\n\n\n	4921-004105 SAAB9-3218827LS\n\n\n	50N/A98 TOYOTA4RUNNER219882LS\n\n\n	51N/A07 KIAOPTIMA210951LS\n\n\n	52N/A01 MERCEDESS500N/AAPP FOR DUP\n\n\n	53N/A97 HONDACIVICN/AAPP FOR DUP\n\n\n	54N/A08 BMW650iN/ALS\n\n\n\n\n\n\n\nTERMS AND CONDITIONS\nCash Only – All Sales are Final\n$200.00 refundable cash deposit to bid\nRefunds are available anytime during auction\nAll cars must be paid for and picked up by 4pm on Thursday ( no exceptions )\nAdditional deposits are required on vehicle’s over $1000.00
URL:https://jbauctioneers.net/event/otay-mesa-auto-auction-20210203/
LOCATION:Western Towing\, 738 Heritage Rd.\, San Diego\, CA\, 92154\, United States
END:VEVENT
BEGIN:VEVENT
DTSTART;TZID=America/Los_Angeles:20210210T103000
DTEND;TZID=America/Los_Angeles:20210210T123000
DTSTAMP:20260425T115309
CREATED:20210122T151711Z
LAST-MODIFIED:20210124T074155Z
UID:6088-1612953000-1612960200@jbauctioneers.net
SUMMARY:BUSINESS LIQUIDATION
DESCRIPTION:BUSINESS LIQUIDATION – AUTO PARTS BUSINESS OPPORTUNITY\nThis is a live auction\, person with their hand up last wins.  \nWednesday February 10th @ 10:30am979-A / 979-B HERITAGE RD. SAN DIEGO\, CA. 92154For a map and directions\, click hereIncluding but not limited too: 1000’s of Automotive parts\, Bumpers\, Doors\, Head & Taillights\, Fenders\, Pallet Racking and Miscellaneous items.\nHere are some photos of items available at this auction.Click on any of the images below to see the larger picture.\n\n\n\nno images were found \n\n\n\n\nTERMS AND CONDITIONS\n\n$1000 refundable deposit to bid\nWalk-in and Preview 9:00 am day of Auction\nSold in Bulk or Bulk lots\, starting bid $2\,500.\n10% Buyers Premium will be added to the final bid price.\nALL ITEMS MUST BE PAID IN FULL AT THE CONCLUSION OF THE AUCTION CASH ONLY.
URL:https://jbauctioneers.net/event/business-liquidation-20210210/
LOCATION:979 Heritage Rd.\, 979 HERITAGE RD.\, San Diego\, CA\, 92154\, United States
END:VEVENT
BEGIN:VEVENT
DTSTART;TZID=America/Los_Angeles:20210210T123500
DTEND;TZID=America/Los_Angeles:20210210T123500
DTSTAMP:20260425T115309
CREATED:20210129T160626Z
LAST-MODIFIED:20210206T071756Z
UID:6166-1612960500-1612960500@jbauctioneers.net
SUMMARY:OTAY MESA - AUTO AUCTION
DESCRIPTION:Attention Valued Customers\, Only Registered bidders will be allowed to attend the auction. We are taking extra precaution to keep you and our staff safe. We will provide portable bathroom & washing station\, we will all practice social distancing\, all attendees must wear protective face covering in the auction sale yard area.\n\n\nPresented By:		\n		    \nPUBLIC AUTO AUCTION\nUp to 70 Lien Sale Vehicles\nWednesday February 10th @ 12:35pm\n(Preview 12:00pm)\n Auctions held Wednesdays\n*** NEW LOCATION ***\nOtay Valley Rd & Heritage Rd\, Chula Vista\n(Look for signs to the new facility from this location\, actual site is up the hill on 738 Heritage Rd.)\nPhone: 1-619-661-8355\nFor a map and directions\, click here\n\nHere are some photos of vehicles available at this week’s Western Towing Auto Auction.\nClick on any of the images below to see the larger picture.\n\n\n\nno images were found \n\n\n\n\nTo download a copy of the list in Adobe pdf format\, Click here.\n\n\n\n\n\n\n\n	NOCONTROLYEAR/MAKEMODELREF NOLS/T\n\n\n\n\n	121-009403 MERCEDESE320219279LS\n\n\n	220-334498 LINCOLNMARK 8214556LS\n\n\n	321-002304 MITSUBISHIECLIPSE218536LS\n\n\n	421-016199 MERCURYMYSTIQUE220105LS\n\n\n	521-003698 FORDMUSTANG218602LS\n\n\n	620-330302 CHEVROLETSUBURBAN214149LS\n\n\n	721-009504 CHEVROLETSILVERADO219284LS\n\n\n	821-002702 VOLKSWAGENGOLF218576LS\n\n\n	921-005694 MAZDAMPV218721LS\n\n\n	1020-322306 JEEPCHEROKEE213489LS\n\n\n	1121-014096 MERCURYCOUGAR XR7219920LS\n\n\n	1220-372391 TOYOTA4RUNNER218070LS\n\n\n	1321-014399 MERCEDESE430219868LS\n\n\n	1421-007799 LEXUSRX300219066LS\n\n\n	1521-014604 OLDSMOBILEALERO219990LS\n\n\n	1621-002900 ACURA3.2TL218633LS\n\n\n	1719-4143A98 CHEVOLETTAHOE175614LS\n\n\n	1821-014994 NISSANSENTRA219992LS\n\n\n	1921-010907 SATURNAURA219475LS\n\n\n	2021-008598 TOYOTACAMRY219308LS\n\n\n	2121-001307 SATURNION218411LS\n\n\n	2220-301602 BMW525i211309LS\n\n\n	2320-347308 SATURNAURU215575LS\n\n\n	2421-002600 MITSUBISHIMIRAGE218639LS\n\n\n	2521-004602 HONDAACCORD218897LS\n\n\n	2621-018305 HONDACIVIC220280LS\n\n\n	2720-360910 NISSANALTIMA217098LS\n\n\n	2820-283805 NISSANSENTRA208935LS\n\n\n	2920-243806 PONTIACSOLSTICE205000LS\n\n\n	3020-181807 DODGENITRO198401LS\n\n\n	3121-009201 MITSUBISHIMIRAGE219225LS\n\n\n	3221-006105 TOYOTACOROLLA218910LS\n\n\n	3320-349206 FORDEXPLORER215691LS\n\n\n	3420-356899 VOLVOV70216713LS\n\n\n	3520-368108 AUDIA4217698LS\n\n\n	3621-013691 MAZDA626219850LS\n\n\n	3720-169309 BMW328i197186LS\n\n\n	3821-008201 HONDAACCORD219257LS\n\n\n	3921-012888 CHEVROLETCAMARO219761LS\n\n\n	4021-018497 NISSANQUEST220290LS\n\n\n	4121-010505 FORDF150219177LS\n\n\n	4220-332286 GMCC1500214091LS\n\n\n	4320-341902 CHEVROLETSILVERADO214821LS\n\n\n	4421-006299 HONDAACCORD218927LS\n\n\n	4520-342803 CHEVROLETTRAILBLAZER215099LS\n\n\n	4621-014298 TOYOTA4RUNNER219763LS\n\n\n	4720-324214 CHRYSLER300213249LS\n\n\n	4820-343092 MERCEDES300SE215216LS\n\n\n	4920-348500 GMCYUKON215902LS\n\n\n	50N/A01 CHEVROLETSUBURBAN223479TITLE\n\n\n\n\n\n\n\nTERMS AND CONDITIONS\nCash Only – All Sales are Final\n$200.00 refundable cash deposit to bid\nRefunds are available anytime during auction\nAll cars must be paid for and picked up by 4pm on Thursday ( no exceptions )\nAdditional deposits are required on vehicle’s over $1000.00
URL:https://jbauctioneers.net/event/otay-mesa-auto-auction-20210210/
LOCATION:Western Towing\, 738 Heritage Rd.\, San Diego\, CA\, 92154\, United States
END:VEVENT
BEGIN:VEVENT
DTSTART;TZID=America/Los_Angeles:20210216T103000
DTEND;TZID=America/Los_Angeles:20210216T143000
DTSTAMP:20260425T115309
CREATED:20210130T061405Z
LAST-MODIFIED:20210213T050451Z
UID:6248-1613471400-1613485800@jbauctioneers.net
SUMMARY:OCEANSIDE - AUTO AUCTION
DESCRIPTION:Attention Valued Customers\, Only Registered bidders will be allowed to attend the auction. We are taking extra precaution to keep you and our staff safe. We will provide portable bathroom & washing station\,  we will all practice social distancing\, all attendees must wear protective face covering in the auction sale yard area.\n\n\nPresented By:Auctions the 1st and 3rd Tuesdays of each monthPUBLIC AUTO AUCTIONUp to 80 Selected Vehicles\nTuesday February 2nd @ 10:30am1060 Airport Rd. (in the Oceanside location towing yard)Oceanside 92058Phone. 760-722-6686For a map and directions\, click hereHere are some photos of vehicles available at this week’s S&R Towing auction.Vehicles posted are subject to change without notice.Click on any of the images below to see the larger picture.*** THIS WEEK’S FEATURED VEHICLES ***\n\n\n\nno images were found \n\n\n\n*** NON-RUNNERS ***\n\n\n\nno images were found \n\n\n\nTo download a copy of the list in Adobe pdf format\, Click here\n\n\n\n\n\n\n	INVOICE #YEARMAKEMODELPLATELIC EXPVINODOMTIT / SAL\n\n\n\n\n	1\n\n\n	2379382006NissanSentra8NMG5273N1CB51D66L544121\n\n\n	3365602006LincolnNavigatorOOOOOOO5LMFU275X6LJ28869JUNK\n\n\n	4339351997ChevroletTahoe3VCP8071GNEK13R4VJ383871\n\n\n	5379232002HondaAccord4WXC9851HGCG16562A002254\n\n\n	6381442004HondaCivic5JIY7542HGES16594H554777\n\n\n	7374062004ToyotaTacoma21655C15TESM92N14Z435853\n\n\n	8342912010ChryslerSebringEGE40941C3CC4FB2AN170826SAL\n\n\n	9399711989ToyotaCressida6PRD734JT2MX83E8K0032970\n\n\n	10371022002HondaAccord5NKA3221HGCG56612A001917\n\n\n	11379332005HondaAccord5LJM383JHMCM56405C006250\n\n\n	12250791993ChevroletS-10NONE1GCCS14R5P0180057\n\n\n	13363382000HondaCivic7DWP0561HGEJ8241YL061936SAL\n\n\n	14405301999ToyotaCorolla7FIT9771NXBR12E0XZ264217TIT\n\n\n	15337002006DodgeRam Pickup 15008A562841D7HA18N96J115856\n\n\n	16369532000VolvoS704NDR108YV1LS61J1Y2651763\n\n\n	17365001997HondaCivic6SKZ1432HGEJ667XVH558565\n\n\n	18349832003HONDACIVIC8LLZ3401HGEM21543L062943\n\n\n	19368682005HondaAccord5PFC1821HGCM56135A160343SAL\n\n\n	20387832002HondaAccord8TTS393JHMCG66872C015748TIT\n\n\n	21382942007FordFocus8NZR0861FAFP34N57W178349\n\n\n	22390091996Toyota4Runner3PZX920JT3GM84R6T0001768TIT\n\n\n	23379782007LexusRX3505YCA597JTJGK31U470009559TIT\n\n\n	24406732001HondaCR-V4UBW182JHLRD28491S014695TIT\n\n\n	25399372008NissanAltima6CSK9011N4AL21E58N437949TIT\n\n\n	26378862000NissanMaxima6KJL254JN1CA31D6YT550278\n\n\n	27381361999ToyotaCamry4EMU6164T1BG22KXXU477273\n\n\n	28372261995ToyotaAvalonBAM08894T1GB11E3SU001398\n\n\n	29377832004ChevroletMalibu680 SZT1G1ND52F94M621883\n\n\n	30347112002ToyotaCelicaJMK1890JTDDR32T320120488\n\n\n	31340702004Toyotacamry7VFG6164T1BE32K44U890748\n\n\n	32369192009ChevroletCobalt63KV5761G1AT58H497235534\n\n\n	33\n\n\n	34\n\n\n	35\n\n\n	36409612006NISSANARMADA8NHY82910/205N1AA08A36N743841\n\n\n	37380952003HONDAACCORD5BSF37503/07JHMCM56693C067403\n\n\n	38364552002DODGEDURANGO6PFD48009/201B4HR48Z32F204484\n\n\n	39294862003TOYOTA4RUNNER4YOF96710/17JTEZT17R830001132\n\n\n	40377732003HONDAACCORD5DNV77208/21JHMCM56673C083079\n\n\n	41\n\n\n	42\n\n\n	43378722001TOYOTATACOMA6P9441005/165TEGN92NX1Z829690\n\n\n	44380082012FORDFOCUSPJD1684OFS1FAHP3F20CL387523\n\n\n	45377222002NISSANPATHFINDER7WJZ45508/20JN8DR09X62W666937\n\n\n	46372051986JEEPCOMANCHE6A7944510/211JCWL6591GT059237\n\n\n	47380902009HYUNDAIELANTRA7HKB38301/21KMHDU46D99U815371\n\n\n\n\n\n\n\nTERMS AND CONDITIONS\n\nBuyers fees: Dealers & Dismantlers $35.00\nGeneral Public $65.00\n$200.00 cash deposit required to bid\nAll vehicles must be paid for in full CASH ONLY at the conclusion of the auction\nAll vehicles must be removed by Friday following the auction\nFor more info call direct 760-722-6686
URL:https://jbauctioneers.net/event/oceanside-auto-auction-20210216/
LOCATION:S&R Towing\, 1060 Airport Rd.\, Oceanside\, CA\, 92058\, United States
END:VEVENT
BEGIN:VEVENT
DTSTART;TZID=America/Los_Angeles:20210217T123500
DTEND;TZID=America/Los_Angeles:20210217T123500
DTSTAMP:20260425T115309
CREATED:20210129T160808Z
LAST-MODIFIED:20210212T152138Z
UID:6168-1613565300-1613565300@jbauctioneers.net
SUMMARY:OTAY MESA - AUTO AUCTION
DESCRIPTION:Attention Valued Customers\, Only Registered bidders will be allowed to attend the auction. We are taking extra precaution to keep you and our staff safe. We will provide portable bathroom & washing station\, we will all practice social distancing\, all attendees must wear protective face covering in the auction sale yard area.\n\n\nPresented By:		\n		    \nPUBLIC AUTO AUCTION\nUp to 70 Lien Sale Vehicles\nWednesday February 17th @ 12:35pm\n(Preview 12:00pm)\n Auctions held Wednesdays\n*** NEW LOCATION ***\nOtay Valley Rd & Heritage Rd\, Chula Vista\n(Look for signs to the new facility from this location\, actual site is up the hill on 738 Heritage Rd.)\nPhone: 1-619-661-8355\nFor a map and directions\, click here\n\nHere are some photos of vehicles available at this week’s Western Towing Auto Auction.\nClick on any of the images below to see the larger picture.\n\n\n\nno images were found \n\n\n\n\nTo download a copy of the list in Adobe pdf format\, Click here.\n\n\n\n\n\n\n\n	NOCONTROLYEAR/MAKEMODELREF NOLS/T\n\n\n\n\n	120-334307 HYUNDAIAZERA214422LS\n\n\n	221-022405 HONDACIVIC220940LS\n\n\n	321-022999 HONDAACCORD220859LS\n\n\n	421-005403 ACURA3.2CL218819LS\n\n\n	521-023206 NISSANALTIMA221033LS\n\n\n	620-366895 TOYOTA4RUNNER217633LS\n\n\n	721-010204 LINCOLNLS219413LS\n\n\n	821-011703 HONDACIVIC219486LS\n\n\n	921-013702 MERCEDESML320219872LS\n\n\n	1021-014103 MERCEDESE320219916LS\n\n\n	1121-018201 TOYOTA4RUNNER220137LS\n\n\n	1221-004398 JEEPCHEROKEE218712LS\n\n\n	1321-019993 TOYOTACAMRY220607LS\n\n\n	1421-015495 HONDADEL SOL219991LS\n\n\n	1521-012402 HYUNDAISONATA219650LS\n\n\n	1621-017400 DODGEGRD CARAVAN220182LS\n\n\n	1721-008400 TOYOTACAMRY219285LS\n\n\n	1821-011008 BMW328i219478LS\n\n\n	1921-011101 BUICKLESABRE219662LS\n\n\n	2021-020703 MITSUBISHIECLIPSE220703LS\n\n\n	2121-003093 CHEVROLETK1500218642LS\n\n\n	2221-011300 CHRYSLER300219548LS\n\n\n	2321-012202 CHRYSLERVOYAGER219773LS\n\n\n	2421-020595 HONDAACCORD220608LS\n\n\n	2520-359398 FORDESCORT216974LS\n\n\n	2621-023099 HONDAODYSSEY220800LS\n\n\n	2720-371097 PORSHEBOXSTER218129LS\n\n\n	2821-010196 HONDACIVIC219381LS\n\n\n	2921-025196 FORDRANGER221202LS\n\n\n	3019-098008 MAZDA3142936LS\n\n\n	3121-008800 BMWX5219307LS\n\n\n	3221-011200 CHEVROLETSILVERADO219401LS\n\n\n	3320-356704 FORDEXPEDITION216608LS\n\n\n	3420-349501 LINCOLNLS215697LS\n\n\n	3521-015705 FORDEXPEDITION219985LS\n\n\n	3621-009999 BMW740i219396LS\n\n\n	3721-014799 ISUZURODEO220023LS\n\n\n	3821-017006 PONTIACTORRENT220398LS\n\n\n	3920-192190 CHEVROLETC1500199777LS\n\n\n	4021-015506 LEXUSGS300219953LS\n\n\n	4120-366302 MERCEDESCLK320217626LS\n\n\n	4221-006004 INFINITIQX56218842LS\n\n\n	4321-015100 FORDF150219962LS\n\n\n	4421-005099 TOYOTARAV4218736LS\n\n\n	4520-281106 HUMMERH3208764TITLE\n\n\n	4619-2664A99 FORDEXPEDITION161515LS\n\n\n	4721-011597 MERCEDESE320219469LS\n\n\n	4820-304599 CHEVROLETCAVALIER211680LS\n\n\n	4921-020406 NISSANSENTRA220625LS\n\n\n	5021-019110 TOYOTACAMRY220136LS\n\n\n	51N/A11 SCIONXDN/ATITLE\n\n\n	5221-008601 FORDEXPLORERN/ALS\n\n\n	5320-343596 JEEPCHEROKEE215214LS\n\n\n\n\n\n\n\nTERMS AND CONDITIONS\nCash Only – All Sales are Final\n$200.00 refundable cash deposit to bid\nRefunds are available anytime during auction\nAll cars must be paid for and picked up by 4pm on Thursday ( no exceptions )\nAdditional deposits are required on vehicle’s over $1000.00
URL:https://jbauctioneers.net/event/otay-mesa-auto-auction-20210217/
LOCATION:Western Towing\, 738 Heritage Rd.\, San Diego\, CA\, 92154\, United States
END:VEVENT
BEGIN:VEVENT
DTSTART;TZID=America/Los_Angeles:20210224T123500
DTEND;TZID=America/Los_Angeles:20210224T123500
DTSTAMP:20260425T115309
CREATED:20210129T160848Z
LAST-MODIFIED:20210219T003408Z
UID:6169-1614170100-1614170100@jbauctioneers.net
SUMMARY:OTAY MESA - AUTO AUCTION
DESCRIPTION:Attention Valued Customers\, Only Registered bidders will be allowed to attend the auction. We are taking extra precaution to keep you and our staff safe. We will provide portable bathroom & washing station\, we will all practice social distancing\, all attendees must wear protective face covering in the auction sale yard area.\n\n\nPresented By:		\n		    \nPUBLIC AUTO AUCTION\nUp to 70 Lien Sale Vehicles\nWednesday February 24th @ 12:35pm\n(Preview 12:00pm)\n Auctions held Wednesdays\n*** NEW LOCATION ***\nOtay Valley Rd & Heritage Rd\, Chula Vista\n(Look for signs to the new facility from this location\, actual site is up the hill on 738 Heritage Rd.)\nPhone: 1-619-661-8355\nFor a map and directions\, click here\n\nHere are some photos of vehicles available at this week’s Western Towing Auto Auction.\nClick on any of the images below to see the larger picture.\n\n\n\nno images were found \n\n\n\n\nTo download a copy of the list in Adobe pdf format\, Click here.\n\n\n\n\n\n\n\n	NOCONTROLYEAR/MAKEMODELREF NOLS/T\n\n\n\n\n	121-024003 DODGEGRD CARAVAN221018LS\n\n\n	221-028505 SUZUKIRENO221710LS\n\n\n	321-028905 PONTIACGRAND AM221465LS\n\n\n	421-025009 VOLKSWAGENJETTA221182LS\n\n\n	521-007303 SATURNVUE218840LS\n\n\n	621-027005 VOLKSWAGENPASSAT221564LS\n\n\n	721-031009 NISSANMURANO221960LS\n\n\n	821-027108 NISSANALTIMA221574LS\n\n\n	921-038102 CHRYSLERPT CRUISER222652LS\n\n\n	1021-036995 TOYOTATERCEL222141LS\n\n\n	1121-031906 HONDACIVIC222029LS\n\n\n	1221-036401 CHRYSLERPT CRUISER222373LS\n\n\n	1321-022600 BMW528i220841LS\n\n\n	1421-010407 VOLKSWAGENRABBIT219414LS\n\n\n	1521-026406 SAAB9.3221299LS\n\n\n	1621-024801 TOYOTACAMRY221235LS\n\n\n	1721-030091 HONDAACCORD221765LS\n\n\n	1821-028804 FORDTAURUS221385LS\n\n\n	1921-043501 MAZDAMPV222918LS\n\n\n	2021-032702 CHRYSLERSEBRING222263LS\n\n\n	2121-030905 MAZDATRIBUTE221974LS\n\n\n	2221-029007 CHRYSLER300221469LS\n\n\n	2321-026004 BMW545i221327LS\n\n\n	2421-023101 MERCEDESE320221025LS\n\n\n	2520-355707 TOYOTAPRIUS216458LS\n\n\n	2621-028203 TOYOTACOROLLA221376LS\n\n\n	2720-372391 TOYOTA4RUNNER218070LS\n\n\n	2820-341900 CHEVROLETSILVERADO214821LS\n\n\n	2921-018803 NISSANSENTRA220539LS\n\n\n	3021-014500 ACURA3.2TL219974LS\n\n\n	3121-027402 TOYOTAAVALON221556LS\n\n\n	3221-022705 CHEVROLETCAVALIER221024LS\n\n\n	3321-030704 VOLKSWAGENJETTA221985LS\n\n\n	3421-026606 SUZUKIFORENZA221294LS\n\n\n	3521-004503 VOLKSWAGENPASSAT218939LS\n\n\n	3621-032007 KIAOPTIMA222076LS\n\n\n	3721-007203 JAGUARX-TYPE219067LS\n\n\n	3821-012195 CHEVROLETCAMARO219811LS\n\n\n	3921-012888 CHEVROLETCAMARO219761LS\n\n\n	4020-369604 GMCYUKON217976LS\n\n\n	4121-019303 VOLKSWAGENPASSAT220556LS\n\n\n	4221-017106 MERCEDESE350220416LS\n\n\n	4321-017204 DODGEDAKOTA220142LS\n\n\n	4421-028199 JEEPCHEROKEE221365LS\n\n\n	4521-007507 GMCENVOY219058LS\n\n\n	4620-361600 HONDAS2000217190LS\n\n\n	4721-027604 ACURAMDX221486LS\n\n\n	4821-013302 CHEVROLETAVALANCHE219825LS\n\n\n	4920-369199 CHEVROLETTAHOE217810LS\n\n\n	5021-029321 MAZDA6221703LS\n\n\n\n\n\n\n\nTERMS AND CONDITIONS\nCash Only – All Sales are Final\n$200.00 refundable cash deposit to bid\nRefunds are available anytime during auction\nAll cars must be paid for and picked up by 4pm on Thursday ( no exceptions )\nAdditional deposits are required on vehicle’s over $1000.00
URL:https://jbauctioneers.net/event/otay-mesa-auto-auction-20210224/
LOCATION:Western Towing\, 738 Heritage Rd.\, San Diego\, CA\, 92154\, United States
END:VEVENT
END:VCALENDAR