BEGIN:VCALENDAR
VERSION:2.0
PRODID:-//Joe Bradley Auctioneers - ECPv6.15.20//NONSGML v1.0//EN
CALSCALE:GREGORIAN
METHOD:PUBLISH
X-ORIGINAL-URL:https://jbauctioneers.net
X-WR-CALDESC:Events for Joe Bradley Auctioneers
REFRESH-INTERVAL;VALUE=DURATION:PT1H
X-Robots-Tag:noindex
X-PUBLISHED-TTL:PT1H
BEGIN:VTIMEZONE
TZID:America/Los_Angeles
BEGIN:DAYLIGHT
TZOFFSETFROM:-0800
TZOFFSETTO:-0700
TZNAME:PDT
DTSTART:20200308T100000
END:DAYLIGHT
BEGIN:STANDARD
TZOFFSETFROM:-0700
TZOFFSETTO:-0800
TZNAME:PST
DTSTART:20201101T090000
END:STANDARD
BEGIN:DAYLIGHT
TZOFFSETFROM:-0800
TZOFFSETTO:-0700
TZNAME:PDT
DTSTART:20210314T100000
END:DAYLIGHT
BEGIN:STANDARD
TZOFFSETFROM:-0700
TZOFFSETTO:-0800
TZNAME:PST
DTSTART:20211107T090000
END:STANDARD
BEGIN:DAYLIGHT
TZOFFSETFROM:-0800
TZOFFSETTO:-0700
TZNAME:PDT
DTSTART:20220313T100000
END:DAYLIGHT
BEGIN:STANDARD
TZOFFSETFROM:-0700
TZOFFSETTO:-0800
TZNAME:PST
DTSTART:20221106T090000
END:STANDARD
END:VTIMEZONE
BEGIN:VEVENT
DTSTART;TZID=America/Los_Angeles:20211102T103000
DTEND;TZID=America/Los_Angeles:20211102T143000
DTSTAMP:20260424T180800
CREATED:20211001T024608Z
LAST-MODIFIED:20211030T144410Z
UID:9925-1635849000-1635863400@jbauctioneers.net
SUMMARY:OCEANSIDE - AUTO AUCTION
DESCRIPTION:Presented By:Auctions the 1st and 3rd Tuesdays of each monthPUBLIC AUTO AUCTIONUp to 80 Selected Vehicles\nTuesday November 2nd @ 10:30am1060 Airport Rd. (in the Oceanside location towing yard)Oceanside 92058Phone. 760-722-6686For a map and directions\, click hereHere are some photos of vehicles available at this week’s S&R Towing auction.Vehicles posted are subject to change without notice.Click on any of the images below to see the larger picture.*** SPECIALS ***\n\n\n\n\nno images were found \n\n\n*** RUNNERS ***\n\n\n\nno images were found \n\n\n*** NON-RUNNERS ***\n\n\n\nno images were found \n\n\n\nTo download a copy of the list in Adobe pdf format\, Click here\n\n\n\n\n\n\n\n	INVOICE #YEARMAKEMODELPLATELIC EXPVIN\n\n\n\n\n	1383021994Hondagold wingNO PLATE1HFSC1448GA218104\n\n\n	288202002SuzukiGSX-R60022P7418JS1GN7BA422105222\n\n\n	37352013KawasakiNinja10751 CVC REMOVED\n\n\n	4593962003ITALIKABS15010980\n\n\n	5593981990HondaPC80013M4496JH2RC3412LM100138\n\n\n	659620SuzukiJS1NP4TA011210603\n\n\n	759400Suzuki10022841\n\n\n	8594012014APOLLO2017\n\n\n	9291342016KawasakiNinja ZX-6RJKBZXJE17GA021285\n\n\n	10441822003HondaShadow24J2212JH2RC44563M703618\n\n\n	11535292009KawasakiNinja 650R22V7299JKAEXEC159DA37650\n\n\n	12425172006SuzukiGSX-R 60022L0471JS1GN7DA162117296\n\n\n	13472412003KawasakiVOYAGERNO PLATEJKAZH9B193B514848\n\n\n	14522552014YamahaXvs95021N9650JYAVN05Y8EA000685\n\n\n	15382682003SuzukiGSX-R60024V8010JS1GN7BA832108805\n\n\n	16566401983Hondashadow23X5192JH2RC0719DM111603\n\n\n	17575002005HondaCBR 600RR821J3RJH2PC37005M202311\n\n\n	18549732005HondaCBR 600RR17S9265JH2PC37165M202001\n\n\n	19\n\n\n	20537682003KawasakiNinja ZX-6R23G0349JKBZXJB1X3A013741\n\n\n	21\n\n\n	2220633LFKYCBL0951006579\n\n\n	23558042012Harley-DavidsonSportster23E79261HD1LF362CC455352\n\n\n	24506782008KawasakiNinja ZX-10R19S2045JKAZXCE108A006242\n\n\n	25542822007YamahaYZF R6Z55158JYARJ12E77A012262\n\n\n	26508551984YamahaFA5011K0135JYA14T005EA212870\n\n\n	27594022001HondaXR12514X74GJH2ME05191K300119\n\n\n	28483121987HondaNB50 AERONOPLATEJH2AF0909HS204700\n\n\n	29254822002SuzukiGS-F 1200S24N4957JS1GV77A222102473\n\n\n	30462221991hondaCBR100012U4999JH2SC2416MM100317\n\n\n	31575902007LincolnTown CarNA1L1FM88W97Y634809\n\n\n	32583292001LexusGS 4304NOG242JT8BL69S610003699\n\n\n	33566412000ChevroletBlazer6EUT6701GNDT13W2Y2342961\n\n\n	34556512007ToyotaCamry1A828JKJTNBE46K973079036\n\n\n	35498312010ToyotaYaris6LNU154JTDBT4K35A1369687\n\n\n	36566862008NissanAltima6WUA6551N4AL21E38N470531\n\n\n	37532672008FordF-250 Super Duty8V110121FTSX21R58EB21375\n\n\n	38585142005VolkswagenJetta6NZN0833VWRT71K15M641554\n\n\n	39564862003HondaCivic6RYR4972HGES16553H579609\n\n\n	40567652003HondaCivic6UVH8971HGEM22633L004586\n\n\n	41574601996ToyotaCamry3PAK603JT2BG12K8T0355441\n\n\n	42\n\n\n	43572502003ChevroletBlazerJIS40481GNCT18X73K185806\n\n\n	44572691997NissanMaxima3XDG754JN1CA21D3VM514080\n\n\n	45594922007VolkswagenRabbit7NJA020WVWDS71K37W240347\n\n\n	46508142013NissanAltimaLFW83901N4AL3AP6DC130173\n\n\n	47466982008AudiA4 QUATTRO7TDM572WAUDF78E38A003180\n\n\n	48569052007KiaOptima7MSH885KNAGE124175099914\n\n\n	49540872002DodgeRam 15006U509623B7HA18Z82G121981\n\n\n	50547312008DodgeChargerA23NMJ82B3KA33G88H335340\n\n\n	51449762000OldsmobileIntrigue4LER2691G3WS52H5YF260570\n\n\n	52565401999NISSANPATHFINDER4DQN509JN8AR05S7XW293511\n\n\n	53261401984FordMustang1JVD5931FABP2830EF112368\n\n\n	54546362005HondaAccord8SSG2341HGCM66565A074940\n\n\n	55573111999ToyotaCorolla8LEW2361NXBR12E9XZ182146\n\n\n	56532641992ChevroletK3500UBK0901GCHK34F5NE218135\n\n\n	57587682013FordFocus7SYA9031FADP3K2XDL153217\n\n\n	58598782008MAZDA3Q5421111YVHP80C485M48418\n\n\n	59552771995Mercedes-BenzC-ClassAFH5203WDBHA22E4SF253910\n\n\n	60519412006ChevroletSilverado 150063602S22GCEC13V361229974\n\n\n	61320231994DodgeDakota4X441791B7GG23Y4RS575520\n\n\n	62471472016DodgeDart7PCA6661C3CDFBB6GD610091\n\n\n	63362102013BURNTDART\n\n\n	64575732001KiaRio7HVA434KNADC123816024841\n\n\n	65427562005TOYOTACAMRY5LGR0224T1BE32KX5U028006\n\n\n	66566372006ChevroletSilverado30615D32GCEK13T161194661\n\n\n	67558822007FordF-1508K768491FTPX12507KC52645\n\n\n	68573622002NissanAltima4WVE1001N4AL11D32C200767\n\n\n	69576382005HyundaiTiburon6TUF684KMHHM65D35U185677\n\n\n	70566692004ChevroletMonte Carlo7VKW2532G1WW12E649214373\n\n\n	71565601991ToyotaCamry2WEP902JT2SV22E0M3452459\n\n\n	72590682005BMWX55SGD6105UXFA13595LY22871\n\n\n	73564472004InfinitiI356RYV543JNKDA31AX4T212379\n\n\n	74563052006ChevroletMalibu8NMP2021G1ZT51856F107138\n\n\n	75562531999HondaCivic4HHX8342HGEJ6574XH545413\n\n\n	76556961984ToyotaCamry1KRT655JT2SV16E7E0214535\n\n\n	77547711999HondaCivic7SDR1941HGEJ6574XL049689\n\n\n	78545372005ToyotaMatrix5LJD6902T1KR32E95C385564\n\n\n	79544671995JeepGrand Cherokee5WLV9591J4GZ78Y7SC588692\n\n\n	80543952003ChevroletTahoe7GQS1081GNEK13T23R128694\n\n\n	81541322002Mercedes-BenzC2406AJL616WDBRF61J12F140573\n\n\n	82523132001ChryslerVoyager4RRB2861C4GJ25B41B112615\n\n\n	83473142005MercuryMountaineer6JMC0174M2DU86W95UJ00172\n\n\n	84545292001SubaruForesterAYZ4873JF1SF656X1H750165\n\n\n	85546962005mazdarx-88DXM269JM1FE173950141271\n\n\n	86483992000freigthlinerwinnie8GQH9994UZ6XFBC8YCH12832\n\n\n	87392172006MITSUBISHFUSO7Y18852JL6CCE1S76K006979\n\n\n	88599982004FORDEXPEDITION98798D21FMEU17W74LA12656\n\n\n	89599992005HONDAELEMENT5RRA6695J6YH28645L028738\n\n\n\n\n\n\n\nTERMS AND CONDITIONS\n\nBuyers fees: Dealers & Dismantlers $35.00\nGeneral Public $65.00\n$200.00 cash deposit required to bid\nAll vehicles must be paid for in full CASH ONLY at the conclusion of the auction\nAll vehicles must be removed by Friday following the auction\nLien sale vehicles sold to the general public are sold as is with all vaults and defects\, you are required to pay all DMV back registration and obtain a smog certificate before receiving your title from the DMV\, sales tax for your purchase will be paid directly to the DMV upon submission of the lien sale packet you will receive at the conclusion of the auction. Out of state buyers\, check with your local DMV to be sure that they will accept California lien sale documents for registration in your state.\nFor more info call direct 760-722-6686
URL:https://jbauctioneers.net/event/oceanside-auto-auction-20211102/
LOCATION:S&R Towing\, 1060 Airport Rd.\, Oceanside\, CA\, 92058\, United States
END:VEVENT
BEGIN:VEVENT
DTSTART;TZID=America/Los_Angeles:20211103T123500
DTEND;TZID=America/Los_Angeles:20211103T123500
DTSTAMP:20260424T180800
CREATED:20211001T024451Z
LAST-MODIFIED:20211028T231955Z
UID:9929-1635942900-1635942900@jbauctioneers.net
SUMMARY:OTAY MESA - AUTO AUCTION
DESCRIPTION:Presented By: PUBLIC AUTO AUCTIONUp to 70 Lien Sale VehiclesWednesday November 3rd @ 12:35pm(Preview 12:00pm) Auctions held Wednesdays*** NEW LOCATION ***Otay Valley Rd & Heritage Rd\, Chula Vista(Look for signs to the new facility from this location\, actual site is up the hill on 738 Heritage Rd.)Phone: 619-694-7809For a map and directions\, click here Here are some photos of autos available at this week’s Western Towing Auto Auction.Click on any of the images below to see the larger picture.\n\n\n\nno images were found \n\n\n\nTo download a copy of the list in Adobe pdf format\, Click here.\n\n\n\n\n\n\n	NOCONTROLYEAR/MAKEMODELREF NOLS/T\n\n\n\n\n	121-309306 ACURARSX250065LS\n\n\n	221-305801 PONTIACGRAND AM249926LS\n\n\n	321-304205 NISSANMURANO249694LS\n\n\n	421-315400 HONDAACCORD250634LS\n\n\n	521-305704 KIARIO249922LS\n\n\n	621-312610 MAZDA3250251LS\n\n\n	721-309796 INFINITIG20250047LS\n\n\n	821-308006 FORDFREESTAR249802LS\n\n\n	921-313202 CHRYSLERSEBRING250296LS\n\n\n	1021-315894 NISSANSENTRA250799LS\n\n\n	1121-313001 VOLKSWAGENBEETLE250419LS\n\n\n	1221-307399 PONTIACFIREBIRD249435LS\n\n\n	1321-316107 VOLVOS80250766LS\n\n\n	1421-306201 ACURA3.2TL249608LS\n\n\n	1521-313704 HYUNDAISANTA FE250443LS\n\n\n	1621-306399 HONDACIVIC249655LS\n\n\n	1721-304105 VOLKSWAGENBEETLE249619LS\n\n\n	1821-187813 VOLKSWAGENGOLF237185LS\n\n\n	1921-309102 BMW325i249988LS\n\n\n	2021-304001 FORDEXPLORER249688LS\n\n\n	2121-316709 MAZDA3250612LS\n\n\n	2221-313307 CHRYSLERSEBRING250334LS\n\n\n	2321-133616 NISSANSENTRA232661LS\n\n\n	2421-309206 CHRYSLER300250010LS\n\n\n	2521-302801 LEXUSGS300249323LS\n\n\n	2621-324598 FORDCROWN VIC251612LS\n\n\n	2721-285005 HONDAACCORD247698LS\n\n\n	2821-327001 TOYOTAAVALON251719LS\n\n\n	2919-225808 BMW135i157516LS\n\n\n	3021-318999 TOYOTATACOMA250888LS\n\n\n	3121-271510 DODGECALIBER246376LS\n\n\n	3221-307401 CHEVROLETMALIBU249530LS\n\n\n	3321-317208 FORDEXPLORER250831LS\n\n\n	3421-315202 HONDAACCORD250531LS\n\n\n	3521-269404 MERCEDESE320246093LS\n\n\n	3621-316502 CHEVROLETTAHOE250683LS\n\n\n	3721-300697 NISSANPATHFINDER249007LS\n\n\n	3821-318302 HONDACIVIC250691LS\n\n\n	3921-313606 CHEVROLETUPLANDER250434LS\n\n\n	4021-307906 CHEVROLETEQUINOX249793LS\n\n\n	4121-299205 CADILLACSTS248822LS\n\n\n	4221-319006 MERCEDESCLK350250927LS\n\n\n	4321-315907 BMW328i250824LS\n\n\n	4421-308504 HONDACIVIC249687LS\n\n\n	4521-318614 NISSANVERSA250976LS\n\n\n	4621-319101 HYUNDAIELANTRA250950LS\n\n\n	4721-305399 GMCDENALI249786LS\n\n\n	4821-317998 DODGERAM250513LS\n\n\n	4921-314803 FORDEXCURSION250638LS\n\n\n	5021-208495 FORDE350 VAN239736LS\n\n\n\n\n\n\n\nTERMS AND CONDITIONS\n\nCash Only – All Sales are Final\n$200.00 refundable cash deposit to bid\nRefunds are available anytime during auction\nAll cars must be paid for and picked up by 4pm on Thursday ( no exceptions )\nAdditional deposits are required on vehicle’s over $1000.00\nLien sale vehicles sold to the general public are sold as is with all vaults and defects\, you are required to pay all DMV back registration and obtain a smog certificate before receiving your title from the DMV\, sales tax for your purchase will be paid directly to the DMV upon submission of the lien sale packet you will receive at the conclusion of the auction. Out of state buyers\, check with your local DMV to be sure that they will accept California lien sale documents for registration in your state.
URL:https://jbauctioneers.net/event/otay-mesa-auto-auction-20211103/
LOCATION:Western Towing\, 738 Heritage Rd.\, San Diego\, CA\, 92154\, United States
END:VEVENT
BEGIN:VEVENT
DTSTART;TZID=America/Los_Angeles:20211110T123500
DTEND;TZID=America/Los_Angeles:20211110T123500
DTSTAMP:20260424T180800
CREATED:20211001T024230Z
LAST-MODIFIED:20211109T051848Z
UID:9926-1636547700-1636547700@jbauctioneers.net
SUMMARY:OTAY MESA - AUTO AUCTION
DESCRIPTION:Presented By: PUBLIC AUTO AUCTIONUp to 70 Lien Sale VehiclesWednesday November 10th @ 12:35pm(Preview 12:00pm) Auctions held Wednesdays*** NEW LOCATION ***Otay Valley Rd & Heritage Rd\, Chula Vista(Look for signs to the new facility from this location\, actual site is up the hill on 738 Heritage Rd.)Phone: 619-694-7809For a map and directions\, click here Here are some photos of autos available at this week’s Western Towing Auto Auction.Click on any of the images below to see the larger picture.\n\n\n\nno images were found \n\n\n\nTo download a copy of the list in Adobe pdf format\, Click here.\n\n\n\n\n\n\n	NOCONTROLYEAR/MAKEMODELREF NOLS/T\n\n\n\n\n	121-323398 TOYOTARAV4251283LS\n\n\n	221-261605 CHRYSLER300245313LS\n\n\n	321-304710 BMW335xi249508LS\n\n\n	421-325510 TOYOTACOROLLA251404LS\n\n\n	521-318205 INFINITIG35250680LS\n\n\n	621-322401 HONDACIVIC251254LS\n\n\n	721-3147A03 MITSUBISHIECLIPSE250561LS\n\n\n	821-321397 CHEVROLETASTROVAN251172LS\n\n\n	921-322897 TOYOTACAMRY251297LS\n\n\n	1021-310904 OLDSMOBILEALERO250237LS\n\n\n	1121-303903 HONDAACCORD249582LS\n\n\n	1221-302503 VOLKSWAGENGTI249364LS\n\n\n	1321-304695 INFINITIQ45249481LS\n\n\n	1421-311000 HONDAACCORD250301LS\n\n\n	1521-319207 CADILLACDTS250968LS\n\n\n	1621-293899 PORSHEBOXSTER249287LS\n\n\n	1721-324690 MERCEDES190E251390LS\n\n\n	1821-318503 VOLKSWAGENJETTA250820LS\n\n\n	1921-322798 FORDEXPLORER251266LS\n\n\n	2021-308992 HONDAACCORD249807LS\n\n\n	2121-311707 MERCEDESC230250284LS\n\n\n	2221-325909 HYUNDAIELANTRA251649LS\n\n\n	2321-326793 TOYOTAPREVIA251723LS\n\n\n	2421-252597 DODGERAM B2500244429LS\n\n\n	2521-306012 MITSUBISHIGALANT249433LS\n\n\n	2621-260910 FORDTAURUS245339LS\n\n\n	2721-308199 NISSANMAXIMA249808LS\n\n\n	2821-322606 CHRYSLERPACIFICA251250LS\n\n\n	2921-305999 TOYOTACAMRY249931LS\n\n\n	3021-194907 CHRYSLER300238373LS\n\n\n	3121-324796 JEEPGRD CHEROKEE251647LS\n\n\n	3221-316013 TOYOTAPRIUS250723LS\n\n\n	3321-327198 DODGEDAKOTA251757LS\n\n\n	3421-304409 CHEVROLETIMPALA249799LS\n\n\n	3521-326304 RANGE ROVERHSE251642LS\n\n\n	3621-329807 SATURNAURU252084LS\n\n\n	3721-316201 HONDACIVIC250754LS\n\n\n	3821-332600 HONDAACCORD252413LS\n\n\n	3921-318802 LINCOLNLS250876LS\n\n\n	4021-328801 HYUNDAIXG300251971LS\n\n\n	4121-329900 DODGEGRD CARAVAN252104LS\n\n\n	4221-322102 MAZDAMILLENIA251303LS\n\n\n	4321-330201 BMW330ci252123LS\n\n\n	4421-329087 NISSAND1 PICKUP251991LS\n\n\n	4521-276000 BUICKCENTURY246856LS\n\n\n	4621-311603 HONDAODYSSEY250114LS\n\n\n	4721-330099 VOLVOS70252063LS\n\n\n	4821-328600 VOLVOV70251884LS\n\n\n	4921-327400 CHEVROLETASTROVAN249788LS\n\n\n	5021-158404 CHEVROLETEXPRESS VAN234942LS\n\n\n\n\n\n\n\nTERMS AND CONDITIONS\n\nCash Only – All Sales are Final\n$200.00 refundable cash deposit to bid\nRefunds are available anytime during auction\nAll cars must be paid for and picked up by 4pm on Thursday ( no exceptions )\nAdditional deposits are required on vehicle’s over $1000.00\nLien sale vehicles sold to the general public are sold as is with all vaults and defects\, you are required to pay all DMV back registration and obtain a smog certificate before receiving your title from the DMV\, sales tax for your purchase will be paid directly to the DMV upon submission of the lien sale packet you will receive at the conclusion of the auction. Out of state buyers\, check with your local DMV to be sure that they will accept California lien sale documents for registration in your state.
URL:https://jbauctioneers.net/event/otay-mesa-auto-auction-20211110/
LOCATION:Western Towing\, 738 Heritage Rd.\, San Diego\, CA\, 92154\, United States
END:VEVENT
BEGIN:VEVENT
DTSTART;TZID=America/Los_Angeles:20211116T103000
DTEND;TZID=America/Los_Angeles:20211116T143000
DTSTAMP:20260424T180801
CREATED:20211028T231447Z
LAST-MODIFIED:20211114T184618Z
UID:10260-1637058600-1637073000@jbauctioneers.net
SUMMARY:OCEANSIDE - AUTO AUCTION
DESCRIPTION:Presented By:Auctions the 1st and 3rd Tuesdays of each monthPUBLIC AUTO AUCTIONUp to 80 Selected Vehicles\nTuesday November 2nd @ 10:30am1060 Airport Rd. (in the Oceanside location towing yard)Oceanside 92058Phone. 760-722-6686For a map and directions\, click here\nHere are some photos of vehicles available at this week’s S&R Towing auction.Vehicles posted are subject to change without notice.Click on any of the images below to see the larger picture.*** RUNNERS ***\n\n\n\n\nno images were found \n\n\n*** NON-RUNNERS ***\n\n\n\nno images were found \n\n\n\nTo download a copy of the list in Adobe pdf format\, Click here\n\n\n\n\n\n\n\n	INVOICE #YEARMAKEMODELPLATELIC EXPVINODOMTIT / SAL\n\n\n\n\n	1566252006MazdaMazda66NZB3151YVHP84C765M47545SAL\n\n\n	2566812015ChevroletCruze8VKW5461G1PA5SH3F7289900SAL\n\n\n	3572422017NissanJUKE8FDX871JN8AF5MR5HT703620\n\n\n	4567612008ToyotaPrius7FUH242JTDKB20U583375362SAL\n\n\n	5584552002IsuzuRodeo8WBN6484S2CK58W524302090TITLE\n\n\n	6404121999ChevroletSilverado 15007U201592GCEC19T7X1119176\n\n\n	7545142004FordMustang5GKU5771FAFP404X4F108697\n\n\n	8565451996HondaAccord35KL6681HGCD5538TA244285\n\n\n	9605482010TOYOTAYARIS6LNU154JTDBT4K35A1369687TITLE\n\n\n	10566882007BMW3 Series6AXE119WBAVC535X7FZ74221\n\n\n	11568842005JEEPLIBERTYDP941SZ1J4GL58K95W592201\n\n\n	12554272003FORDESCAPE4ZAB5121FMYU031X3KA03665\n\n\n	13581171992HondaAccord6SNX822JHMCB7671NC038247SAL\n\n\n	14566891997HondaCivic5VHD1842HGEJ6624VH555875\n\n\n	15409481986BuickRegal3KZG7801G4GJ47A9GP444637\n\n\n	16586062008PontiacG68SMA7031G2ZG57N384121163\n\n\n	17599222009FORDFOCUS6EPA1631FAHP35N99W119606TITLE\n\n\n	18604412002SUBARUFORESTER8VBY462JF1SF65682G704907TITLE\n\n\n	19604402004ToyotaPRIUSGCV8829JTDKB20U640097020TITLE\n\n\n	20513862010FORDF15012651B11FTEW1C83AFD80509\n\n\n	21573272005HondaAccord7FIK3361HGCM55405A000271\n\n\n	22572402000FordMustang8TBY6151FAFP42X2YF256274\n\n\n	23578552001BMW3 Series7RLL803WBAAN37401NJ12993\n\n\n	24566031998NissanFrontier7J386271N6DD26S4WC318265\n\n\n	25566372006ChevroletSilverado30615D32GCEK13T161194661\n\n\n	26588651998FORDEXPLORER7MDN3701FMYU22X8WUC77229\n\n\n	27553141993JEEPCHEROKEE5SVZ2221J4FJ28S6PL620640\n\n\n	28554831996Toyota4Runner3UME069JT3GM84R9T0005085\n\n\n	29567772001ChevroletMalibu4RVM3911G1ND52J616206122\n\n\n	30553722006AudiA6 QUATTRO8MQG573WAUEG74FX6N042516\n\n\n	31553542007VolkswagenRabbit5WXM086WVWDS71K17W060204\n\n\n	32534622014FordFusion8BUV1771FA6P0HD2E5398826\n\n\n	33543922006JaguarS-Type8KSZ336SAJWA01A46FN64143\n\n\n	34553012000BMW328i4KXB676WBAAM5339YJR56799\n\n\n	35411151996LINCOLNTOWN CAR1LNLM82WXTY709912\n\n\n	36585662002FordExplorer4ULA0551FMDU64E02ZA75841\n\n\n	37583582004MazdaRX-88WRV041JM1FE17N340133036\n\n\n	38584932019HyundaiElantra8KZW913KMHD84LF9KU834647\n\n\n	39584882001SubaruOutback6TUL0594S3BH806X17656607\n\n\n	40564152010FordFusion6KGX0963FAHP0HA3AR138036\n\n\n	41560511999FordMustang6NWT4011FAFP4045XF125668\n\n\n	42556711997NissanQuest7CUW6364N2DN111XVD821572\n\n\n	43560712005ScionxA6WAA750JTKKT624850117537\n\n\n	44525041997GMCK150001398T11GTEK19R3VE548043\n\n\n	45522601992FordF-150HJS89611FTEX14N8NKA68085\n\n\n	46\n\n\n	47\n\n\n	48\n\n\n	49\n\n\n	50543482004GMCENVOY6VYL37605/221GKDT13S242122367159793\n\n\n	51571812001TOYOTACAMRY5KAA31102/22JT2BG22K610544706128036\n\n\n	52582332000HONDACIVIC8NYG4411/212HGEJ8640YH589605137369SAL\n\n\n	53492611998FORDF15024692A16/201FTRX17L6WKB99058178050\n\n\n	54566791996DODGERAM150047118U111/211B7HC16Z0TS585712192109\n\n\n	55565112014CHEVROLETSONIC8BHU04604/221G1JC6SH4E4125755149357\n\n\n	56571932004HONDACIVIC5JUC6898/211HGEM22174L061234100794\n\n\n	57569482003MAZDAPROTÉGÉFLZ8905OOSJM1BJ245731220953195842\n\n\n	58543362002TOYOTACAMRY5XSK2822/21JTDBE30K820063783202692\n\n\n	59547971997FORDF1507L878233/191FTDX1766VNC68803327970\n\n\n	60535301998DODGERAM15005S665341/201B7HF13Z8WJ137532302226\n\n\n	61526122008CADILLACCTS6RWC4585/201G6DF577680147079157112\n\n\n	62583802005BUICKLACROSSE4/192G4WC532551304265195986SAL\n\n\n	63529172003FORDEXPLORER09721Z11/201FMZU67EX3UA26565245141\n\n\n	64571241993GMCSIERRA4/182GTEC19Z3P1547217302226SAL\n\n\n\n\n\n\n\nTERMS AND CONDITIONS\n\nBuyers fees: Dealers & Dismantlers $35.00\nGeneral Public $65.00\n$200.00 cash deposit required to bid\nAll vehicles must be paid for in full CASH ONLY at the conclusion of the auction\nAll vehicles must be removed by Friday following the auction\nLien sale vehicles sold to the general public are sold as is with all vaults and defects\, you are required to pay all DMV back registration and obtain a smog certificate before receiving your title from the DMV\, sales tax for your purchase will be paid directly to the DMV upon submission of the lien sale packet you will receive at the conclusion of the auction. Out of state buyers\, check with your local DMV to be sure that they will accept California lien sale documents for registration in your state.\nFor more info call direct 760-722-6686
URL:https://jbauctioneers.net/event/oceanside-auto-auction-20211116/
LOCATION:S&R Towing\, 1060 Airport Rd.\, Oceanside\, CA\, 92058\, United States
END:VEVENT
BEGIN:VEVENT
DTSTART;TZID=America/Los_Angeles:20211117T123500
DTEND;TZID=America/Los_Angeles:20211117T123500
DTSTAMP:20260424T180801
CREATED:20211028T231641Z
LAST-MODIFIED:20211115T183518Z
UID:10264-1637152500-1637152500@jbauctioneers.net
SUMMARY:OTAY MESA - AUTO AUCTION
DESCRIPTION:Presented By: PUBLIC AUTO AUCTIONUp to 70 Lien Sale VehiclesWednesday November 17th @ 12:35pm(Preview 12:00pm) Auctions held Wednesdays*** NEW LOCATION ***Otay Valley Rd & Heritage Rd\, Chula Vista(Look for signs to the new facility from this location\, actual site is up the hill on 738 Heritage Rd.)Phone: 619-694-7809For a map and directions\, click here Here are some photos of autos available at this week’s Western Towing Auto Auction.Click on any of the images below to see the larger picture.\n\n\n\nno images were found \n\n\n\nTo download a copy of the list in Adobe pdf format\, Click here.\n\n\n\n\n\n\n	NOCONTROLYEAR/MAKEMODELREF NOLS/T\n\n\n\n\n	121-330302 HONDACIVIC251988LS\n\n\n	221-325696 CADILLACDEVILLE251405LS\n\n\n	321-317705 NISSANALTIMA250658LS\n\n\n	421-328101 BMW325ci251995LS\n\n\n	521-299396 GEOPRISM248960LS\n\n\n	621-312610 MAZDA3250251LS\n\n\n	721-0478A07 INFINITIG35223627LS\n\n\n	821-150906 MERCEDESML350234225LS\n\n\n	921-295708 ACURARL248580LS\n\n\n	1021-327707 TOYOTACOROLLA251987LS\n\n\n	1121-335005 NISSANALTIMA252771LS\n\n\n	1221-260206 HONDAACCORD245219LS\n\n\n	1321-306807 SUBARULEGACY249916LS\n\n\n	14N/A13 FORDTRANSITWT VEHTITLE\n\n\n	1521-328704 INFINITIG35251895LS\n\n\n	1621-325300 VOLVOV70251650LS\n\n\n	1721-337898 HONDACIVIC253131LS\n\n\n	1821-312506 NISSANALTIMA250188LS\n\n\n	1921-330699 VOLVOS70252099LS\n\n\n	20N/A06 BMW330xi252501TITLE\n\n\n	2121-337091 HONDAACCORD252897LS\n\n\n	2221-326903 HONDACIVIC251712LS\n\n\n	2321-211111 VOLKSWAGENCC SPORT240066LS\n\n\n	2421-332100 HONDACIVIC252172LS\n\n\n	2521-324802 BMWX5251335LS\n\n\n	2621-261508 VOLKSWAGENPASSAT245302LS\n\n\n	27N/A04 TOYOTACOROLLA253092TITLE\n\n\n	2821-336804 FORDEXPEDITION252889LS\n\n\n	2921-334511 FORDFUSION252719LS\n\n\n	3021-336705 VOLKSWAGENJETTA252912LS\n\n\n	3121-302911 FORDFUSION249386LS\n\n\n	3221-331700 HONDAACCORD252417LS\n\n\n	3321-253494 FORDF250244518LS\n\n\n	3421-312309 FORDFLEX250410LS\n\n\n	3520-019098 FORDCROWN VIC180402LS\n\n\n	3620-098198 HONDACIVIC189286LS\n\n\n	3720-192303 DODGEDURANGO199763LS\n\n\n	3821-276210 CHRYSLER300246878LS\n\n\n	3920-336411 CHRYSLER300214756LS\n\n\n	4021-028797 ACURAINTEGRA221384LS\n\n\n	4121-042011 BMW328i223198LS\n\n\n	4221-339106 SCIONXA253065LS\n\n\n	4321-323201 DODGEDURANGO251301LS\n\n\n	4421-334098 JEEPGRD CHEROKEE252519LS\n\n\n	4521-337306 TOYOTAAVALON253011LS\n\n\n	4621-334805 MITSUBISHIENDEAVOR252673LS\n\n\n	4721-336698 MITSUBISHIMONTERO252943LS\n\n\n	4821-337708 SATURNAURU253004LS\n\n\n	4921-335809 NISSANALTIMA252753LS\n\n\n	5021-270409 TOYOTACOROLLA21-2704LS\n\n\n\n\n\n\n\nTERMS AND CONDITIONS\n\nCash Only – All Sales are Final\n$200.00 refundable cash deposit to bid\nRefunds are available anytime during auction\nAll cars must be paid for and picked up by 4pm on Thursday ( no exceptions )\nAdditional deposits are required on vehicle’s over $1000.00\nLien sale vehicles sold to the general public are sold as is with all vaults and defects\, you are required to pay all DMV back registration and obtain a smog certificate before receiving your title from the DMV\, sales tax for your purchase will be paid directly to the DMV upon submission of the lien sale packet you will receive at the conclusion of the auction. Out of state buyers\, check with your local DMV to be sure that they will accept California lien sale documents for registration in your state.
URL:https://jbauctioneers.net/event/otay-mesa-auto-auction-20211117/
LOCATION:Western Towing\, 738 Heritage Rd.\, San Diego\, CA\, 92154\, United States
END:VEVENT
END:VCALENDAR