BEGIN:VCALENDAR
VERSION:2.0
PRODID:-//Joe Bradley Auctioneers - ECPv6.15.20//NONSGML v1.0//EN
CALSCALE:GREGORIAN
METHOD:PUBLISH
X-ORIGINAL-URL:https://jbauctioneers.net
X-WR-CALDESC:Events for Joe Bradley Auctioneers
REFRESH-INTERVAL;VALUE=DURATION:PT1H
X-Robots-Tag:noindex
X-PUBLISHED-TTL:PT1H
BEGIN:VTIMEZONE
TZID:America/Los_Angeles
BEGIN:DAYLIGHT
TZOFFSETFROM:-0800
TZOFFSETTO:-0700
TZNAME:PDT
DTSTART:20200308T100000
END:DAYLIGHT
BEGIN:STANDARD
TZOFFSETFROM:-0700
TZOFFSETTO:-0800
TZNAME:PST
DTSTART:20201101T090000
END:STANDARD
BEGIN:DAYLIGHT
TZOFFSETFROM:-0800
TZOFFSETTO:-0700
TZNAME:PDT
DTSTART:20210314T100000
END:DAYLIGHT
BEGIN:STANDARD
TZOFFSETFROM:-0700
TZOFFSETTO:-0800
TZNAME:PST
DTSTART:20211107T090000
END:STANDARD
BEGIN:DAYLIGHT
TZOFFSETFROM:-0800
TZOFFSETTO:-0700
TZNAME:PDT
DTSTART:20220313T100000
END:DAYLIGHT
BEGIN:STANDARD
TZOFFSETFROM:-0700
TZOFFSETTO:-0800
TZNAME:PST
DTSTART:20221106T090000
END:STANDARD
END:VTIMEZONE
BEGIN:VEVENT
DTSTART;TZID=America/Los_Angeles:20211201T123500
DTEND;TZID=America/Los_Angeles:20211201T123500
DTSTAMP:20260424T180800
CREATED:20211028T231817Z
LAST-MODIFIED:20211124T230201Z
UID:10266-1638362100-1638362100@jbauctioneers.net
SUMMARY:OTAY MESA - AUTO AUCTION
DESCRIPTION:Presented By: PUBLIC AUTO AUCTIONUp to 70 Lien Sale VehiclesWednesday December 1st @ 12:35pm(Preview 12:00pm) Auctions held Wednesdays*** NEW LOCATION ***Otay Valley Rd & Heritage Rd\, Chula Vista(Look for signs to the new facility from this location\, actual site is up the hill on 738 Heritage Rd.)Phone: 619-694-7809For a map and directions\, click here Here are some photos of autos available at this week’s Western Towing Auto Auction.Click on any of the images below to see the larger picture.\n\n\n\nno images were found \n\n\n\nTo download a copy of the list in Adobe pdf format\, Click here.\n\n\n\n\n\n\n	NOCONTROLYEAR/MAKEMODELREF NOLS/T\n\n\n\n\n	121-349006 CHRYSLERPT CRUISER253984LS\n\n\n	221-340003 TOYOTACAMRY253003LS\n\n\n	321-334703 JEEPLIBERTY252591LS\n\n\n	421-340196 HONDAACCORD253015LS\n\n\n	521-333806 VOLKSWAGENJETTA252558LS\n\n\n	621-339707 SCIONTC252998LS\n\n\n	721-347907 TOYOTACOROLLA254075LS\n\n\n	821-341604 CHEVROLETTAHOE253367LS\n\n\n	921-338997 INFINITII30253258LS\n\n\n	1021-341496 TOYOTACAMRY253383LS\n\n\n	1121-322999 FORDRANGER251236LS\n\n\n	1221-339802 HONDAACCORD253000LS\n\n\n	1321-270306 INFINITIG35246081LS\n\n\n	1421-291999 FORDF150248149LS\n\n\n	1521-338805 BUICKCENTURY253214LS\n\n\n	1621-340296 BUICKROADMASTER253117LS\n\n\n	1721-347810 MERCURYGRD MARQUIS253986LS\n\n\n	1821-348711 KIAOPTIMA253942LS\n\n\n	1921-345000 HONDACIVIC253716LS\n\n\n	2021-199705 FORDMUSTANG238815LS\n\n\n	2121-309598 NISSANPATHFINDER249544LS\n\n\n	2221-322504 CHEVROLETAVEO251257LS\n\n\n	2321-338004 MERCURYMONTEREY253272LS\n\n\n	2421-250895 CHEVROLETASTROVAN244293LS\n\n\n	2521-351600 INFINITII30254457LS\n\n\n	2621-339313 KIAFORTE253260LS\n\n\n	2721-330712 FORDESCAPE252287LS\n\n\n	2821-312901 FORDESCAPE250357LS\n\n\n	2921-338610 DODGECHARGER253022LS\n\n\n	3021-324906 MAZDATRIBUTE251385LS\n\n\n	3121-344402 HONDACRV253622LS\n\n\n	3221-349206 HYUNDAISONATA254308LS\n\n\n	3321-349603 FORDEXPEDITION253841LS\n\n\n	3421-350988 BMW325i254481LS\n\n\n	3521-343408 FORDEXPLORER253539LS\n\n\n	3621-337209 VOLKSWAGENPASSAT252954LS\n\n\n	3721-347103 GMCENVOY254161LS\n\n\n	3821-327805 JAGUARXTYPE251993LS\n\n\n	3921-340506 CHRYSLER300253254LS\n\n\n	4021-339204 PONTIACAZTEK253093LS\n\n\n	4121-347598 GMCJIMMY253959LS\n\n\n	4221-351709 LINCOLNTOWNCAR254577LS\n\n\n	4321-336503 HONDAACCORD252885LS\n\n\n	4421-345297 GEOPRISM253710LS\n\n\n	4521-312401 CHEVROLETSILVERADO250145LS\n\n\n	4621-196371 VOLKSWAGENBUG238541LS\n\n\n	4721-338410 DODGEAVENGER252904LS\n\n\n	4821-348888 CHEVROLETG20 VAN253968LS\n\n\n	4921-343299 CHEVROLETASTROVAN253517LS\n\n\n	5021-343000 MERCURYVILLAGER253471LS\n\n\n\n\n\n\n\nTERMS AND CONDITIONS\n\nCash Only – All Sales are Final\n$200.00 refundable cash deposit to bid\nRefunds are available anytime during auction\nAll cars must be paid for and picked up by 4pm on Thursday ( no exceptions )\nAdditional deposits are required on vehicle’s over $1000.00\nLien sale vehicles sold to the general public are sold as is with all vaults and defects\, you are required to pay all DMV back registration and obtain a smog certificate before receiving your title from the DMV\, sales tax for your purchase will be paid directly to the DMV upon submission of the lien sale packet you will receive at the conclusion of the auction. Out of state buyers\, check with your local DMV to be sure that they will accept California lien sale documents for registration in your state.
URL:https://jbauctioneers.net/event/otay-mesa-auto-auction-20211201/
LOCATION:Western Towing\, 738 Heritage Rd.\, San Diego\, CA\, 92154\, United States
END:VEVENT
BEGIN:VEVENT
DTSTART;TZID=America/Los_Angeles:20211207T103000
DTEND;TZID=America/Los_Angeles:20211207T143000
DTSTAMP:20260424T180800
CREATED:20211028T231542Z
LAST-MODIFIED:20211206T233453Z
UID:10261-1638873000-1638887400@jbauctioneers.net
SUMMARY:OCEANSIDE - AUTO AUCTION
DESCRIPTION:Presented By:Auctions the 1st and 3rd Tuesdays of each monthPUBLIC AUTO AUCTIONUp to 80 Selected Vehicles\nTuesday December 7th @ 10:30am1060 Airport Rd. (in the Oceanside location towing yard)Oceanside 92058Phone. 760-722-6686For a map and directions\, click here\nHere are some photos of vehicles available at this week’s S&R Towing auction.Vehicles posted are subject to change without notice.Click on any of the images below to see the larger picture.*** RUNNERS ***\n\n\n\n\nno images were found \n\n\n*** NON-RUNNERS ***\n\n\n\nno images were found \n\n\n\nTo download a copy of the list in Adobe pdf format\, Click here\n\n\n\n\n\n\n\n	INVOICE #YEARMAKEMODELPLATELIC EXPVINODOMTIT / SAL\n\n\n\n\n	A422471995DuthTrailerNONE47CF20N29S1062152TITLE\n\n\n	B54281Hitch Hike5th WheelNONE1NW32KR02TD049300\n\n\n	1529282004VolvoS405GMY600YV1MS382342008486\n\n\n	2609991996ToyotaCorolla7HJX1311NXBB02E6TZ427025TITLE\n\n\n	3578562008Saab9-38GQJ680YS3FB49Y381008807SAL\n\n\n	4600951992HondaCivic4PNC454JHMEH9692NS013237TITLE\n\n\n	5604941999ToyotaCorolla6YUD7511NXBR12E2XZ205900\n\n\n	6600742004HyundaiSonataNONEKMHWF25SX5A113076TITLE\n\n\n	7595122001HondaCR-V8VLT476JHLRD28421S017809TITLE\n\n\n	8583762009HyundaiAccent6JZM529KMHCM36C19U132416\n\n\n	9591112004SaturnIon8HKK4741G8AM12F94Z180512\n\n\n	10532461997LincolnMark VIII7WJK8281LNLM91V2VY726057\n\n\n	11591532016NissanVersa7THL2143N1CN7AP0GL894195\n\n\n	12593971992Volvo240BGT0165YV1AS8815N1468246\n\n\n	13552242010ToyotaCorolla6JXA8711NXBU4EEXAZ234984\n\n\n	14594762002SuzukiVitara5BKB3982S3TE52V726111354\n\n\n	1562484PT2002KiaSportage4ZBX370KNDJA723425148529\n\n\n	16594371993ToyotaCamry3FDR491JT2SK12E1P0184532TITLE\n\n\n	17579721995HondaAccord7FSH9351HGCD7232SA023943\n\n\n	18586892006ToyotaCamry5ZRF1604T1BE32K96U718847\n\n\n	19561912001CadillacDeVille8TFN4761G6KD54Y81U204729\n\n\n	20593032004PorscheCayenne6PLN564WP1AB29P54LA72664\n\n\n	21456552012FordMustangBSD90251ZVBP8AM8C5266519SAL\n\n\n	22583102001HondaCivic7DAN8821HGEM21941L054065\n\n\n	23583272003HondaCivic5AEE8041HGEM22933L013315\n\n\n	24586442014HondaCR-V8NYB1642HKRM3H31EH532363\n\n\n	25588832002HondaCR-VJFM7622JHLRD78882C056786TITLE\n\n\n	26591752002ChevroletTahoeNONE1GNEC13V22R299233\n\n\n	27595152008ToyotaYaris6EAH929JTDBT923681284090\n\n\n	28595242005ChevroletEquinox7MSZ0422CNDL23F656078863\n\n\n	29578112005NissanAltima47714091N4BL11E95C286104\n\n\n	30601202009NissanMaxima6ARX2241N4AA51E89C803407TITLE\n\n\n	31617202010FordFusion8EHF9793FAHP0HG6AR136950TITLE\n\n\n	32588692002HondaAccord5KUJ4801HGCG65882A070158\n\n\n	33589592000InfinitiQX47BFS626JNRAR07Y7YW077804\n\n\n	34583292001LexusGS 4304NOG242JT8BL69S610003699\n\n\n	35570911989DodgeRam Van4CIX1322B6HB21Z1KK385645\n\n\n	36589121998DodgeRam 1500NONE1B7HF13Z9WJ103910\n\n\n	37589361993ToyotaCamry5KAX907JT2VK12E4P0157046\n\n\n	38594412010Mazda36MEC461JM1BL1SG2A1223202\n\n\n	39583162005PontiacVibe7YYK1005Y2SL63805Z409462TIT/SAL\n\n\n	40616812002FordF-15091700M21FTRX07282KA04766TITLE\n\n\n	41591872007ToyotaSOLARA6GAL2724T1FA38P87U134859\n\n\n	42589001994LexusES 3003JYF227JT8GK13T3R0066087\n\n\n	43573642006FordCrown Victoria7ZIB9092FAFP74W06X131846\n\n\n	44598382012HondaCR-Z7RCN386JHMZF1C6XCS000705\n\n\n	45514502008DodgeDakota8P203301D3HE42K18S531483\n\n\n	46592852006NissanAltima8XLH6971N4AL11D16N344182SAL\n\n\n	47593662000AcuraRL4NEK086JH4KA9654YC012562\n\n\n	48586832019NissanAltima8GIF8591N4BL4EV3KC156293\n\n\n	49583892009JeepGrand Cherokee6GJL3501J8GR48K59C523259\n\n\n	50588772013Chrysler3008UXE4082C3CCABG6DH672400\n\n\n	51587002012Chrysler200 Convertible8RWB6021C3BCBEB7CN229728\n\n\n	52578832014ChevroletEquinox8JCP2671GNALBEK9EZ110881\n\n\n	53587262011ChryslerTown and Country6PKW2482A4RR5DG0BR638088\n\n\n	54568711999HondaAccord8XMY3471HGCG2259XA029726\n\n\n	55599741996FordTaurus5MYY2021FALP53S6TG126013\n\n\n	56493172003HUMMERH27PRX77408/195GRGN23UX3H102694174944\n\n\n	5761911JB2005FordEscape5JBB46106/191FMYU02Z75KA4828296325\n\n\n	5861909JB2002GMCYUKON XL 15004XAT4093GKEC16T52G277301163992TITLE\n\n\n	59535002000GMCYukon4LNZ41604/181GKEK13R1YR136102230227\n\n\n	60546181999ChevroletTahoe5WIN62810/151GNEC13R6XJ554149221266\n\n\n	61593102013VolkswagenPassat SDI SE8YKT39406/22IVWBN7A32DC05987288717\n\n\n	62558581994JeepCherokeeDP707GK06/201J4FT68S0RL224790198159SAL\n\n\n	63563322006ToyotaCorolla8GOG04211/211NXBR30E96Z618877183490SAL\n\n\n	64539391999HondaAccord4GPR16508/20JHMCG6676XC036542228539\n\n\n	65515902009NissanTitan18592D101/211N6BA07D59N303125134303\n\n\n	66588092011ChevroletCamaro8TFN27603/222G1FB1ED5B9158048152839TITLE\n\n\n	67569992007HondaOdyssey6FQH64209/215FNRL38727B048614225597\n\n\n	68596582000DodgeDakota7W9979701/221B7GL22N6YS587413164433\n\n\n	69595831986ToyotaCorolla6DSS13912/21JT2AE83E1G3317220245920TIT/SAL\n\n\n	70455292004CHEVROLETBLAZER6XVW29005/211GNDT13X34K163508154259\n\n\n	7162536PT2005CHRYSLER300DZ513DP04/222C3JA43R85H184985349242\n\n\n	7262538PT1995VOLVO8503LXC54203/22YV1LW5511S2092232188121\n\n\n	7362537PT2004BMWX58GJU84307/215UXFA13584LU32701\n\n\n\n\n\n\n\nTERMS AND CONDITIONS\n\nBuyers fees: Dealers & Dismantlers $35.00\nGeneral Public $65.00\n$200.00 cash deposit required to bid\nAll vehicles must be paid for in full CASH ONLY at the conclusion of the auction\nAll vehicles must be removed by Friday following the auction\nLien sale vehicles sold to the general public are sold as is with all vaults and defects\, you are required to pay all DMV back registration and obtain a smog certificate before receiving your title from the DMV\, sales tax for your purchase will be paid directly to the DMV upon submission of the lien sale packet you will receive at the conclusion of the auction. Out of state buyers\, check with your local DMV to be sure that they will accept California lien sale documents for registration in your state.\nFor more info call direct 760-722-6686
URL:https://jbauctioneers.net/event/oceanside-auto-auction-20211207/
LOCATION:S&R Towing\, 1060 Airport Rd.\, Oceanside\, CA\, 92058\, United States
END:VEVENT
BEGIN:VEVENT
DTSTART;TZID=America/Los_Angeles:20211208T123500
DTEND;TZID=America/Los_Angeles:20211208T123500
DTSTAMP:20260424T180800
CREATED:20211028T231730Z
LAST-MODIFIED:20211203T000708Z
UID:10265-1638966900-1638966900@jbauctioneers.net
SUMMARY:OTAY MESA - AUTO AUCTION
DESCRIPTION:Presented By: PUBLIC AUTO AUCTIONUp to 70 Lien Sale VehiclesWednesday December 8th @ 12:35pm(Preview 12:00pm) Auctions held Wednesdays*** NEW LOCATION ***Otay Valley Rd & Heritage Rd\, Chula Vista(Look for signs to the new facility from this location\, actual site is up the hill on 738 Heritage Rd.)Phone: 619-694-7809For a map and directions\, click here Here are some photos of autos available at this week’s Western Towing Auto Auction.Click on any of the images below to see the larger picture.\n\n\n\nno images were found \n\n\n\nTo download a copy of the list in Adobe pdf format\, Click here.\n\n\n\n\n\n\n	NOCONTROLYEAR/MAKEMODELREF NOLS/T\n\n\n\n\n	121-339901 CHRYSLERCONCORDE253002LS\n\n\n	221-354508 NISSANSENTRA254987LS\n\n\n	321-344099 HONDACIVIC253606LS\n\n\n	421-339403 ACURARSX253261LS\n\n\n	521-347406 CHRYSLER300253958LS\n\n\n	621-357300 MERCEDESCLK430254923LS\n\n\n	721-259108 VOLKSWAGENBEETLE245081LS\n\n\n	821-361202 CADILLACDEVILLE255514LS\n\n\n	921-358804 TOYOTACAMRY254981LS\n\n\n	1021-311498 TOYOTACAMRY250310LS\n\n\n	1121-295814 FIAT500c248632LS\n\n\n	1221-330105 AUDIA4252111LS\n\n\n	1321-357502 CADILLACDEVILLE252002LS\n\n\n	1421-306201 ACURARL249608LS\n\n\n	1521-280203 TOYOTACELICA GT247298LS\n\n\n	1621-328994 DODGERAM 1500251985LS\n\n\n	1721-350605 HYUNDAIELANTRA254379LS\n\n\n	1821-334906 BMW325i252766LS\n\n\n	1921-311203 ACURA3.2TL250422LS\n\n\n	2021-322205 VOLKSWAGENBEETLE251315LS\n\n\n	2121-354796 GEOPRISM254731LS\n\n\n	2221-347295 BMW525i254047LS\n\n\n	2321-335305 VOLVOXC90252806LS\n\n\n	2421-357206 HYUNDAISONATA254876LS\n\n\n	2521-348207 FORDFIVE HUNDRED254006LS\n\n\n	2621-340605 HONDACIVIC253142LS\n\n\n	2721-348606 CHEVROLETEQUINOX253839LS\n\n\n	2821-346497 INFINITIQ45253962LS\n\n\n	2921-325805 AUDIA6251497LS\n\n\n	3021-168514 SCIONTC235681LS\n\n\n	3121-346307 TOYOTAPRIUS253960LS\n\n\n	3221-320204 BMW745i251049LS\n\n\n	3321-253494 FORDF250244518LS\n\n\n	3421-347602 CADILLACDEVILLE254123LS\n\n\n	3521-340408 INFINITIM35253024LS\n\n\n	3621-357407 HONDAACCORD254999LS\n\n\n	3721-332597 LINCOLNMARK 8252410LS\n\n\n	3821-344511 VOLKSWAGENROUTAN253624LS\n\n\n	3921-335107 BMW530i252775LS\n\n\n	4021-324493 HONDAACCORD251547LS\n\n\n	4121-350401 FORDWINDSTAR254241LS\n\n\n	4221-360707 DODGEGRAND CARAVAN255358LS\n\n\n	4321-361703 MITSUBISHIGALANT255529LS\n\n\n	4421-355003 ACURA3.2TL254982LS\n\n\n	4521-361003 TOYOTACELICA GT255476LS\n\n\n	4621-359310 MAZDA6255150LS\n\n\n	4721-355800 CHEVROLETSUBURBAN254968LS\n\n\n	4821-328000 CHEVROLETASTROVAN251856LS\n\n\n	4921-353703 TOYOTACOROLLA254080LS\n\n\n	5021-303009 SCIONTC249299LS\n\n\n	51N/A01 FORDESCAPEN/ATITLE\n\n\n	5221-343608 NISSANSENTRAN/ALS\n\n\n\n\n\n\n\nTERMS AND CONDITIONS\n\nCash Only – All Sales are Final\n$200.00 refundable cash deposit to bid\nRefunds are available anytime during auction\nAll cars must be paid for and picked up by 4pm on Thursday ( no exceptions )\nAdditional deposits are required on vehicle’s over $1000.00\nLien sale vehicles sold to the general public are sold as is with all vaults and defects\, you are required to pay all DMV back registration and obtain a smog certificate before receiving your title from the DMV\, sales tax for your purchase will be paid directly to the DMV upon submission of the lien sale packet you will receive at the conclusion of the auction. Out of state buyers\, check with your local DMV to be sure that they will accept California lien sale documents for registration in your state.
URL:https://jbauctioneers.net/event/otay-mesa-auto-auction-20211208/
LOCATION:Western Towing\, 738 Heritage Rd.\, San Diego\, CA\, 92154\, United States
END:VEVENT
BEGIN:VEVENT
DTSTART;TZID=America/Los_Angeles:20211215T123500
DTEND;TZID=America/Los_Angeles:20211215T123500
DTSTAMP:20260424T180800
CREATED:20211124T230729Z
LAST-MODIFIED:20211210T171003Z
UID:10644-1639571700-1639571700@jbauctioneers.net
SUMMARY:OTAY MESA - AUTO AUCTION
DESCRIPTION:Presented By: PUBLIC AUTO AUCTIONUp to 70 Lien Sale VehiclesWednesday December 15th @ 12:35pm(Preview 12:00pm) Auctions held Wednesdays*** NEW LOCATION ***Otay Valley Rd & Heritage Rd\, Chula Vista(Look for signs to the new facility from this location\, actual site is up the hill on 738 Heritage Rd.)Phone: 619-694-7809For a map and directions\, click here Here are some photos of autos available at this week’s Western Towing Auto Auction.Click on any of the images below to see the larger picture.\n\n\n\nno images were found \n\n\n\nTo download a copy of the list in Adobe pdf format\, Click here.\n\n\n\n\n\n\n	NOCONTROLYEAR/MAKEMODELREF NOLS/T\n\n\n\n\n	121-329700 MERCEDESCLK320252117LS\n\n\n	221-353804 CHRYSLERSEBRING254693LS\n\n\n	321-370105 CHEVROLETMALIBU256419LS\n\n\n	421-325404 FORDF150251386LS\n\n\n	521-348901 MERCEDESML320254117LS\n\n\n	621-370293 SUBARULOYALE256371LS\n\n\n	721-356603 FORDMUSTANG254971LS\n\n\n	821-367991 BMW735i256265LS\n\n\n	921-337609 VOLKSWAGENRABBIT253138LS\n\n\n	1021-353300 DODGECARAVAN254888LS\n\n\n	1121-359100 HONDACIVIC255128LS\n\n\n	1221-331602 BMW525i252370LS\n\n\n	1321-368807 MAZDA3256374LS\n\n\n	1421-363300 CADILLACDEVILLE255847LS\n\n\n	1521-361491 HONDACIVIC255484LS\n\n\n	1621-352396 NISSANPATHFINDER254496LS\n\n\n	1721-358905 INFINITIQX56255116LS\n\n\n	1821-362199 INFINITII30255644LS\n\n\n	1921-356403 FORDF150254721LS\n\n\n	2021-368205 HONDACIVIC256230LS\n\n\n	2121-354308 SAAB9-7255011LS\n\n\n	2221-322504 CHEVROLETAVEO251257LS\n\n\n	2321-369185 JAGUARXJ6256382LS\n\n\n	2421-331101 TOYOTACAMRY252423LS\n\n\n	2521-361507 CHRYSLERPACIFICA255497LS\n\n\n	2621-358602 ACURARSX255010LS\n\n\n	2721-366303 MAZDAPROTÉGÉ255923LS\n\n\n	2821-314415 NISSANSENTRA250567LS\n\n\n	2921-355103 VOLKSWAGENJETTA255068LS\n\n\n	3021-364397 CHRYSLERLHS255736LS\n\n\n	3121-346600 TOYOTAAVALON253724LS\n\n\n	3221-340300 VOLKSWAGENJETTA253141LS\n\n\n	3321-311598 SUZUKIESTEEM250426LS\n\n\n	3421-352899 NISSANALTIMA254580LS\n\n\n	3521-357104 HONDAACCORD254861LS\n\n\n	3621-361198 LINCOLNCONTINENTAL255507LS\n\n\n	3721-235102 TOYOTACAMRY242902LS\n\n\n	3821-298003 MERCEDESSL500249044LS\n\n\n	3921-338395 HONDAACCORD253316LS\n\n\n	4021-357004 VOLKSWAGENGTI254855LS\n\n\n	4121-311108 FORDFOCUS250311LS\n\n\n	4221-352703 FORDEXPEDITION254568LS\n\n\n	4321-360808 CHRYSLERSEBRING255379LS\n\n\n	4421-364103 FORDFOCUS ZTS255856LS\n\n\n	4521-375606 SAAB9-3256883LS\n\n\n	4621-367608 FORDTAURUS256266LS\n\n\n	4721-367898 TOYOTACELICA256257LS\n\n\n	4821-353404 TOYOTACOROLLA254927LS\n\n\n	4921-353506 NISSANMAXIMA254930LS\n\n\n	5021-270595 FORDF350246163LS\n\n\n	51TITLE00 FORDVANTITLETITLE\n\n\n\n\n\n\n\nTERMS AND CONDITIONS\n\nCash Only – All Sales are Final\n$200.00 refundable cash deposit to bid\nRefunds are available anytime during auction\nAll cars must be paid for and picked up by 4pm on Thursday ( no exceptions )\nAdditional deposits are required on vehicle’s over $1000.00\nLien sale vehicles sold to the general public are sold as is with all vaults and defects\, you are required to pay all DMV back registration and obtain a smog certificate before receiving your title from the DMV\, sales tax for your purchase will be paid directly to the DMV upon submission of the lien sale packet you will receive at the conclusion of the auction. Out of state buyers\, check with your local DMV to be sure that they will accept California lien sale documents for registration in your state.
URL:https://jbauctioneers.net/event/otay-mesa-auto-auction-20211215/
LOCATION:Western Towing\, 738 Heritage Rd.\, San Diego\, CA\, 92154\, United States
END:VEVENT
BEGIN:VEVENT
DTSTART;TZID=America/Los_Angeles:20211221T103000
DTEND;TZID=America/Los_Angeles:20211221T143000
DTSTAMP:20260424T180800
CREATED:20211203T003132Z
LAST-MODIFIED:20211218T170441Z
UID:10712-1640082600-1640097000@jbauctioneers.net
SUMMARY:OCEANSIDE - AUTO AUCTION
DESCRIPTION:Presented By:Auctions the 1st and 3rd Tuesdays of each monthPUBLIC AUTO AUCTIONUp to 80 Selected Vehicles\nTuesday December 21st @ 10:30am1060 Airport Rd. (in the Oceanside location towing yard)Oceanside 92058Phone. 760-722-6686For a map and directions\, click here\nHere are some photos of vehicles available at this week’s S&R Towing auction.Vehicles posted are subject to change without notice.Click on any of the images below to see the larger picture.*** RUNNERS ***\n\n\n\n\nno images were found \n\n\n*** NON-RUNNERS ***\n\n\n\nno images were found \n\n\n*** TRAILERS ***\n\n\n\nno images were found \n\n\n\nTo download a copy of the list in Adobe pdf format\, Click here\n\n\n\n\n\n\n\n	INVOICE #YEARMAKEMODELPLATELIC EXPVINODOM\n\n\n\n\n	15635220' trailerNOPATE1.11111E+16\n\n\n	2589682002toy hauler1KU29144ZBEN21602F000076\n\n\n	3570412002ChevroletAvalanche21894G13GNEC13T82G309990\n\n\n	4593562016DodgeDart7ZVA0711C3CDFBB0GD570607\n\n\n	5593502006Nissan350Z5YHW401JN1AZ34D86M331776\n\n\n	6604552003Nissan350Z7WPM578JN1AZ34E73T005932\n\n\n	7633252008Smartfortwo8EGH393WMEEJ31X08K100794\n\n\n	8605582005ChevroletColorado8804G61GCDT136358188987\n\n\n	9544932001NissanFrontier6M660011N6DD26S91C339976\n\n\n	10570342000ChevroletMalibu5FS28871G1ND52JXY6103375\n\n\n	11598931999ToyotaCamryAW73B75JT2BG22K8X0367911\n\n\n	12620592002MazdaPROTEGE5NHJ 2415JM1BJ245921562676\n\n\n	13582122003InfinitiG356LXT550JNKCV51E33M318731\n\n\n	14280092004ScionxA8HJW102JTKKT624740055529\n\n\n	15627862013KiaSoul7FSR482KNDJT2A51D7490382\n\n\n	16597882003ChevroletSilverado 2500HD05349A31GCHC23173F141871\n\n\n	17583932006AudiA48TMZ449WAUAF78E66A169595\n\n\n	18587751995Saab9003JCN274YS3DD58B7S2001431\n\n\n	19518342006PontiacG68MSE8811G2ZG558164213091\n\n\n	20595782006HyundaiSonataY0354065NPEU46F96H008106\n\n\n	21285092012MitsubishiEclipse7ANF7334A31K5DF7CE004075\n\n\n	22580452006BuickLaCrosse8TOZ5492G4WD582861276940\n\n\n	23604472001ToyotaCorolla1NXBR12EX1Z491941\n\n\n	24550182011MitsubishiEclipse6PHL5614A31K5DF9BE002469\n\n\n	25585571999SaturnSL SERIES8FAD3961G8ZK5276XZ226312\n\n\n	26594502004AcuraTSX8RLE040JH4CL96874C029827\n\n\n	27600372005NissanAltima6EFZ8651N4AL11E65C149794\n\n\n	28606961996Toyota4Runner4UPG841JT3HN86R0T0041200\n\n\n	29512642008HyundaiElantra6GVK159KMHDU46D68U573833\n\n\n	30578552001BMW37RLL803WBAAN37401NJ12993\n\n\n	31553422005FordExplorer5UXE3061FMDU73KX5UA75134\n\n\n	32602542004AcuraMDX5GDR1492HNYD18644H516508\n\n\n	33576052004NissanSentra8ESH9693N1CB51D14L916123\n\n\n	34622302001LexusIS3004PHE640JTHBD182510016607\n\n\n	35574662002ToyotaCamry4XKX7144T1BF32K12U512929\n\n\n	36612052012HondaCivic6TJV79319XFB2F57CE310824\n\n\n	37193041991MazdaMiataBPF7863JM1NA3511M1218163\n\n\n	38604592004HondaCR-V5KXU841SHSRD78414U253520\n\n\n	39575182003ChevroletMalibu6SNZ3821G1ND52J93M647015\n\n\n	40607122006Mazda65XAU0601YVHP84D765M67836\n\n\n	41600501997FordExplorer811KXD1FMDU35P8VUA41808\n\n\n	42596131999DodgeRam Pickup 150010426H21B7HC13Y8XJ609360\n\n\n	43586582002DodgeStratus1B3EL36X32N185963\n\n\n	44605821998FordEscort4UAL0181FALP10P8WW112701\n\n\n	45577162005ToyotaCamry5NTA4794T1BE32K75U591837\n\n\n	46620092010HyundaiElantra6MOD771KMHDU4AD2AU014812\n\n\n	47578932006NissanAltima5TKE8131N4AL11D86N349654\n\n\n	48585852002MitsubishiLancer5RSX935JA3AJ26EX2U043593\n\n\n	49586161994FordExplorer3HSV4061FMDU34X2RUC90550\n\n\n	50578652004FordEscape6NQB6991FMYU93144KB41854\n\n\n	51604191999FordExplorer4DSU8291FMDU32E2XZA14631\n\n\n	52607692002HondaCR-V6TVZ383JHLRD78802C019909\n\n\n	53611892000LexusRX3008TQP271JT6HF10U2Y0155534\n\n\n	54605861999FordRanger6A542411FTYR10V9XPB35375\n\n\n	55595152008TOYOTAYARIS6EAH929JTDBT923681284090\n\n\n	56596652003FordEscape8MFP5031FMCU94173KE05687\n\n\n	57516042011ToyotaHighlander6ROK2775TDZA3EH4BS016464107128\n\n\n	58575012007HondaAccordWVU8711JHMCM56357C023930197234\n\n\n	59582332000HONDACIVIC8NYG4442HGEJ8640YH589605137369\n\n\n	60590352010PontiacG66STV5671G2ZA5EB7A4100901133002\n\n\n	61593752000FordF-15094171U11FTRX17W6YKA63462\n\n\n	62493172003HUMMERH27PRX774 5GRGN23UX3H102694174944\n\n\n	63594402001MitsubishiGalant4A3AA46H51E18838996218\n\n\n	64595382001ToyotaCelica7ZTY500JTDDR32T210077437247300\n\n\n	65547092005ToyotaSequoia6HLS9835TDZT34A75S252612216615\n\n\n	66588872004JeepGrand Cherokee5MWV4811J4GX48S14C301172\n\n\n	67466051985CadillacFleetwood Brougham7DAK8001G6DW6981F9725786\n\n\n	68604152006ChevroletHHR5WPH5723GNDA23D26S678699103325\n\n\n	69577182008HyundaiVeracruz8GEA599KM8NU13C58U035011170006\n\n\n	70587272002DodgeDakota74851F21B7HL48X72S598968213569\n\n\n	71608552001NissanMaxima6SNH722JN1CA31D31T629400228357\n\n\n	72577862008LexusIS 2506DZW673JTHBK262585075958227556\n\n\n\n\n\n\n\nTERMS AND CONDITIONS\n\nBuyers fees: Dealers & Dismantlers $35.00\nGeneral Public $65.00\n$200.00 cash deposit required to bid\nAll vehicles must be paid for in full CASH ONLY at the conclusion of the auction\nAll vehicles must be removed by Friday following the auction\nLien sale vehicles sold to the general public are sold as is with all vaults and defects\, you are required to pay all DMV back registration and obtain a smog certificate before receiving your title from the DMV\, sales tax for your purchase will be paid directly to the DMV upon submission of the lien sale packet you will receive at the conclusion of the auction. Out of state buyers\, check with your local DMV to be sure that they will accept California lien sale documents for registration in your state.\nFor more info call direct 760-722-6686
URL:https://jbauctioneers.net/event/oceanside-auto-auction-20211221/
LOCATION:S&R Towing\, 1060 Airport Rd.\, Oceanside\, CA\, 92058\, United States
END:VEVENT
END:VCALENDAR