BEGIN:VCALENDAR
VERSION:2.0
PRODID:-//Joe Bradley Auctioneers - ECPv6.15.20//NONSGML v1.0//EN
CALSCALE:GREGORIAN
METHOD:PUBLISH
X-ORIGINAL-URL:https://jbauctioneers.net
X-WR-CALDESC:Events for Joe Bradley Auctioneers
REFRESH-INTERVAL;VALUE=DURATION:PT1H
X-Robots-Tag:noindex
X-PUBLISHED-TTL:PT1H
BEGIN:VTIMEZONE
TZID:America/Los_Angeles
BEGIN:DAYLIGHT
TZOFFSETFROM:-0800
TZOFFSETTO:-0700
TZNAME:PDT
DTSTART:20210314T100000
END:DAYLIGHT
BEGIN:STANDARD
TZOFFSETFROM:-0700
TZOFFSETTO:-0800
TZNAME:PST
DTSTART:20211107T090000
END:STANDARD
BEGIN:DAYLIGHT
TZOFFSETFROM:-0800
TZOFFSETTO:-0700
TZNAME:PDT
DTSTART:20220313T100000
END:DAYLIGHT
BEGIN:STANDARD
TZOFFSETFROM:-0700
TZOFFSETTO:-0800
TZNAME:PST
DTSTART:20221106T090000
END:STANDARD
BEGIN:DAYLIGHT
TZOFFSETFROM:-0800
TZOFFSETTO:-0700
TZNAME:PDT
DTSTART:20230312T100000
END:DAYLIGHT
BEGIN:STANDARD
TZOFFSETFROM:-0700
TZOFFSETTO:-0800
TZNAME:PST
DTSTART:20231105T090000
END:STANDARD
END:VTIMEZONE
BEGIN:VEVENT
DTSTART;TZID=America/Los_Angeles:20220104T103000
DTEND;TZID=America/Los_Angeles:20220104T143000
DTSTAMP:20260424T150604
CREATED:20211203T003239Z
LAST-MODIFIED:20220102T154018Z
UID:10713-1641292200-1641306600@jbauctioneers.net
SUMMARY:OCEANSIDE - AUTO AUCTION
DESCRIPTION:Presented By:Auctions the 1st and 3rd Tuesdays of each monthPUBLIC AUTO AUCTIONUp to 80 Selected Vehicles\nTuesday January 4th @ 10:30am1060 Airport Rd. (in the Oceanside location towing yard)Oceanside 92058Phone. 760-722-6686For a map and directions\, click here\nHere are some photos of vehicles available at this week’s S&R Towing auction.Vehicles posted are subject to change without notice.Click on any of the images below to see the larger picture.*** RUNNERS ***\n\n\n\n\nno images were found \n\n\n*** NON-RUNNERS ***\n\n\n\nno images were found \n\n\n\nTo download a copy of the list in Adobe pdf format\, Click here\n\n\n\n\n\n\n\n	INVOICE #YEARMAKEMODELPLATELIC EXPVINODOMTIT / SAL\n\n\n\n\n	1614421999BuickPark AvenueRHW43361G4CW52K7X4641782\n\n\n	2593942002HyundaiSonataKGA4641KMHWF25S02A540553\n\n\n	3640952000GMCSonoma81768Y21GTCS19W2Y8185931\n\n\n	4561891999FordExplorerNO PLATES1FMYU24E0XUB46597\n\n\n	5608341996HondaCivic7KOY4052HGEJ6323TH122095\n\n\n	6614862006Mercedes-BenzE3506DBB565WDBUF56J86A860937\n\n\n	7598102009Chrysler3006LXB9222C3KA43D89H541810\n\n\n	8600152004FordExplorer5ZDY0871FMDU64K94ZA10589\n\n\n	9596142008VolkswagenRabbit8HKB958WVWAB71K48W164285T\n\n\n	10606022003DodgeStratus5GGD3064B3AG52H73E184408\n\n\n	11595022003MitsubishiEclipse4ZXJ2954A3AC44GX3E077330\n\n\n	12583471996JeepGrand Cherokee3PRB3571J4FX78S3TC237308\n\n\n	13620331996FordMustang5HNS3941FALP42X9TF180323\n\n\n	14591762013KiaForte56XYB974KNAFU5A20D5657463\n\n\n	15613592005CadillacCTS5PFM0041G6DP567550234711\n\n\n	16453342011ChevroletHHR8RPC6013GNBABFW5BS528973\n\n\n	17576062015GMCTerrain1RICH12GKALSEK5F6401713\n\n\n	18614272008FordEscape6RZS1521FMCU03118KC23133\n\n\n	19618322009KiaRio6LGP549KNADE223996569944T\n\n\n	20633612000AcuraTL5BCR90619UUA5663YA037946T\n\n\n	21640921989HondaCivic CRX6UDY192JHMED8354KS011167T\n\n\n	22522601992FordF-150HJS89611FTEX14N8NKA68085\n\n\n	23626912006ChevroletSilverado 150087323S12GCEC19Z061271321T\n\n\n	24640251996DodgeGrand Caravan3SRF2622B4GP44R7TR806290T\n\n\n	25612412011SubaruOutback889DZW4S4BRBKC2B3349577\n\n\n	26572462001AudiTT QUATTRO4SHR590TRUWT28N311032603\n\n\n	27594982005NissanAltima5LTY2631N4AL11D15N411944\n\n\n	28640262000ToyotaCamry7DUT6534T1BG22K2YU006378T\n\n\n	29582092008VolkswagenEosY699AZWVWBA71F38V047572\n\n\n	30607692002HondaCR-V6TVZ383JHLRD78802C019909\n\n\n	31616552001ChevroletSilverado 1500588602GCEK19T611348202\n\n\n	32601312002DodgeStratus6GST8031B3EL36XX2N202256SAL\n\n\n	33558072002CadillacDeVille6TNG3621G6KF57982U158092\n\n\n	34593121995FordMustang6PLW7651FALP4049SF197436\n\n\n	35566532002BMW3 Series7VUS615WBABS33432PG84894\n\n\n	36548272015NissanSentra7RGK5923N1AB7AP1FL692173\n\n\n	37603711997HondaAccord6BEN8381HGCD5639VA213225SAL\n\n\n	38578442004ChevroletTrailblazer5KPM4691GNES16S146226086\n\n\n	39600092008ToyotaSienna8T278925TDZK23C28S135363\n\n\n	40620631997FordTaurus3SQH2051FALP52U4VA135902T\n\n\n	41587712005NissanAltima5KRT3781N4BL11D85N426736\n\n\n	42617372005DodgeMagnum6NQP7492D4FV48T35H554799\n\n\n	43615302003Mercedes-BenzM-Class8GJV0704JGAB57E53A429562\n\n\n	44618701999HondaPrelude4TEE911JHMBB6153XC003269\n\n\n	45607922002FordF-15046783U21FTRW07L62KE24358\n\n\n	46646352006MazdaMazda 35XWX170JM1BK12F761464626\n\n\n	47614702000BMW3 Series5AYM509WBAAM334XYKC71057\n\n\n	48353772003MercuryGrand Marquis4Ztj6292MEFM75W53X619802\n\n\n	49583341998ChevroletS-106G077121GCCS1443WK226685\n\n\n	50326611993Nissan4N590441N6SD11S6PC360432\n\n\n	51577462004JaycoTRAILER1KY47631UJBJ02R041EL0440\n\n\n	5256456WANDERER1JP26334XTTN242XYC223757\n\n\n	53598642014NissanMaximaAV18F8812/211N4AA5AP4EC46395898891\n\n\n	54613072005ToyotaCamry8ESK4188/214T1BE32KX5U393463246474SAL\n\n\n	55645531999ToyotaCorolla4GYH4761NXBR12E2XZ149263NAT\n\n\n	56584132000DodgeDurangoNO PLATE11/171B4HR28ZXYF106789116824\n\n\n	57571481995JeepCherokee3KDB3129/211J4FT78S9SL512061219064\n\n\n	58603622006DodgeCharger8XET7667/222B3KA53HX6H451415194879\n\n\n	59606782006Chrysler3006CUE5736/172C3KA53G96H452498138715\n\n\n	60582141999MazdaB-Series Pickup5Z916214/184F4YR12C7XTM00126184814\n\n\n	61587601999Mercedes-BenzC-Class4HQY33210/13WDBHA24G2XA785563246141\n\n\n	62589552001DodgeDurango7XYY85812/211B4HS28Z61F538192172944\n\n\n	63561042009ToyotaCorolla631H28OOS1NXBU40E89Z028176120171\n\n\n	64593752000FordF-15094171U12/221FTRX17W6YKA63462NASAL\n\n\n	65626522007HondaCivic8WZK8368/22JHMFA36207S008436217243T/SAL\n\n\n	66565732003HondaOdysseyBBM49028/165FNRL18733B092703213817\n\n\n	67604452007LexusIS 250AXE2911/20JTHBK262975029368217157\n\n\n	68545812010DodgeNitro7SCTO363/211D4PU5GK9AW144588131546\n\n\n	69608092014NissanVersa Note7EIK9483/223N1CE2CP9EL39793594014T\n\n\n	70575492007BMW328i7UXG0933/21WBAVC53587FZ75190113901SAL\n\n\n\n\n\n\n\nTERMS AND CONDITIONS\n\nBuyers fees: Dealers & Dismantlers $35.00\nGeneral Public $65.00\n$200.00 cash deposit required to bid\nAll vehicles must be paid for in full CASH ONLY at the conclusion of the auction\nAll vehicles must be removed by Friday following the auction\nLien sale vehicles sold to the general public are sold as is with all vaults and defects\, you are required to pay all DMV back registration and obtain a smog certificate before receiving your title from the DMV\, sales tax for your purchase will be paid directly to the DMV upon submission of the lien sale packet you will receive at the conclusion of the auction. Out of state buyers\, check with your local DMV to be sure that they will accept California lien sale documents for registration in your state.\nFor more info call direct 760-722-6686
URL:https://jbauctioneers.net/event/oceanside-auto-auction-20220104/
LOCATION:S&R Towing\, 1060 Airport Rd.\, Oceanside\, CA\, 92058\, United States
END:VEVENT
BEGIN:VEVENT
DTSTART;TZID=America/Los_Angeles:20220105T123500
DTEND;TZID=America/Los_Angeles:20220105T123500
DTSTAMP:20260424T150604
CREATED:20211124T231354Z
LAST-MODIFIED:20211229T181434Z
UID:10650-1641386100-1641386100@jbauctioneers.net
SUMMARY:OTAY MESA - AUTO AUCTION
DESCRIPTION:Presented By: PUBLIC AUTO AUCTIONUp to 70 Lien Sale VehiclesWednesday January 5th @ 12:35pm(Preview 12:00pm) Auctions held Wednesdays*** NEW LOCATION ***Otay Valley Rd & Heritage Rd\, Chula Vista(Look for signs to the new facility from this location\, actual site is up the hill on 738 Heritage Rd.)Phone: 619-694-7809For a map and directions\, click here Here are some photos of autos available at this week’s Western Towing Auto Auction.Click on any of the images below to see the larger picture.\n\n\n\nno images were found \n\n\n\nTo download a copy of the list in Adobe pdf format\, Click here.\n\n\n\n\n\n\n	NOCONTROLYEAR/MAKEMODELREF NOLS/T\n\n\n\n\n	121-216099 TOYOTA4RUNNER240567LS\n\n\n	221-370601 VOLKSWAGENPASSAT256396LS\n\n\n	321-372903 FORDFOCUS256745LS\n\n\n	421-372509 NISSANVERSA256537LS\n\n\n	521-379703 DODGENEON257145LS\n\n\n	621-356005 FORDTAURUS255003LS\n\n\n	721-365998 TOYOTASIENNA255958LS\n\n\n	821-367009 PONTIACVIBE255896LS\n\n\n	921-362702 VOLKSWAGENGTI255594LS\n\n\n	1021-325112 FORDFOCUS251475LS\n\n\n	1121-325203 VOLKSWAGENPASSAT251503LS\n\n\n	1221-351095 CHEVROLETSUBURBAN254494LS\n\n\n	1321-355605 NISSANALTIMA254883LS\n\n\n	1421-365702 MAZDAPROTÉGÉ255918LS\n\n\n	1521-371705 TOYOTACAMRY256636LS\n\n\n	1621-356712 NISSANSENTRA255004LS\n\n\n	1721-350700 MERCEDESC230254388LS\n\n\n	1821-364507 HYUNDAIAZERA255741LS\n\n\n	1921-376296 SUBARULEGACY256906LS\n\n\n	2021-348009 NISSANALTIMA253969LS\n\n\n	2121-364403 TOYOTACOROLLA255864LS\n\n\n	2221-373702 HONDACIVIC256760LS\n\n\n	2321-345107 NISSANMURANO253764LS\n\n\n	2421-390404 ACURARSX258509LS\n\n\n	2521-380108 AUDIA3257125LS\n\n\n	2621-358602 ACURARSX255010LS\n\n\n	2721-331401 BMW325i252175LS\n\n\n	2821-368903 HONDAACCORD256376LS\n\n\n	2921-330409 HYUNDAISONATA251930LS\n\n\n	3021-362407 SAAB9-7255728LS\n\n\n	3121-352505 CHRYSLER300C254463LS\n\n\n	3221-348102 MAZDAPROTÉGÉ253994LS\n\n\n	3321-384103 HONDACIVIC257371LS\n\n\n	3421-338102 SATURNSL2253013LS\n\n\n	3521-392397 DODGERAM 1500258246LS\n\n\n	3621-362803 SATURNION255631LS\n\n\n	3721-362007 BMW335i255725LS\n\n\n	3821-379903 HONDAACCORD257281LS\n\n\n	3921-335400 FORDF150252797LS\n\n\n	4021-372000 CHEVROLETMALIBU256536LS\n\n\n	41N/A08 CADILLACCTS240337TITLE\n\n\n	4221-368598 BMW528i256228LS\n\n\n	4321-369204 JAGUARXJR-S256384LS\n\n\n	4421-371615 NISSANVERSA256629LS\n\n\n	4521-366795 NISSANMAXIMA256008LS\n\n\n	4621-364006 LEXUSGS300255922LS\n\n\n	4721-361900 FORDF450255724LS\n\n\n	4821-372800 CADILLACSEVILLE256812LS\n\n\n	4921-341305 CHEVROLETTAHOE253392LS\n\n\n	50N/A97 HONDAACCORD259941TITLE\n\n\n\n\n\n\n\nTERMS AND CONDITIONS\n\nCash Only – All Sales are Final\n$200.00 refundable cash deposit to bid\nRefunds are available anytime during auction\nAll cars must be paid for and picked up by 4pm on Thursday ( no exceptions )\nAdditional deposits are required on vehicle’s over $1000.00\nLien sale vehicles sold to the general public are sold as is with all vaults and defects\, you are required to pay all DMV back registration and obtain a smog certificate before receiving your title from the DMV\, sales tax for your purchase will be paid directly to the DMV upon submission of the lien sale packet you will receive at the conclusion of the auction. Out of state buyers\, check with your local DMV to be sure that they will accept California lien sale documents for registration in your state.
URL:https://jbauctioneers.net/event/otay-mesa-auto-auction-20220105/
LOCATION:Western Towing\, 738 Heritage Rd.\, San Diego\, CA\, 92154\, United States
END:VEVENT
BEGIN:VEVENT
DTSTART;TZID=America/Los_Angeles:20220112T123500
DTEND;TZID=America/Los_Angeles:20220112T123500
DTSTAMP:20260424T150604
CREATED:20220102T153456Z
LAST-MODIFIED:20220107T151312Z
UID:11011-1641990900-1641990900@jbauctioneers.net
SUMMARY:OTAY MESA - AUTO AUCTION
DESCRIPTION:Presented By: PUBLIC AUTO AUCTIONUp to 70 Lien Sale VehiclesWednesday January 5th @ 12:35pm(Preview 12:00pm) Auctions held Wednesdays*** NEW LOCATION ***Otay Valley Rd & Heritage Rd\, Chula Vista(Look for signs to the new facility from this location\, actual site is up the hill on 738 Heritage Rd.)Phone: 619-694-7809For a map and directions\, click here Here are some photos of autos available at this week’s Western Towing Auto Auction.Click on any of the images below to see the larger picture.\n\n\n\nno images were found \n\n\n\nTo download a copy of the list in Adobe pdf format\, Click here.\n\n\n\n\n\n\n	NOCONTROLYEAR/MAKEMODELREF NOLS/T\n\n\n\n\n	121-384208 AUDIA4257753LS\n\n\n	221-383106 FORDEXPLORER257279LS\n\n\n	321-379406 CHEVROLETAVEO257269LS\n\n\n	421-377499 FORDTAURUS257128LS\n\n\n	521-376703 HONDAACCORD257031LS\n\n\n	621-383704 BUICKLESABRE257496LS\n\n\n	721-386300 VOLKSWAGENBEETLE258047LS\n\n\n	821-377502 DODGEDURANGO257260LS\n\n\n	921-379206 FORDEXPLORER257296LS\n\n\n	1021-384702 TOYOTACOROLLA257724LS\n\n\n	1121-379509 CHEVROLETCOBALT257259LS\n\n\n	1221-392002 CHEVROLETMONTE CARLO258230LS\n\n\n	1321-392906 DODGESTRATUS258575LS\n\n\n	1421-370810 CHEVROLETEQUINOX256437LS\n\n\n	1521-383900 FORDFOCUS ZX3257509LS\n\n\n	1621-383402 HONDAODYSSEY257646LS\n\n\n	1721-394508 CADILLACCTS258770LS\n\n\n	1821-385794 TOYOTACAMRY257991LS\n\n\n	1921-392698 TOYOTACAMRY258437LS\n\n\n	2021-369094 TOYOTACELICA256380LS\n\n\n	2121-370487 CADILLACBROUGHAM256391LS\n\n\n	2221-366202 TOYOTASEQUOIA256011LS\n\n\n	2321-354694 CHEVROLETC1500254700LS\n\n\n	2421-381903 CHEVROLETMONTE CARLO257386LS\n\n\n	2521-332200 MERCEDESS500252178LS\n\n\n	2621-380097 TOYOTACAMRY256905LS\n\n\n	2721-386105 FORDEXPLORER257809LS\n\n\n	2821-381706 BMW530i257366LS\n\n\n	2921-390501 SAAB9-3258238LS\n\n\n	3021-395012 LEXUSCT200H219057LS\n\n\n	3121-391302 SUZUKIAERIO258543LS\n\n\n	3221-383609 NISSANMURANO257377LS\n\n\n	3321-363110 MINICOOPER255747LS\n\n\n	3421-377607 HONDACIVIC257131LS\n\n\n	3521-381402 LEXUSIS300257613LS\n\n\n	3621-383297 LEXUSES300257423LS\n\n\n	3721-390788 CADILLACEL DORADO258498LS\n\n\n	38N/A07 CHRYSLERPACIFICA260078TITLE\n\n\n	3921-379807 DODGEGRD CARAVAN257284LS\n\n\n	4021-384003 HONDAODYSSEY257562LS\n\n\n	4121-395401 FORDESCORT259124LS\n\n\n	4221-335913 HYUNDAIACCENT252780LS\n\n\n	4321-283604 BMWX3247444LS\n\n\n	4421-385004 BUICKREGAL257764LS\n\n\n	4521-392204 VOLVOS40258244LS\n\n\n	4621-390304 BUICKLESABRE258501LS\n\n\n	4721-377101 HONDAACCORD257061LS\n\n\n	4821-393298 LEXUSES300258681LS\n\n\n	4921-391805 CADILLACSTS258263LS\n\n\n	5021-384394 CHEVROLETSUBURBAN257761LS\n\n\n\n\n\n\n\nTERMS AND CONDITIONS\n\nCash Only – All Sales are Final\n$200.00 refundable cash deposit to bid\nRefunds are available anytime during auction\nAll cars must be paid for and picked up by 4pm on Thursday ( no exceptions )\nAdditional deposits are required on vehicle’s over $1000.00\nLien sale vehicles sold to the general public are sold as is with all vaults and defects\, you are required to pay all DMV back registration and obtain a smog certificate before receiving your title from the DMV\, sales tax for your purchase will be paid directly to the DMV upon submission of the lien sale packet you will receive at the conclusion of the auction. Out of state buyers\, check with your local DMV to be sure that they will accept California lien sale documents for registration in your state.
URL:https://jbauctioneers.net/event/otay-mesa-auto-auction-20220112/
LOCATION:Western Towing\, 738 Heritage Rd.\, San Diego\, CA\, 92154\, United States
END:VEVENT
BEGIN:VEVENT
DTSTART;TZID=America/Los_Angeles:20220118T103000
DTEND;TZID=America/Los_Angeles:20220118T143000
DTSTAMP:20260424T150604
CREATED:20220102T153738Z
LAST-MODIFIED:20220115T222012Z
UID:11098-1642501800-1642516200@jbauctioneers.net
SUMMARY:OCEANSIDE - AUTO AUCTION
DESCRIPTION:Presented By:Auctions the 1st and 3rd Tuesdays of each monthPUBLIC AUTO AUCTIONUp to 80 Selected Vehicles\nTuesday January 18th @ 10:30am1060 Airport Rd. (in the Oceanside location towing yard)Oceanside 92058Phone. 760-722-6686For a map and directions\, click here\nHere are some photos of vehicles available at this week’s S&R Towing auction.Vehicles posted are subject to change without notice.Click on any of the images below to see the larger picture.*** RUNNERS ***\n\n\n\n\nno images were found \n\n\n*** NON-RUNNERS ***\n\n\n\nno images were found \n\n\n\nTo download a copy of the list in Adobe pdf format\, Click here\n\n\n\n\n\n\n\n	INVOICE #YEARMAKEMODELPLATELIC EXPVINODOMTIT / SAL\n\n\n\n\n	1616602001ChevroletSilverado 2500HD7V692411GCHC29U31E223570\n\n\n	2625771999ChryslerSebringAV38E353C3EL55H3XT205046\n\n\n	3624571999ToyotaCamry4DRE852JT2BG22K0X0288233\n\n\n	4626922001fordeseries7NJL2841FTNE24211HA29122\n\n\n	5612062003MercurySable4ZYC2281MEFM50U13G607100\n\n\n	6626552005JeepLiberty5NDK3871J4GK58K65W543430\n\n\n	7583032008CHEVROLETCobalt6TOZ7211G1AL58FX87250777\n\n\n	8625931998FordF-1505K163031FTZX17W2WNA63406\n\n\n	9607872014NissanAltima7YJH7991N4AL3AP3EN252592\n\n\n	10627112008ScionxB7HKA676JTLKE50E381050355SAL\n\n\n	11617261998ToyotaCamry3WUH8274T1BF22K3WU040880\n\n\n	12618742002InfinitiI358KCU571JNKDA31A32T008259SAL\n\n\n	13614872010NissanAltima8CJM0591N4AL2AP2AN479938\n\n\n	14646412004HondaAccord5URC121JHMCM56384C024906TITLE\n\n\n	15625532004ToyotaCorolla5RXN7441NXBR32E54Z305514\n\n\n	16584842009FORDFlex6FTX8212FMDK51C49BA32488\n\n\n	17642132010KiaForte6JYY546KNAFU4A20A5057306TITLE\n\n\n	18624982006FordFusion5UUH3443FAHP08176R241595\n\n\n	19613051997DodgeRam Chassis 25008R625731B6KC26Z1VJ571701\n\n\n	20608582012FordFocus7SYM1321FAHP3K24CL236836TIT/SAL\n\n\n	21606372014FordFocusBM74B731FADP3L95EL131719\n\n\n	22628152006SaturnRELAY5RWJ4835GZDV03L06D106876\n\n\n	23613612001MitsubishiGalant4VGH4714A3AA46G41E225830\n\n\n	24532922003GMCYUKON XL 15008JKY8311GKEC16T63J294138\n\n\n	25626221991HondaAccord2UXD804JHMCB7683MC021585\n\n\n	26641742002ChevroletTahoe4YLW9451GNEC13V12R306771TITLE\n\n\n	2765532PT1997LEXUSES300NONEJT8BF22GXV0083150\n\n\n	28594492005TOYOTAPrius7JVP230JTDKB20U957034597SAL\n\n\n	29628022008SUBARUIMPREZA8FQD869JF1GH75608G804160SAL\n\n\n	30614341988FordF-25011681D31FTHF26G8JPA12729TIT/SAL\n\n\n	31577422001LINCOLNContinental4UQJ2491LNHM97V81Y656233\n\n\n	32564641996TOYOTAAvalon8DUX1654T1BF12B8TU067515\n\n\n	33586251999FORDExplorer6HMF2331FMZU32X0XZA56285\n\n\n	3465516PT1998LEXUSES 300JT8BF28G4W5043089\n\n\n	35615762001ChevroletBlazer8DDJO771GNCT18W91K143805\n\n\n	36631342006ToyotaCorolla6BQR6401NXBR32E36Z606446SAL\n\n\n	37631782008Mercedes-BenzE-Class8RMK008WDBUF56X48B342048\n\n\n	38652642004ChevroletAvalanche65215K13GNEC12T34G187124TITLE\n\n\n	39591822008MINICooper8GJU412WMWMF73588TT93480\n\n\n	40628622003AudiA47LPT155WAUJC68E13A309857\n\n\n	41613542000ToyotaCorolla4RNV8271NXBR12E9YZ403889\n\n\n	42630432009HondaAccord6KGV7511HGCP26899A143149\n\n\n	43629032007ChryslerSebring5YDG6451C3LC46K47N645725\n\n\n	44625462003ChevroletSilverado 15002VO1692GCEC19X431149457TITLE\n\n\n	45606292000ToyotaCamry4JUF561JT2BF22K1Y0251972\n\n\n	46587922007Mercedes-BenzC-Class7CHT527WDBRF52H57F926258\n\n\n	47193031970FIAT4NWP978130591\n\n\n	48629322013ScionFR-S8RXS280JF1ZNAA19D1706086SAL\n\n\n	49632512014JeepPatriot8XNW2211C4NJPFB3ED737777\n\n\n	50533502000BMW3 Series4JDF911WBAAM3349YKC67730\n\n\n	51630711982FordFairmont1EVM9081FABP22B7CK170417\n\n\n	52604061999DodgeRam Pickup 15007P939311B7HC16Y7XS304938\n\n\n	53567472014NISSANVersa7VVX5333N1CN7APXEK463429TIT/SAL\n\n\n	54541002009BUICKEnclave2KA0BSAOFS5GAER23D89J179130\n\n\n	55622262015VolkswagenJetta7VVV65510/213VW2K7AJ2FM356200\n\n\n	56621182002HyundaiSanta Fe4YPB80908/20KM8SC13D72U311730\n\n\n	57550872002JEEPGrand Cherokee4ZVS5701J8GX58NX2C245695\n\n\n	58592082000DODGEIntrepid7ZWT83502/222B3HD56J5YH304714\n\n\n	59586472001FORDFocus8ARN65204/213FAHP31331R202444\n\n\n	60542122000NissanFrontier6E8574202/211N6DD26S5YC388151JUNK\n\n\n	61618691995FordRanger6DJJ36607/151PTCR1DA8SPA56344\n\n\n	62592222009CHEVROLETImpalaLGP3820OFS2G1WB57K991133407\n\n\n	6365529PT2006SuzukiForenza5UVP00507/21KL5JD56Z26K437996\n\n\n	64605962008HondaOdyssey6CQY19202/225FNRL389X8B027237\n\n\n	65571952010HONDAInsight6NVP51510/20JHMZE2H58AS030856\n\n\n	66586912005FORDEscape6HHL35506/211FMYU03125KC73573\n\n\n	67542102011NISSANVersa6XZX67411/183N1BC1CP0BL459424\n\n\n	68610192007SciontC5WMS16109/22JTKDE177670157174\n\n\n	6965655CT2005MINICooper5JPT54101/21WMWRC33425TJ66246\n\n\n	70551532013DODGECharger85WG96106/212C3CDXBG4DH625463\n\n\n	71605442002MercuryMountaineer4ZNB89810/214M2ZU66K52UJ35813SAL\n\n\n	72597682006AcuraTL5WPW62009/2219UUA66286A056170\n\n\n	7365515PT2005DodgeMagnum8CKK81710/222D4FV48V95H555408TITLE\n\n\n	7465654JB2004PorscheCayenne5JQU931WP1AB29P04LA77027TITLE\n\n\n	7565583PT2003NissanFrontier7G0763808/221N6DD26T13C451067\n\n\n	76593802010BMW328i8ARE49406/21WBAPH5G5XANM71144SAL\n\n\n\n\n\n\n\nTERMS AND CONDITIONS\n\nBuyers fees: Dealers & Dismantlers $35.00\nGeneral Public $65.00\n$200.00 cash deposit required to bid\nAll vehicles must be paid for in full CASH ONLY at the conclusion of the auction\nAll vehicles must be removed by Friday following the auction\nLien sale vehicles sold to the general public are sold as is with all vaults and defects\, you are required to pay all DMV back registration and obtain a smog certificate before receiving your title from the DMV\, sales tax for your purchase will be paid directly to the DMV upon submission of the lien sale packet you will receive at the conclusion of the auction. Out of state buyers\, check with your local DMV to be sure that they will accept California lien sale documents for registration in your state.\nFor more info call direct 760-722-6686
URL:https://jbauctioneers.net/event/oceanside-auto-auction-20220118/
LOCATION:S&R Towing\, 1060 Airport Rd.\, Oceanside\, CA\, 92058\, United States
END:VEVENT
BEGIN:VEVENT
DTSTART;TZID=America/Los_Angeles:20220119T123500
DTEND;TZID=America/Los_Angeles:20220119T123500
DTSTAMP:20260424T150604
CREATED:20220102T153537Z
LAST-MODIFIED:20220114T053823Z
UID:11014-1642595700-1642595700@jbauctioneers.net
SUMMARY:OTAY MESA - AUTO AUCTION
DESCRIPTION:Presented By: PUBLIC AUTO AUCTIONUp to 70 Lien Sale VehiclesWednesday January 19th @ 12:35pm(Preview 12:00pm) Auctions held Wednesdays*** NEW LOCATION ***Otay Valley Rd & Heritage Rd\, Chula Vista(Look for signs to the new facility from this location\, actual site is up the hill on 738 Heritage Rd.)Phone: 619-694-7809For a map and directions\, click here Here are some photos of autos available at this week’s Western Towing Auto Auction.Click on any of the images below to see the larger picture.\n\n\n\nno images were found \n\n\n\nTo download a copy of the list in Adobe pdf format\, Click here.\n\n\n\n\n\n\n	NOCONTROLYEAR/MAKEMODELREF NOLS/T\n\n\n\n\n	121-295608 DODGECHARGER248587LS\n\n\n	221-394602 CHEVROLETTAHOE258541LS\n\n\n	321-400001 VOLKSWAGENGOLF259116LS\n\n\n	421-372107 BMW750il256620LS\n\n\n	521-379703 DODGENEON257145LS\n\n\n	621-382101 TOYOTACAMRY257615LS\n\n\n	721-259108 VOLKSWAGENBEETLE245081LS\n\n\n	821-397200 FORDWINDSTAR259057LS\n\n\n	921-398309 CHEVROLETEQUINOX258908LS\n\n\n	1021-390904 OLDSMOBILEALERO258389LS\n\n\n	1121-395103 GMCYUKON259012LS\n\n\n	1221-386704 AUDIA4257993LS\n\n\n	1321-382597 FORDMUSTANG257394LS\n\n\n	1421-397307 SCIONTC259091LS\n\n\n	1521-272806 NISSANARMADA246488LS\n\n\n	1621-391013 DODGEGRD CARAVAN258390LS\n\n\n	1721-397004 AUDIA6258992LS\n\n\n	1821-394308 NISSANALTIMA258716LS\n\n\n	1921-400704 KIAAMANTI259307LS\n\n\n	2021-400402 LEXUSIS300259207LS\n\n\n	2122-001902 FORDTAURUS259467LS\n\n\n	2221-392801 OLDSMOBILEAURORA258658LS\n\n\n	2321-381898 FORDEXPEDITION257588LS\n\n\n	2421-382306 BMW325i257361LS\n\n\n	2521-386604 HONDACIVIC257890LS\n\n\n	2621-382008 JEEPPATRIOT257503LS\n\n\n	2721-397510 MAZDA6259108LS\n\n\n	2821-399106 NISSANXTERRA258995LS\n\n\n	2921-398901 TOYOTACOROLLA258832LS\n\n\n	3021-394404 HONDACIVIC258776LS\n\n\n	3121-390804 BMW325i258248LS\n\n\n	3221-385288 MERCEDES300257775LS\n\n\n	3321-399003 DODGEGRD CARAVAN258881LS\n\n\n	3421-368107 DODGENITRO256226LS\n\n\n	3522-008006 NISSANMAXIMA259977LS\n\n\n	3621-395999 DODGEDURANGO258906LS\n\n\n	3722-001393 FORDEXPLORER259589LS\n\n\n	3822-004202 GMCENVOY259772LS\n\n\n	3921-396204 JEEPGRD CHEROKEE259006LS\n\n\n	4021-376006 FORDESCAPE256864LS\n\n\n	4121-368300 CHEVROLETSILVERADO256263LS\n\n\n	4221-362297 FORDEXPEDITION255851LS\n\n\n	4322-010201 GMCYUKON260179LS\n\n\n	4421-373503 FORDMUSTANG256494LS\n\n\n	4521-382488 FORDECONOLINE257465LS\n\n\n	4622-005807 LEXUSLS400259943LS\n\n\n	4722-003104 BMW530i259727LS\n\n\n	4821-372800 CADILLACSTS256812LS\n\n\n	4922-007299 VOLKSWAGENPASSAT259933LS\n\n\n	5022-032307 HYUNDAITIBURON262752LS\n\n\n\n\n\n\n\nTERMS AND CONDITIONS\n\nCash Only – All Sales are Final\n$200.00 refundable cash deposit to bid\nRefunds are available anytime during auction\nAll cars must be paid for and picked up by 4pm on Thursday ( no exceptions )\nAdditional deposits are required on vehicle’s over $1000.00\nLien sale vehicles sold to the general public are sold as is with all vaults and defects\, you are required to pay all DMV back registration and obtain a smog certificate before receiving your title from the DMV\, sales tax for your purchase will be paid directly to the DMV upon submission of the lien sale packet you will receive at the conclusion of the auction. Out of state buyers\, check with your local DMV to be sure that they will accept California lien sale documents for registration in your state.
URL:https://jbauctioneers.net/event/otay-mesa-auto-auction-20220119/
LOCATION:Western Towing\, 738 Heritage Rd.\, San Diego\, CA\, 92154\, United States
END:VEVENT
BEGIN:VEVENT
DTSTART;TZID=America/Los_Angeles:20220126T123500
DTEND;TZID=America/Los_Angeles:20220126T123500
DTSTAMP:20260424T150604
CREATED:20220102T153610Z
LAST-MODIFIED:20220121T214731Z
UID:11013-1643200500-1643200500@jbauctioneers.net
SUMMARY:OTAY MESA - AUTO AUCTION
DESCRIPTION:Presented By: PUBLIC AUTO AUCTIONUp to 70 Lien Sale VehiclesWednesday January 26th @ 12:35pm(Preview 12:00pm) Auctions held Wednesdays*** NEW LOCATION ***Otay Valley Rd & Heritage Rd\, Chula Vista(Look for signs to the new facility from this location\, actual site is up the hill on 738 Heritage Rd.)Phone: 619-694-7809For a map and directions\, click here Here are some photos of autos available at this week’s Western Towing Auto Auction.Click on any of the images below to see the larger picture.\n\n\n\nno images were found \n\n\n\nTo download a copy of the list in Adobe pdf format\, Click here.\n\n\n\n\n\n\n	NOCONTROLYEAR/MAKEMODELREF NOLS/T\n\n\n\n\n	122-012306 HONDACIVIC260854LS\n\n\n	221-398710 FORDFUSION259112LS\n\n\n	321-390695 BMW525i258369LS\n\n\n	422-013404 HONDACIVIC260498LS\n\n\n	522-007196 HONDACIVIC259925LS\n\n\n	621-331903 ACURARSX252446LS\n\n\n	721-396796 JEEPCHEROKEE259123LS\n\n\n	821-396599 MERCURYTRACER259103LS\n\n\n	922-010001 PONTIACSUNFIRE260176LS\n\n\n	1022-005400 HONDAACCORD260067LS\n\n\n	1121-382208 VOLKSWAGENJETTA257636LS\n\n\n	1221-373109 HONDACIVIC256469LS\n\n\n	1321-382700 FORDRANGER257547LS\n\n\n	1422-006505 CHEVROLETIMPALA259824LS\n\n\n	1522-005304 GMCYUKON260058LS\n\n\n	1622-006998 HONDACIVIC259845LS\n\n\n	1722-000998 CHEVROLETTAHOE259501LS\n\n\n	1822-006101 HYUNDAIXG300259958LS\n\n\n	1922-007396 VOLKSWAGENJETTA260066LS\n\n\n	2022-000096 TOYOTACAMRY259627LS\n\n\n	2121-351998 FORDEXPEDITION254484LS\n\n\n	2221-401900 FORDTAURUS259388LS\n\n\n	2321-377798 DODGEDURANGO257136LS\n\n\n	2421-336904 JEEPGRD CHEROKEE252890LS\n\n\n	2521-399500 NISSANMAXIMA259003LS\n\n\n	2621-396899 LEXUSES300259211LS\n\n\n	2722-009604 KIASPECTRA259951LS\n\n\n	2821-328405 BMW545i251891LS\n\n\n	2921-396012 CHRYSLER200258960LS\n\n\n	3021-386095 FORDPROBE257855LS\n\n\n	3121-394800 ACURAINTEGRA258733LS\n\n\n	3221-400692 ACURALEGEND259285LS\n\n\n	3322-004697 HONDACIVIC259761LS\n\n\n	3421-394905 JAGUARXTYPE258778LS\n\n\n	3521-332397 FORDRANGER252200LS\n\n\n	3621-389900 BMW323i258105LS\n\n\n	3721-306901 VOLVOV70249923LS\n\n\n	3822-001893 HONDAACCORD259605LS\n\n\n	3922-014791 HONDAACCORD260785LS\n\n\n	4022-006099 BUICKLESABRE259902LS\n\n\n	41N/A03 HONDAACCORD260603TITLE\n\n\n	4222-018989 FORDTHUNDERBIRD261310LS\n\n\n	4321-306700 FORDEXPEDITION249913LS\n\n\n	4421-362306 CHRYSLERSEBRING255908LS\n\n\n	4522-001600 BMW528i259603LS\n\n\n	4621-373381 VOLKSWAGENRABBIT256626LS\n\n\n	4721-392707 CHEVROLETMALIBU258487LS\n\n\n	4822-012868 CHEVROLETPICKUP260616LS\n\n\n	4922-010608 FORDMUSTANG260295LS\n\n\n	5022-010808 FORDEXPLORER260293LS\n\n\n	5122-018692 FORDF 250OS 1LS\n\n\n	5222-018777 FORDTRUCKOS 2LS\n\n\n\n\n\n\n\nTERMS AND CONDITIONS\n\nCash Only – All Sales are Final\n$200.00 refundable cash deposit to bid\nRefunds are available anytime during auction\nAll cars must be paid for and picked up by 4pm on Thursday ( no exceptions )\nAdditional deposits are required on vehicle’s over $1000.00\nLien sale vehicles sold to the general public are sold as is with all vaults and defects\, you are required to pay all DMV back registration and obtain a smog certificate before receiving your title from the DMV\, sales tax for your purchase will be paid directly to the DMV upon submission of the lien sale packet you will receive at the conclusion of the auction. Out of state buyers\, check with your local DMV to be sure that they will accept California lien sale documents for registration in your state.
URL:https://jbauctioneers.net/event/otay-mesa-auto-auction-20220126/
LOCATION:Western Towing\, 738 Heritage Rd.\, San Diego\, CA\, 92154\, United States
END:VEVENT
END:VCALENDAR