BEGIN:VCALENDAR
VERSION:2.0
PRODID:-//Joe Bradley Auctioneers - ECPv6.15.20//NONSGML v1.0//EN
CALSCALE:GREGORIAN
METHOD:PUBLISH
X-WR-CALNAME:Joe Bradley Auctioneers
X-ORIGINAL-URL:https://jbauctioneers.net
X-WR-CALDESC:Events for Joe Bradley Auctioneers
REFRESH-INTERVAL;VALUE=DURATION:PT1H
X-Robots-Tag:noindex
X-PUBLISHED-TTL:PT1H
BEGIN:VTIMEZONE
TZID:America/Los_Angeles
BEGIN:DAYLIGHT
TZOFFSETFROM:-0800
TZOFFSETTO:-0700
TZNAME:PDT
DTSTART:20210314T100000
END:DAYLIGHT
BEGIN:STANDARD
TZOFFSETFROM:-0700
TZOFFSETTO:-0800
TZNAME:PST
DTSTART:20211107T090000
END:STANDARD
BEGIN:DAYLIGHT
TZOFFSETFROM:-0800
TZOFFSETTO:-0700
TZNAME:PDT
DTSTART:20220313T100000
END:DAYLIGHT
BEGIN:STANDARD
TZOFFSETFROM:-0700
TZOFFSETTO:-0800
TZNAME:PST
DTSTART:20221106T090000
END:STANDARD
BEGIN:DAYLIGHT
TZOFFSETFROM:-0800
TZOFFSETTO:-0700
TZNAME:PDT
DTSTART:20230312T100000
END:DAYLIGHT
BEGIN:STANDARD
TZOFFSETFROM:-0700
TZOFFSETTO:-0800
TZNAME:PST
DTSTART:20231105T090000
END:STANDARD
END:VTIMEZONE
BEGIN:VEVENT
DTSTART;TZID=America/Los_Angeles:20220301T103000
DTEND;TZID=America/Los_Angeles:20220301T143000
DTSTAMP:20260424T114348
CREATED:20220127T161919Z
LAST-MODIFIED:20220226T071709Z
UID:11639-1646130600-1646145000@jbauctioneers.net
SUMMARY:OCEANSIDE - AUTO AUCTION
DESCRIPTION:Presented By:Auctions the 1st and 3rd Tuesdays of each monthPUBLIC AUTO AUCTIONUp to 80 Selected Vehicles\nTuesday March 1st @ 10:30am1060 Airport Rd. (in the Oceanside location towing yard)Oceanside 92058Phone. 760-722-6686For a map and directions\, click here\nHere are some photos of vehicles available at this week’s S&R Towing auction.Vehicles posted are subject to change without notice.Click on any of the images below to see the larger picture.*** SPECIAL ***\n\n\n\n\nno images were found \n\n\n*** RUNNERS ***\n\n\n\nno images were found \n\n\n*** NON-RUNNERS ***\n\n\n\nno images were found \n\n\n\nTo download a copy of the list in Adobe pdf format\, Click here\n\n\n\n\n\n\n\n	Invoice #YearMakeModelPlate #Lic ExpVinODOMT/S\n\n\n\n\n	1599702006KawasakiNinja ZX-6R18R2540JKBZXJC196A037473SAL\n\n\n	2590932007SuzukiGSX-R 600N/PJS1GN7DA172119843\n\n\n	3490551996YAMAHAXJ60016E0481JYA4DUE09TA056356\n\n\n	4406841983Hondacb15018W7017JH2RC0122DM101139\n\n\n	554745POP UPTRILER1FV5903NONE\n\n\n	6449751991Sea RayBoatCF1658NBSERA55521091\n\n\n	7641622002HondaCivic7WCR0951HGEM21272L047888SAL\n\n\n	8676412010KiaOptima6VNC440KNAGG4A86A5451084T\n\n\n	9649332009GMCSierra 15008W339231GTEC19X99Z253698\n\n\n	10628612007DodgeCaliberAD776801B3HB28B87D536309\n\n\n	11558882013VolkswagenJetta6YJY9403VW4A7AJ5DM381732\n\n\n	12659991999InfinitiQX45AQR779JNRAR07Y2XW068507\n\n\n	13594112003HondaCR-V5BAM814JHLRD684X3C006111\n\n\n	14678552008InfinitiG358WZM057JNKBV61E78M216440\n\n\n	15646192003FordEscapeNONE1FMYU93143KC65377\n\n\n	16643672001ChevroletTahoe8MQR3541GNEC13TX1R194355\n\n\n	17678732005VolvoV705MDJ613YV1SW592X52480918T\n\n\n	18672622000MazdaProtege8WYY758JM1BJ2223Y0283554T\n\n\n	19647372000NissanMaxima7EDE733JN1CA31D9YT513287\n\n\n	20546072012VolkswagenCC6TBV287WVWHP7AN2CE513047\n\n\n	21641642005Mercedes-BenzCLK3208XFB663WDBTK65J35F122835\n\n\n	22656432002HondaAccord4XFL6523HGCG66592G703580SAL\n\n\n	23654771997Mazda6264DTR5751YVGE22C8V5619601T\n\n\n	24657031991ToyotaCorolla6RVX745JT2AE94A7M3425662\n\n\n	25678532009NissanVersa6GNR4573N1CC11E29L426845T\n\n\n	26654421998MitsubishiEclipse4CCV6914A3AK34Y8WE022563\n\n\n	27614202010HyundaiSonata6LVN4395NPET4AC9AH646994\n\n\n	28659242002BMW3 Series7MCC673WBAEV33432KL72427SAL\n\n\n	29654782009ToyotaMatrix8JWB4152T1KE40E79C007382\n\n\n	30503222004Mercedes-BenzE-Class8CDA872WDBUF65J14A571080\n\n\n	31503212004JAGUARSTYPE6XZL128SAJEA01T54FN01546\n\n\n	32615722001ToyotaTacoma6L235345TENM92N51Z741544\n\n\n	33663712000HondaAccord4JSM1971HGCG1652YA031663T\n\n\n	34654162003FordExplorer Sport Trac68486A21FMZU77E73UB66207\n\n\n	35631062015FordTransit Cargo8168001FTNR1ZM4FKB20243\n\n\n	36646392007CadillacCTS5YEB2901G6DP577570169151\n\n\n	3768480PT2002MazdaProtege7KVU491JM1BJ225720530155\n\n\n	38534732003FordMustang415401\n\n\n	39660822013VolkswagenPassat8SKL7771VWBP7A36DC151187SAL\n\n\n	40651801998FordExplorer3XLW4981FMZU34E5WUA01791\n\n\n	41681842000FordExpedition4LDH7211FMPU16L8YLA40441T\n\n\n	42562592005ToyotaCorolla5HJJ4131NXBR32E95Z347167\n\n\n	43686581998MercuryTracer4BYP0031MEFM10PXWW630601\n\n\n	44659692004MazdaRX-85MPR068JM1FE17N040125525\n\n\n	45628642008FORDESCAPE6EZN0191FMCU02Z48KC66548\n\n\n	46616392004HondaAccord5HUY3651HGCM56314A125879\n\n\n	47620122011NissanRogue6RZX129JN8AS5MT9BW567554\n\n\n	48619632004HondaElement8KFS4194/215J6YH28564L009212221475\n\n\n	49628572005FordMustangNA1ZVFT82H255113927?\n\n\n	50623092009ToyotaCorolla7EGB5437/21JTDBL40E29J029669177726\n\n\n	51610572006NissanAltima5ZXX3575/201N4AL11D76N391927189152\n\n\n	52620551999MazdaProtege7EAH7548/21JM1BJ2215X0189004231180\n\n\n	53633422003DodgeRam Pickup 15007B4465312/201D7HA18Z73J551135203977\n\n\n	54653432005HondaAccord5MKJ6077/221HGCM66355A046917127876\n\n\n	55626982008HondaCivicLWY92902/211HGFA16868L032425104077\n\n\n	56615532003HondaCivic6ZQZ1612/111HGEM21563L025246178569\n\n\n	57647402006BMW330i6TAS05512/20WBAVB33586PS11436153387\n\n\n	58643082007CHEVROLETAVALANCHE7J8653812/143GNEC12TX4G119838199872\n\n\n	59676582012Mazda37GVS7027/21JM1BL1UF4C1577360122848T\n\n\n	60626322007HONDAACCORD7WUB4249/221HGCM66497A030389144881\n\n\n	61628601988DodgeRAM 15028489P26/201B7HD14Y1JS62933473469\n\n\n	62651721988Mercedes-Benz300SDL4AJR0585/21WDBCB2A1CB026755183461SAL\n\n\n\n\n\n\n\n\n\nTERMS AND CONDITIONS\n\nBuyers fees: Dealers & Dismantlers $35.00\nGeneral Public $65.00\n$200.00 cash deposit required to bid\nAll vehicles must be paid for in full CASH ONLY at the conclusion of the auction\nAll vehicles must be removed by Friday following the auction\nLien sale vehicles sold to the general public are sold as is with all vaults and defects\, you are required to pay all DMV back registration and obtain a smog certificate before receiving your title from the DMV\, sales tax for your purchase will be paid directly to the DMV upon submission of the lien sale packet you will receive at the conclusion of the auction. Out of state buyers\, check with your local DMV to be sure that they will accept California lien sale documents for registration in your state.\nFor more info call direct 760-722-6686
URL:https://jbauctioneers.net/event/oceanside-auto-auction-20220301/
LOCATION:S&R Towing\, 1060 Airport Rd.\, Oceanside\, CA\, 92058\, United States
END:VEVENT
BEGIN:VEVENT
DTSTART;TZID=America/Los_Angeles:20220302T123500
DTEND;TZID=America/Los_Angeles:20220302T123500
DTSTAMP:20260424T114348
CREATED:20220130T214501Z
LAST-MODIFIED:20220225T235412Z
UID:11701-1646224500-1646224500@jbauctioneers.net
SUMMARY:OTAY MESA - AUTO AUCTION
DESCRIPTION:Presented By: PUBLIC AUTO AUCTIONUp to 70 Lien Sale VehiclesWednesday March 2nd @ 12:35pm(Preview 12:00pm) Auctions held Wednesdays*** NEW LOCATION ***Otay Valley Rd & Heritage Rd\, Chula Vista(Look for signs to the new facility from this location\, actual site is up the hill on 738 Heritage Rd.)Phone: 619-694-7809For a map and directions\, click here Here are some photos of autos available at this week’s Western Towing Auto Auction.Click on any of the images below to see the larger picture.\n\n\n\nno images were found \n\n\n\nTo download a copy of the list in Adobe pdf format\, Click here.\n\n\n\n\n\n\n	NOCONTROLYEAR/MAKEMODELREF NOLS/T\n\n\n\n\n	122-001208 BMW535i259173LS\n\n\n	222-045003 BMW525i263863LS\n\n\n	322-056900 LEXUSES300265312LS\n\n\n	422-052703 SUZUKIXL7264990LS\n\n\n	522-036203 FORDCROWN VIC263263LS\n\n\n	622-055404 MERCEDESC240265209LS\n\n\n	722-035091 TOYOTAPREVIA262845LS\n\n\n	821-363890 VOLVO240DL255873LS\n\n\n	922-044912 MITSUBISHIGALANT263859LS\n\n\n	1022-051309 PONTIACG6264638LS\n\n\n	1122-049498 HONDAACCORD264265LS\n\n\n	1222-030907 BMW328i262580LS\n\n\n	1322-057204 CADILLACCTS265438LS\n\n\n	1422-051706 HYUNDAISONATA264428LS\n\n\n	1521-312807 CHEVROLETBLAZER250312LS\n\n\n	1622-049205 CHEVROLETVENTURE264334LS\n\n\n	1722-059002 HONDAACCORD265608LS\n\n\n	1822-043509 DODGEAVENGER263914LS\n\n\n	1922-027900 TOYOTATUNDRA262320LS\n\n\n	2022-058099 MERCEDESC43265306LS\n\n\n	2122-055808 SAAB9-3265450LS\n\n\n	2222-051597 DODGERAM 1500 VAN264418LS\n\n\n	2322-050601 HONDACIVIC264651LS\n\n\n	2422-056000 TOYOTACOROLLA265192LS\n\n\n	2522-051105 FORDESCAPE264511LS\n\n\n	2622-058706 FORDFREESTAR265331LS\n\n\n	2722-019199 LINCOLNNAVIGATOR261317LS\n\n\n	2822-050510 VOLKSWAGENJETTA264552LS\n\n\n	2922-044003 LANDROVERDISCOVERY263867LS\n\n\n	3020-361018 NISSANXTRAIL217053LS\n\n\n	3122-040993 LEXUSSC400263407LS\n\n\n	3222-047702 ACURARSX264200LS\n\n\n	3322-056694 HONDACIVIC265215LS\n\n\n	3422-020307 CHRYSLERPT CRUISER261402LS\n\n\n	3522-043807 CHRYSLERPT CRUISER263619LS\n\n\n	3622-043103 VOLVOS80263615LS\n\n\n	3722-023108 SATURNASTRA261529LS\n\n\n	3822-048506 CADILLACSRX264329LS\n\n\n	3922-044594 TOYOTACOROLLA263889LS\n\n\n	4022-062703 BMWX5265927LS\n\n\n	4122-043610 AUDIA4264036LS\n\n\n	4222-045705 JEEPLIBERTY263806LS\n\n\n	4321-355401 HYUNDAIELANTRA254869LS\n\n\n	4422-046807 MERCEDESE550263870LS\n\n\n	4522-043904 HONDACIVIC263703LS\n\n\n	4622-047904 TOYOTACOROLLA264221LS\n\n\n	4722-062098 HONDACIVIC264764LS\n\n\n	4822-034501 FORDMUSTANG263174LS\n\n\n	4922-046708 CHRYSLERPT CRUISER263862LS\n\n\n	5021-328307 CHEVROLETEXPRESS VAN251888LS\n\n\n	51N/A15 NISSANVERSAN/ATITLE\n\n\n\n\n\n\n\nTERMS AND CONDITIONS\n\nCash Only – All Sales are Final\n$200.00 refundable cash deposit to bid\nRefunds are available anytime during auction\nAll cars must be paid for and picked up by 4pm on Thursday ( no exceptions )\nAdditional deposits are required on vehicle’s over $1000.00\nLien sale vehicles sold to the general public are sold as is with all vaults and defects\, you are required to pay all DMV back registration and obtain a smog certificate before receiving your title from the DMV\, sales tax for your purchase will be paid directly to the DMV upon submission of the lien sale packet you will receive at the conclusion of the auction. Out of state buyers\, check with your local DMV to be sure that they will accept California lien sale documents for registration in your state.
URL:https://jbauctioneers.net/event/otay-mesa-auto-auction-20220302/
LOCATION:Western Towing\, 738 Heritage Rd.\, San Diego\, CA\, 92154\, United States
END:VEVENT
BEGIN:VEVENT
DTSTART;TZID=America/Los_Angeles:20220309T123500
DTEND;TZID=America/Los_Angeles:20220309T123500
DTSTAMP:20260424T114348
CREATED:20220225T234754Z
LAST-MODIFIED:20220304T161709Z
UID:12137-1646829300-1646829300@jbauctioneers.net
SUMMARY:OTAY MESA - AUTO AUCTION
DESCRIPTION:Presented By: PUBLIC AUTO AUCTIONUp to 70 Lien Sale VehiclesWednesday March 9th @ 12:35pm(Preview 12:00pm) Auctions held Wednesdays*** NEW LOCATION ***Otay Valley Rd & Heritage Rd\, Chula Vista(Look for signs to the new facility from this location\, actual site is up the hill on 738 Heritage Rd.)Phone: 619-694-7809For a map and directions\, click here Here are some photos of autos available at this week’s Western Towing Auto Auction.Click on any of the images below to see the larger picture.\n\n\n\nno images were found \n\n\n\nTo download a copy of the list in Adobe pdf format\, Click here.\n\n\n\n\n\n\n	NOCONTROLYEAR/MAKEMODELREF NOLS/T\n\n\n\n\n	122-048600 TOYOTAAVALON264297LS\n\n\n	222-013102 MERCEDESML500260489LS\n\n\n	322-048706 NISSANALTIMA264298LS\n\n\n	422-056897 HONDACIVIC265274LS\n\n\n	522-041712 FORDFUSION263533LS\n\n\n	622-066296 JEEPGRD CHEROKEE266418LS\n\n\n	722-063302 HONDACIVIC265961LS\n\n\n	822-031405 BMWX3262571LS\n\n\n	922-053103 HONDAODYSSEY265083LS\n\n\n	1022-061101 TOYOTACOROLLA265802LS\n\n\n	1122-053601 BMWX5265077LS\n\n\n	1221-382800 BMW325i257594LS\n\n\n	1322-055609 MITSUBISHIGALANT265448LS\n\n\n	1422-050101 DODGENEON264870LS\n\n\n	1522-052403 HONDAACCORD264978LS\n\n\n	1622-061002 GMCSAFARI265791LS\n\n\n	1722-061796 HONDAACCORD265841LS\n\n\n	1822-055710 DODGEAVENGER265449LS\n\n\n	1922-055506 NISSANMAXIMA265239LS\n\n\n	2022-053376 GMCPICKUP265123LS\n\n\n	2122-017786 FORDRANGER261190LS\n\n\n	2222-045301 CHEVROLETSUBURBAN263760LS\n\n\n	2322-051800 MERCEDESML320264652LS\n\n\n	2422-047802 FORDESCAPE264216LS\n\n\n	2521-386407 NISSANALTIMA258001LS\n\n\n	2621-388097 FORDRANGER258112LS\n\n\n	2721-387302 FORDF150258120LS\n\n\n	2822-044207 SAAB9-3263678LS\n\n\n	2922-057803 BMW745i265335LS\n\n\n	3022-066007 NISSANMURANO266324LS\n\n\n	3122-066105 CHEVROLETTRAILBLAZER266092LS\n\n\n	3221-391705 GMCYUKON258506LS\n\n\n	3322-032204 TOYOTAPRIUS252717LS\n\n\n	3422-066307 FORDFOCUS ZX4266216LS\n\n\n	3522-065795 HONDAODYSSEY266093LS\n\n\n	3622-061806 DODGEDURANGO265822LS\n\n\n	3722-064506 PONTIACG6266091LS\n\n\n	3822-052508 NISSANSENTRA264998LS\n\n\n	3922-047305 CHRYSLER300264209LS\n\n\n	4022-056301 TOYOTACAMRY265327LS\n\n\n	4122-057002 BMW530i265322LS\n\n\n	4222-040694 BMW318i263439LS\n\n\n	4322-056498 HONDACIVIC265336LS\n\n\n	4422-050004 PORSHECAYENNE264782LS\n\n\n	4521-398279 CHEVROLETPICKUP258904LS\n\n\n	4616-0806FORDMUSTANG439830LS\n\n\n	4722-047106 NISSANSENTRA264111LS\n\n\n	4822-062503 FORDEXPLORER265960LS\n\n\n	4922-035495 FORDE350262851LS\n\n\n	5022-005906 DODGEB3500260049LS\n\n\n	5121-346799 FORDF350253877LS\n\n\n	5222-053909 FORDF450N/ALS\n\n\n\n\n\n\n\nTERMS AND CONDITIONS\n\nCash Only – All Sales are Final\n$200.00 refundable cash deposit to bid\nRefunds are available anytime during auction\nAll cars must be paid for and picked up by 4pm on Thursday ( no exceptions )\nAdditional deposits are required on vehicle’s over $1000.00\nLien sale vehicles sold to the general public are sold as is with all vaults and defects\, you are required to pay all DMV back registration and obtain a smog certificate before receiving your title from the DMV\, sales tax for your purchase will be paid directly to the DMV upon submission of the lien sale packet you will receive at the conclusion of the auction. Out of state buyers\, check with your local DMV to be sure that they will accept California lien sale documents for registration in your state.
URL:https://jbauctioneers.net/event/otay-mesa-auto-auction-20220309/
LOCATION:Western Towing\, 738 Heritage Rd.\, San Diego\, CA\, 92154\, United States
END:VEVENT
BEGIN:VEVENT
DTSTART;TZID=America/Los_Angeles:20220315T103000
DTEND;TZID=America/Los_Angeles:20220315T143000
DTSTAMP:20260424T114348
CREATED:20220225T235147Z
LAST-MODIFIED:20220312T150323Z
UID:12147-1647340200-1647354600@jbauctioneers.net
SUMMARY:OCEANSIDE - AUTO AUCTION
DESCRIPTION:Presented By:Auctions the 1st and 3rd Tuesdays of each monthPUBLIC AUTO AUCTIONUp to 80 Selected Vehicles\nTuesday March 15th @ 10:30am1060 Airport Rd. (in the Oceanside location towing yard)Oceanside 92058Phone. 760-722-6686For a map and directions\, click here\nHere are some photos of vehicles available at this week’s S&R Towing auction.Vehicles posted are subject to change without notice.Click on any of the images below to see the larger picture.*** RUNNERS ***\n\n\n\n\nno images were found \n\n\n*** NON-RUNNERS / TRAILERS ***\n\n\n\nno images were found \n\n\n\nTo download a copy of the list in Adobe pdf format\, Click here\n\n\n\n\n\n\n\n	INVOICE #YEARMAKEMODELPLATELIC EXPVINODOMTIT / SAL\n\n\n\n\n	1651081986Automatic2wheel car dollyNO PLATEA59C2FLS1GPKTS838\n\n\n	2557922018CARRUtil-4YMBU0510JN024282\n\n\n	361682Trailer4KP2868LN2UT1112AZ106469\n\n\n	454600utility trailer15 ftN493150\n\n\n	5636931999DodgeRam 15007X714721B7HC13YXXJ501953\n\n\n	6642382017ToyotaCorolla8MVW0452T1BURHE3HC862034\n\n\n	7669042000HondaCivic4VXB3262HGEJ6673YH534709\n\n\n	8649101999BuickCentury7URD3552G4WY52M5X1508412\n\n\n	9656782005Chrysler3006LHH9952C3AA53G95H595283\n\n\n	10660182014ToyotaCorolla7DTJ4735YFBPRHE0EP067428\n\n\n	11661292003ToyotaMatrix5AUN1332T1KR32E53C094346\n\n\n	12663531999FordExplorer4STN0421FMYU22X7XUB82422\n\n\n	13632412000DodgeStratus6WAF1101B3EJ46C1YN251895SAL\n\n\n	14675061989FordThunderbird2MZX5731FAPP6248KH128509\n\n\n	15670692003MercuryGrand MarquisKTT93812MEFM75W83X663003\n\n\n	16671152010HondaCivic7PHA8382HGFG1B6XAH537809SAL\n\n\n	17661222005ToyotaTacoma7X825953TMJU62N65M007057\n\n\n	18659722004HondaAccord5HAZ998JHMCM56824C006140\n\n\n	19668782010HondaAccord6MOJ3781HGCP2F82AA117691\n\n\n	20572552007ToyotaCamry8XDP5454T1BE46K47U039828SAL\n\n\n	21648252006BMW3 Series8CJM370WBAVB33536KS38184\n\n\n	22674072009HyundaiGenesis8TFN516KMHGC46EX9U038918\n\n\n	23618852001HondaCR-V8URR550JHLRD186X1C049445\n\n\n	2469711PT2000MercedesE3204LGX457WDBJF65J7YB102790\n\n\n	25667622013DodgeCharger7EZU8192C3CDXBG7DH628373\n\n\n	26671942002HondaCivic6RVW4511HGEM21932L026257TITLE\n\n\n	27673301993HondaAccord3CMW9601HGCB7657PA056770\n\n\n	28663142004HyundaiAccent7VWX294KMHCG35C84U288986\n\n\n	29620551999MazdaProtege7EAH754JM1BJ2215X0189004\n\n\n	30657212004NissanAltima5GKN9321N4AL11D04C175281\n\n\n	31674991999ChevroletS-105Z178321GCCS1440XK166043\n\n\n	32661282006ChevroletSilverado 1500X711E02GCEC19T661107082\n\n\n	33666892007FordFocus6ZKC0061FAFP31NX7W348807\n\n\n	34663062008AcuraTL8WXG90219UUA765X8A024825\n\n\n	35666802003GMCYukon7BEB2701GKEC13V53R294753\n\n\n	36663762007ToyotaCorolla5ZGN7681NXBR30E67Z881345\n\n\n	37665222000DodgeRam Wagon 35006HNA8742B5WB35ZXYK149161\n\n\n	38686822003MazdaMPV5CSS461JM3LW28A030346520TITLE\n\n\n	39670212010HyundaiAccent6LLA503KMHCM3AC4AU165938\n\n\n	40671182008SaturnVueWLD 749OOS3GSCL33P88S718970\n\n\n	41507412015KiaOptima7HAS20007/21KNAGM4A75F552722472462\n\n\n	42655882002InfinitiG207KOM62504/21JNKCP11A02T509530182584SAL\n\n\n	43644962006ToyotaPrius6VLS43406/22JTDKB20UX63164428247201\n\n\n	44649392008MitsubishiLancer6LZE55404/20JA3AU86UX8U011933122930\n\n\n	45616522010ChryslerSebring7PUW67009/171C3CC5FB4AN147389101392\n\n\n	46654622013MazdaMazda37CXK00910/22JM1BL1LP2D1764253169934\n\n\n	47654762011ChryslerTown & Country2DV1199OOS2A4RR8DG8BR688335165103\n\n\n	48655351998MercuryGrand Marquis7SEN98510/212MEFM75W3WX690601145434\n\n\n	49637412000LincolnNavigator4MVV15008/215LMEU27A2YLJ40901\n\n\n	50661552007DodgeGrand Caravan8RLP36609/202D4GP44LX7R229049140550SAL\n\n\n	51654452005FordF-1508KIG38807/201FTPW12525FA67120128332\n\n\n	52671082011ChevroletHHR6RRA04203/223GNBABFW4BS621127115530\n\n\n	53656872006FordFusion5UDE07906/223FAFP07Z46R180558171215\n\n\n	54665922001ToyotaAvalon8CQT48507/214T1BF28B71U182357187362\n\n\n	55592662002FordF-350 Super Duty7C3593611/171FDSF34L12ED53460259172\n\n\n\n\n\n\n\n\n\nTERMS AND CONDITIONS\n\nBuyers fees: Dealers & Dismantlers $35.00\nGeneral Public $65.00\n$200.00 cash deposit required to bid\nAll vehicles must be paid for in full CASH ONLY at the conclusion of the auction\nAll vehicles must be removed by Friday following the auction\nLien sale vehicles sold to the general public are sold as is with all vaults and defects\, you are required to pay all DMV back registration and obtain a smog certificate before receiving your title from the DMV\, sales tax for your purchase will be paid directly to the DMV upon submission of the lien sale packet you will receive at the conclusion of the auction. Out of state buyers\, check with your local DMV to be sure that they will accept California lien sale documents for registration in your state.\nFor more info call direct 760-722-6686
URL:https://jbauctioneers.net/event/oceanside-auto-auction-20220315/
LOCATION:S&R Towing\, 1060 Airport Rd.\, Oceanside\, CA\, 92058\, United States
END:VEVENT
BEGIN:VEVENT
DTSTART;TZID=America/Los_Angeles:20220316T123500
DTEND;TZID=America/Los_Angeles:20220316T123500
DTSTAMP:20260424T114348
CREATED:20220225T234839Z
LAST-MODIFIED:20220311T004636Z
UID:12138-1647434100-1647434100@jbauctioneers.net
SUMMARY:OTAY MESA - AUTO AUCTION
DESCRIPTION:Presented By: PUBLIC AUTO AUCTIONUp to 70 Lien Sale VehiclesWednesday March 16th @ 12:35pm(Preview 12:00pm) Auctions held Wednesdays*** NEW LOCATION ***Otay Valley Rd & Heritage Rd\, Chula Vista(Look for signs to the new facility from this location\, actual site is up the hill on 738 Heritage Rd.)Phone: 619-694-7809For a map and directions\, click here Here are some photos of autos available at this week’s Western Towing Auto Auction.Click on any of the images below to see the larger picture.\n\n\n\nno images were found \n\n\n\nTo download a copy of the list in Adobe pdf format\, Click here.\n\n\n\n\n\n\n	NOCONTROLYEAR/MAKEMODELREF NOLS/T\n\n\n\n\n	122-066796 ACURA2.5TL266614LS\n\n\n	222-059400 TOYOTACOROLLA265708LS\n\n\n	322-067712 FORDFOCUS266677LS\n\n\n	422-049701 HYUNDAISONATA264624LS\n\n\n	522-050403 CHYRSLERPT CRUISER264527LS\n\n\n	622-069499 HONDAACCORD266943LS\n\n\n	722-056199 NISSANFRONTIER265199LS\n\n\n	822-065089 CHEVROLETCORVETTE266403LS\n\n\n	922-068507 SUBARUIMPREZA266804LS\n\n\n	1022-065205 FORDFREESTYLE266284LS\n\n\n	1121-343511 TOYOTAPRIUS253528LS\n\n\n	1222-061209 CHEVROLETHHR265826LS\n\n\n	1322-068005 SATURNL300266820LS\n\n\n	1422-068398 TOYOTAAVALON266818LS\n\n\n	1522-052896 CHEVROLETLUMINA264989LS\n\n\n	1622-062904 BMW325i265951LS\n\n\n	1722-065508 DODGECALIBER266434LS\n\n\n	1822-069097 FORDEXPEDITION266963LS\n\n\n	1922-068796 TOYOTACAMRY266898LS\n\n\n	2022-070794 CHEVROLETS10267196LS\n\n\n	2122-069504 HYUNDAIACCENT266945LS\n\n\n	2222-051202 BUICKREGAL264521LS\n\n\n	2322-065804 PONTIACGRAND AM266106LS\n\n\n	2422-068903 CHEVROLETTRAILBLAZER266906LS\n\n\n	2522-065900 NISSANALTIMA266264LS\n\n\n	2622-069301 BUICKCENTURY266940LS\n\n\n	2722-066895 TOYOTACOROLLA266528LS\n\n\n	2822-064707 VOLKSWAGENJETTA266229LS\n\n\n	2922-050905 ACURARL264634LS\n\n\n	3022-045604 INFINITIG35263967LS\n\n\n	3122-069208 MERCEDESCLK350266916LS\n\n\n	3222-053899 CADILLACSEVILLE265097LS\n\n\n	3322-034498 FORDEXPEDITION263151LS\n\n\n	3426547704 MERCEDESC230K265477LS\n\n\n	3522-065499 TOYOTACAMRY266397LS\n\n\n	3622-043103 VOLVOS80263615LS\n\n\n	3722-023108 SATURNASTRA261529LS\n\n\n	3822-070301 BMWX5267283LS\n\n\n	3922-068604 SUBARUIMPREZA266872LS\n\n\n	4021-388698 FORDRANGER258113LS\n\n\n	4122-005606 CHEVROLETCOLORADO259832LS\n\n\n	4222-062611 NISSANALTIMA265839LS\n\n\n	4322-063013 NISSANALTIMA269996LS\n\n\n	4422-057694 DODGEDAKOTA265427LS\n\n\n	4522-035107 MERCEDESC280262921LS\n\n\n	4622-065109 MITSUBISHILANCER266079LS\n\n\n	4722-066402 TOYOTACOROLLA266491LS\n\n\n	4822-074914 VOLKSWAGENJETTA267439LS\n\n\n	4921-298293 CHEVROLETCORVETTE249103LS\n\n\n	5021-328307 CHEVROLETEXPRESS VAN251888LS\n\n\n\n\n\n\n\nTERMS AND CONDITIONS\n\nCash Only – All Sales are Final\n$200.00 refundable cash deposit to bid\nRefunds are available anytime during auction\nAll cars must be paid for and picked up by 4pm on Thursday ( no exceptions )\nAdditional deposits are required on vehicle’s over $1000.00\nLien sale vehicles sold to the general public are sold as is with all vaults and defects\, you are required to pay all DMV back registration and obtain a smog certificate before receiving your title from the DMV\, sales tax for your purchase will be paid directly to the DMV upon submission of the lien sale packet you will receive at the conclusion of the auction. Out of state buyers\, check with your local DMV to be sure that they will accept California lien sale documents for registration in your state.
URL:https://jbauctioneers.net/event/otay-mesa-auto-auction-20220316/
LOCATION:Western Towing\, 738 Heritage Rd.\, San Diego\, CA\, 92154\, United States
END:VEVENT
BEGIN:VEVENT
DTSTART;TZID=America/Los_Angeles:20220330T123500
DTEND;TZID=America/Los_Angeles:20220330T123500
DTSTAMP:20260424T114348
CREATED:20220225T235013Z
LAST-MODIFIED:20220324T210809Z
UID:12140-1648643700-1648643700@jbauctioneers.net
SUMMARY:OTAY MESA - AUTO AUCTION
DESCRIPTION:Presented By: PUBLIC AUTO AUCTIONUp to 70 Lien Sale VehiclesWednesday March 30th @ 12:35pm(Preview 12:00pm) Auctions held Wednesdays*** NEW LOCATION ***Otay Valley Rd & Heritage Rd\, Chula Vista(Look for signs to the new facility from this location\, actual site is up the hill on 738 Heritage Rd.)Phone: 619-694-7809For a map and directions\, click here Here are some photos of vehicles available at this week’s Western Towing Auto Auction.Click on any of the images below to see the larger picture.\n\n\n\nno images were found \n\n\n\nTo download a copy of the list in Adobe pdf format\, Click here.\n\n\n\n\n\n\n	NOCONTROLYEAR/MAKEMODELREF#LS/TREGSALVAGEOUT OF STATE\n\n\n\n\n	121-154819 ITALIKA110234723LSO/SN/AOUT OF STATE\n\n\n	221-257283 HONDACB450244891LSCA7/16N/AOUT OF STATE\n\n\n	321-283002 HONDAST1100247459LS02/21N/ANO\n\n\n	421-257192 SUZUKIGS500244890LS2/19N/ANO\n\n\n	521-280007 KAWASAKIEX250247310LS01/14N/ANO\n\n\n	621-369499 YAMAHAYZFR6L256392LS7/19N/ANO\n\n\n	721-053818 KAWASAKIEX400224265LS09/19N/ANO\n\n\n	821-136016 YAMAHAYFZR3232701LS08/17N/ANO\n\n\n	921-369304 SUZUKIGSXR600256386LS01/16N/ANO\n\n\n	1021-129902 APRILACOPO NORD232127LSCA5/18SALVAGEOUT OF STATE\n\n\n	1121-234294 KAWASAKIVN750242766TITLE07/21N/ANO\n\n\n	1221-118195 KAWASAKIEN500230927LS2/15N/ANO\n\n\n	1321-222810 TRIUMPHTIGER241560LS07/18N/ANO\n\n\n	1421-288999 YAMAHAYZF600247917LS06/16N/ANO\n\n\n	1521-287400 HONDACBR900247870LS09/21N/ANO\n\n\n	1621-271705 SUZUKIGSF1200246474LS10/20SALVAGENO\n\n\n	1721-268683 YAMAHAXT550246011LSO/SN/AOUT OF STATE\n\n\n	1821-236109 YAMAHAFZ6R243108LS1/20N/ANO\n\n\n	1921-155808 YAMAHAWR250235031TITLE10/21N/ANO\n\n\n	2021-277105 SUZUKIGS500246848LSO/SN/AOUT OF STATE\n\n\n	2121-322313 KAWASAKI650251293LS12/20N/ANO\n\n\n	2221-001511 KAWASAKININJA218511LS5/20N/ANO\n\n\n	2320-239807 CHUNFENGSCOOTER204545LSCA9/12N/AOUT OF STATE\n\n\n	2421-017306 TRIUMPHTRUXTON220171LS06/20SALVAGENO\n\n\n	2521-134003 BMWF650232494LS03/21N/ANO\n\n\n	2621-121301 YAMAHAYZF R1231134LSO/SSALVAGEOUT OF STATE\n\n\n	2721-197317 HONDACBR1000238671LS10/19N/ANO\n\n\n	2821-143705 SUZUKIGSXR750233400LS10/17N/ANO\n\n\n	2921-128806 YAMAHAYZF R6232043LS3/20N/ANO\n\n\n	3021-091104 HONDAVXT1300227911LS12/17N/ANO\n\n\n	3121-193117 KAWASAKIEX650238182LS11/20N/ANO\n\n\n	3218-392801 HONDACBR900RR122439LSOUT OF STATE\n\n\n	3320-302307 HONDACBR600211303LS08/20N/ANO\n\n\n	3421-154720 ITALIKAFT250234722LSO/SN/AOUT OF STATE\n\n\n	3521-189507 HONDACMX250237815LSO/SN/AOUT OF STATE\n\n\n	3721-149513 TAO TAOATM50-A234079LSO/SN/AOUT OF STATE\n\n\n	3821-139216 ZNEN150T-G233128LS02/21N/ANO\n\n\n	3919-403208 JMSTARSHEN174865LS3/17N/ANO\n\n\n	4021-164715 SYMLANCE235581LS12/19N/ANO\n\n\n	4120-169019 ZEBRA150197071LSO/SN/AOUT OF STATE\n\n\n	4220-194019 ZEBRA150199915LSO/SN/AOUT OF STATE\n\n\n\n\n\n\n\nTERMS AND CONDITIONS\n\nCash Only – All Sales are Final\n$200.00 refundable cash deposit to bid\nRefunds are available anytime during auction\nAll cars must be paid for and picked up by 4pm on Thursday ( no exceptions )\nAdditional deposits are required on vehicle’s over $1000.00\nLien sale vehicles sold to the general public are sold as is with all vaults and defects\, you are required to pay all DMV back registration and obtain a smog certificate before receiving your title from the DMV\, sales tax for your purchase will be paid directly to the DMV upon submission of the lien sale packet you will receive at the conclusion of the auction. Out of state buyers\, check with your local DMV to be sure that they will accept California lien sale documents for registration in your state.
URL:https://jbauctioneers.net/event/otay-mesa-auto-auction-20220330/
LOCATION:Western Towing\, 738 Heritage Rd.\, San Diego\, CA\, 92154\, United States
END:VEVENT
END:VCALENDAR