BEGIN:VCALENDAR
VERSION:2.0
PRODID:-//Joe Bradley Auctioneers - ECPv6.15.20//NONSGML v1.0//EN
CALSCALE:GREGORIAN
METHOD:PUBLISH
X-WR-CALNAME:Joe Bradley Auctioneers
X-ORIGINAL-URL:https://jbauctioneers.net
X-WR-CALDESC:Events for Joe Bradley Auctioneers
REFRESH-INTERVAL;VALUE=DURATION:PT1H
X-Robots-Tag:noindex
X-PUBLISHED-TTL:PT1H
BEGIN:VTIMEZONE
TZID:America/Los_Angeles
BEGIN:DAYLIGHT
TZOFFSETFROM:-0800
TZOFFSETTO:-0700
TZNAME:PDT
DTSTART:20210314T100000
END:DAYLIGHT
BEGIN:STANDARD
TZOFFSETFROM:-0700
TZOFFSETTO:-0800
TZNAME:PST
DTSTART:20211107T090000
END:STANDARD
BEGIN:DAYLIGHT
TZOFFSETFROM:-0800
TZOFFSETTO:-0700
TZNAME:PDT
DTSTART:20220313T100000
END:DAYLIGHT
BEGIN:STANDARD
TZOFFSETFROM:-0700
TZOFFSETTO:-0800
TZNAME:PST
DTSTART:20221106T090000
END:STANDARD
BEGIN:DAYLIGHT
TZOFFSETFROM:-0800
TZOFFSETTO:-0700
TZNAME:PDT
DTSTART:20230312T100000
END:DAYLIGHT
BEGIN:STANDARD
TZOFFSETFROM:-0700
TZOFFSETTO:-0800
TZNAME:PST
DTSTART:20231105T090000
END:STANDARD
END:VTIMEZONE
BEGIN:VEVENT
DTSTART;TZID=America/Los_Angeles:20220503T103000
DTEND;TZID=America/Los_Angeles:20220503T143000
DTSTAMP:20260424T072604
CREATED:20220401T153628Z
LAST-MODIFIED:20220430T053503Z
UID:12532-1651573800-1651588200@jbauctioneers.net
SUMMARY:OCEANSIDE - AUTO AUCTION
DESCRIPTION:Presented By:Auctions the 1st and 3rd Tuesdays of each monthPUBLIC AUTO AUCTIONUp to 80 Selected Vehicles\nTuesday May 3rd @ 10:30am1060 Airport Rd. (in the Oceanside location towing yard)Oceanside 92058Phone. 760-722-6686For a map and directions\, click here\nHere are some photos of vehicles available at this week’s S&R Towing auction.Vehicles posted are subject to change without notice.Click on any of the images below to see the larger picture.*** RUNNERS ***\n\n\n\n\nno images were found \n\n\n*** NON-RUNNERS ***\n\n\n\nno images were found \n\n\n\nTo download a copy of the list in Adobe pdf format\, Click here\n\n\n\n\n\n\n\n	Call #YearMakeModelPlateODOExp DateT/SVin #\n\n\n\n\n	1687932004VOLKSWAGENGOLF5GUN7779BWDE61J244000308\n\n\n	2693182003TOYOTACAMRY5DFW2454T1BF32K83U044991\n\n\n	3712351996HONDAACCORD6CXJ640T1HGCD5631TA067321\n\n\n	4684971989FORDRANGER78088K2T1FTCR10T9KUC28805\n\n\n	5191882005HYUNDAITIBURON7DOM610SKMHHN65F55U175120\n\n\n	6706882001NISSANQUEST7WJX1324N2ZN16T61D830523\n\n\n	7687902006CHEVROLETTRAILBLAZER8GJU8841GNDT13S562197392\n\n\n	8695142010MINI COOPERCOOPER6YLR607WMWML3C59ATX39365\n\n\n	9685602004HYUNDAIELANTRA5GXX321KMHDN46D94U793880\n\n\n	10663112006CHEVROLETIMPALA6VMSE21 2G1WB55K669137902\n\n\n	11688381998DODGENEONCXW0171B3ES47Y2WD632665\n\n\n	12678811985CADILLACELDORADO1MYM6351G6EL5789FE641605\n\n\n	13683912004CHEVROLETMONTE CARLO5VON8392G1WX12K349203642\n\n\n	14695572005VOLKSWAGENPASSAT8XUC817WVWAD63B55P010269\n\n\n	15697652014NISSANSENTRA8ZEA117 T1N4AB7AP0EN851282\n\n\n	16704372011HONDACIVIC8ZER2552HGFA1F98BH521521\n\n\n	17702582002HONDAACCORD4VQX8681HGCG32242A009176\n\n\n	18689222004TOYOTACOROLLA5EXC797JTDBR32E242026182\n\n\n	19671482004KIASORENTO6LCX285KNDJD733245263610\n\n\n	20672082003PONTIACGRAND AM7FXY9091G2NF52F83C213403\n\n\n	21633552006CHEVROLETTRAILBLAZER8GJU8841GNDT13S562197392\n\n\n	25693132015TOYOTACAMRY7MPG375T4T1BF1FK4FU093902\n\n\n	26602642019NISSANVERSA8RTD0093N1CN7AP1KL834757\n\n\n	27684092000HONDACIVIC7YBD9802HGEJ6611YH502014\n\n\n	28702612004HYUNDAITIBURON5JIH408KMHHM65D14U142552\n\n\n	29715652020FORDTRANSIT69709B3 1FTBR3U88LKB05099\n\n\n	30642202003CHEVROLETBLAZER7GYG916T1GNCS13X43K140381\n\n\n	31696852002HONDACIVIC6RJW717SHHEP33642U304082\n\n\n	32699212018NISSANALTIMA8AMV5251N4AL3AP9JC126727\n\n\n	33687712008DODGENITRO6APS823T1D8GT28K28W110551\n\n\n	34661441995BMW5 SERIES3LTE813WBAHD6320SGK53995\n\n\n	35605452005SCIONSCIONBJ209DPJTLKT324750215856\n\n\n	36705982002NISSANALTIMA7UVU4271N4AL11E72C238964\n\n\n	37708141989CHEVROLETS-103V55319T1GNCT18Z6K8228061\n\n\n	38708341995NISSANTRUCK980R901N6SD11S3SC342382\n\n\n	39678242002HYUNDAISONATA4ZXA170KMHWF25S82A527601\n\n\n	40683792000FORDF-1506d454771FTRX17W4YNA38509\n\n\n	41698242014KIAFORTE7AEC91271\,18221-MayKNAFX4A65E5077678\n\n\n	42691362010MAZDAMAZDA 36RXJ273162\,00122-MarJM1BL1SG7A1226192\n\n\n	43707492005MERCURYGRAND MARQUIS8LFW963183\,78821-SepS2MEHM75W95X663426\n\n\n	44670952004PONTIACVIBE6JLM820178\,99118-Jul5Y2SN64L84Z426649\n\n\n	45697971996TOYOTAT1005F69309205\,65818-DecJT4UN22D2T0017708\n\n\n	46699062006DODGECHARGER5TAK362143\,98218-Feb2B3KA43R26H364398\n\n\n	47591122008MITSUBISHIOUTLANDER6ENK197141\,33120-JunJA4MS31X18Z002298\n\n\n	48670052006PONTIACGRAND PIXAR8EJW640235\,42421-Jun2G2WP552461136047\n\n\n	49682041996JEEPGRAND CHEROKEE3SLU590206\,72918-JulS1J4FX58S8TC333987\n\n\n	50698402006CHEVROLETAVALANCHE72090Y1167\,05716-Aug3GNEC12Z36G126346\n\n\n	51689212003TOYOTATACOMA7H49711 20-Nov5TEHN72N43Z292522\n\n\n	52664212002CHEVROLETTAHOE8EST783 267\,80219-Aug1GNEC13T42R242000\n\n\n	53695442000CHEVROLETEXPRESS VAN7YVJ991 209\,95721-Aug1GBFG15R8Y1136664\n\n\n	54720621995NISSANALTIMA8BUU897 53\,22919-MarT1N4BU31D2SC228766\n\n\n	55703132005FORDEXPEDITION6TNR699177\,53220-Feb1FMPU15505LA61539\n\n\n	56724692003LAND ROVERRANGE ROVER49175S1110\,29820-JulTSALME11493A138038\n\n\n\n\n\n\n\n\n\nTERMS AND CONDITIONS\n\nBuyers fees: Dealers & Dismantlers $35.00\nGeneral Public $65.00\n$200.00 cash deposit required to bid\nAll vehicles must be paid for in full CASH ONLY at the conclusion of the auction\nAll vehicles must be removed by Friday following the auction\nLien sale vehicles sold to the general public are sold as is with all vaults and defects\, you are required to pay all DMV back registration and obtain a smog certificate before receiving your title from the DMV\, sales tax for your purchase will be paid directly to the DMV upon submission of the lien sale packet you will receive at the conclusion of the auction. Out of state buyers\, check with your local DMV to be sure that they will accept California lien sale documents for registration in your state.\nFor more info call direct 760-722-6686
URL:https://jbauctioneers.net/event/oceanside-auto-auction-20220503/
LOCATION:S&R Towing\, 1060 Airport Rd.\, Oceanside\, CA\, 92058\, United States
END:VEVENT
BEGIN:VEVENT
DTSTART;TZID=America/Los_Angeles:20220504T123500
DTEND;TZID=America/Los_Angeles:20220504T123500
DTSTAMP:20260424T072604
CREATED:20220401T153306Z
LAST-MODIFIED:20220430T045922Z
UID:12527-1651667700-1651667700@jbauctioneers.net
SUMMARY:OTAY MESA - AUTO AUCTION
DESCRIPTION:Presented By: PUBLIC AUTO AUCTIONUp to 70 Lien Sale VehiclesWednesday May 4th @ 12:35pm(Preview 12:00pm) Auctions held Wednesdays*** NEW LOCATION ***Otay Valley Rd & Heritage Rd\, Chula Vista(Look for signs to the new facility from this location\, actual site is up the hill on 738 Heritage Rd.)Phone: 619-694-7809For a map and directions\, click here Here are some photos of vehicles available at this week’s Western Towing Auto Auction.Click on any of the images below to see the larger picture.\n\n\n\nno images were found \n\n\n\nTo download a copy of the list in Adobe pdf format\, Click here.\n\n\n\n\n\n\n	NOCONTROLYEAR/MAKEMODELREF NOLS/T\n\n\n\n\n	122-051010 LEXUSGS350264979LS\n\n\n	222-110906 BMW530i271660LS\n\n\n	322-057978 FORDMUSTANG265231LS\n\n\n	422-118901 TOYOTACOROLLA272575LS\n\n\n	522-109500 TOYOTAAVALON271529LS\n\n\n	622-071500 FORDEXPEDITION267074LS\n\n\n	722-112995 LINCOLNMARK 8271769LS\n\n\n	822-070603 BMW530i267188LS\n\n\n	922-059508 TOYOTACOROLLA265637LS\n\n\n	1022-104502 JEEPLIBERTY270869LS\n\n\n	1122-106605 BMW5 SERIES271281LS\n\n\n	1222-117904 HONDAELEMENT272418LS\n\n\n	1321-242902 HONDACIVIC243709LS\n\n\n	1422-118688 LINCOLNMARK 8272558LS\n\n\n	1522-122407 DODGECHARGER273000LS\n\n\n	1622-114004 NISSANMURANO271872LS\n\n\n	1722-114189 HONDAACCORD271969LS\n\n\n	1822-117002 HONDAACCORD272253LS\n\n\n	1922-078299 CHEVROLETSILVERADO267708LS\n\n\n	2022-114408 CHEVROLETIMPALA271988LS\n\n\n	21N/A01 JEEPGRD CHEROKEE272277LS\n\n\n	2222-106905 BMW5 SERIES271294LS\n\n\n	2322-104203 FORDEXPLORER270908LS\n\n\n	2422-109707 CHEVROLETMALIBU271577LS\n\n\n	2522-097298 PLYMOUTHVOYAGER270085LS\n\n\n	2622-073406 CHEVROLETIMPALA267110LS\n\n\n	2722-110605 HYUNDAIACCENT271653LS\n\n\n	2821-195610 MERCEDESC300238545LS\n\n\n	2922-110804 CADILLACSRX271610LS\n\n\n	3022-109297 ACURAINTEGRA271411LS\n\n\n	3122-098003 VOLVOXC90270584LS\n\n\n	3222-106203 BMW325i270985LS\n\n\n	3322-094704 FORDF150269961LS\n\n\n	3422-084797 LEXUSLS268617LS\n\n\n	3522-118705 CHEVROLETSUBURBAN272560LS\n\n\n	3622-112095 FORDRANGER271724LS\n\n\n	3722-102106 BMW325i270704LS\n\n\n	3822-099106 CHRYSLERSEBRING270456LS\n\n\n	3922-113801 FORDFOCUS271847LS\n\n\n	4022-115900 FORDEXPLORER272127LS\n\n\n	4121-231512 BMW535i242301LS\n\n\n	4222-071005 NISSANXTERRA267016LS\n\n\n	4322-105094 LEXUSLS400271198LS\n\n\n	4422-112104 KIAAMANTI271621LS\n\n\n	4522-108405 CHEVROLETTAHOE271390LS\n\n\n	4622-095008 HONDAACCORD269912LS\n\n\n	4722-110403 GMCENVOY271620LS\n\n\n	4822-094695 FORDF150269763LS\n\n\n	4922-105293 GMCSUBURBAN271297LS\n\n\n	5021-369997 CHEVROLETK1500256377LS\n\n\n\n\n\n\n\nTERMS AND CONDITIONS\n\nCash Only – All Sales are Final\n$200.00 refundable cash deposit to bid\nRefunds are available anytime during auction\nAll cars must be paid for and picked up by 4pm on Thursday ( no exceptions )\nAdditional deposits are required on vehicle’s over $1000.00\nLien sale vehicles sold to the general public are sold as is with all vaults and defects\, you are required to pay all DMV back registration and obtain a smog certificate before receiving your title from the DMV\, sales tax for your purchase will be paid directly to the DMV upon submission of the lien sale packet you will receive at the conclusion of the auction. Out of state buyers\, check with your local DMV to be sure that they will accept California lien sale documents for registration in your state.
URL:https://jbauctioneers.net/event/otay-mesa-auto-auction-20220504/
LOCATION:Western Towing\, 738 Heritage Rd.\, San Diego\, CA\, 92154\, United States
END:VEVENT
BEGIN:VEVENT
DTSTART;TZID=America/Los_Angeles:20220511T123500
DTEND;TZID=America/Los_Angeles:20220511T123500
DTSTAMP:20260424T072604
CREATED:20220401T153500Z
LAST-MODIFIED:20220506T195252Z
UID:12525-1652272500-1652272500@jbauctioneers.net
SUMMARY:OTAY MESA - AUTO AUCTION
DESCRIPTION:Presented By: PUBLIC AUTO AUCTIONUp to 70 Lien Sale VehiclesWednesday May 11th @ 12:35pm(Preview 12:00pm) Auctions held Wednesdays*** NEW LOCATION ***Otay Valley Rd & Heritage Rd\, Chula Vista(Look for signs to the new facility from this location\, actual site is up the hill on 738 Heritage Rd.)Phone: 619-694-7809For a map and directions\, click here Here are some photos of vehicles available at this week’s Western Towing Auto Auction.Click on any of the images below to see the larger picture.\n\n\n\nno images were found \n\n\n\nTo download a copy of the list in Adobe pdf format\, Click here.\n\n\n\n\n\n\n	NOCONTROLYEAR/MAKEMODELREF NOLS/T\n\n\n\n\n	122-110505 INFINITIG35271622LS\n\n\n	222-120798 TOYOTACAMRY272664LS\n\n\n	322-120810 HYUNDAIELANTRA272883LS\n\n\n	422-124497 MERCURYVILLAGER273339LS\n\n\n	522-124703 HONDAACCORD273392LS\n\n\n	622-122209 HYUNDAISONATA273018LS\n\n\n	722-127492 DAIHATSUROCKY273667LS\n\n\n	822-113502 CHEVORLETTRAILBLAZER272112LS\n\n\n	922-122702 SATURNSL272981LS\n\n\n	1022-130296 NISSAN200 SX274149LS\n\n\n	1122-127510 VOLKSWAGENJETTA273752LS\n\n\n	1222-121600 PLYMOUTHGRD VOYAGER272843LS\n\n\n	1322-118004 TOYOTACOROLLA272428LS\n\n\n	1422-121498 MERCEDEZSLK-CLASS272767LS\n\n\n	1522-127002 JEEPLIBERTY273696LS\n\n\n	1622-098904 NISSANALTIMA270195LS\n\n\n	1722-094108 HONDACIVIC SI269769LS\n\n\n	1822-126795 HONDAACCORD273576LS\n\n\n	1922-117210 VOLKSWAGENJETTA272322LS\n\n\n	2022-123697 TOYOTARAV4273217LS\n\n\n	2122-113196 TOYOTACAMRY271965LS\n\n\n	2222-114593 BUICKLESABRE271951LS\n\n\n	2322-111200 TOYOTASIENNA271523LS\n\n\n	2422-091598 CHEVROLETCAVALIER269526LS\n\n\n	2522-119298 FORDESCORT272563LS\n\n\n	2622-123402 INFINITYQX4273225LS\n\n\n	2722-120901 HONDACIVIC272877LS\n\n\n	2822-115004 FORDMUSTANG271989LS\n\n\n	2922-110792 PONTIACFIREBIRD271680LS\n\n\n	3022-090404 SATURNVUE269589LS\n\n\n	3122-128697 CHEVROLETS10273877LS\n\n\n	3222-123800 BMWZ3273275LS\n\n\n	3322-123304 SUBARULEGACY273273LS\n\n\n	3422-109394 TOYOTACAMRY271467LS\n\n\n	3522-129209 BMWX5274054LS\n\n\n	3622-129606 FORDFOCUS ZX4274028LS\n\n\n	3722-126807 DODGEGRD CARAVAN273665LS\n\n\n	3822-120301 HONDAACCORD272874LS\n\n\n	3922-029416 CHEVROLETCAMARO262149LS\n\n\n	4022-110104 FORDEXPEDITION271541LS\n\n\n	4122-122600 LINCOLNCONTINENTAL272982LS\n\n\n	4222-129105 DODGEMAGNUM273928LS\n\n\n	4322-056208 DODGECHARGER265247LS\n\n\n	4422-113995 LEXUSSC 300271870LS\n\n\n	4522-126307 CHEVROLETCOBALT273675LS\n\n\n	4622-130505 SUBARULEGACY274145LS\n\n\n	4722-099303 GMCYUKON270572LS\n\n\n	4822-130396 CHEVROLETSUBURBAN274155LS\n\n\n	4922-110399 GMCYUKON271581LS\n\n\n	5022-087595 FORDECONOLINE E350269156LS\n\n\n\n\n\n\n\nTERMS AND CONDITIONS\n\nCash Only – All Sales are Final\n$200.00 refundable cash deposit to bid\nRefunds are available anytime during auction\nAll cars must be paid for and picked up by 4pm on Thursday ( no exceptions )\nAdditional deposits are required on vehicle’s over $1000.00\nLien sale vehicles sold to the general public are sold as is with all vaults and defects\, you are required to pay all DMV back registration and obtain a smog certificate before receiving your title from the DMV\, sales tax for your purchase will be paid directly to the DMV upon submission of the lien sale packet you will receive at the conclusion of the auction. Out of state buyers\, check with your local DMV to be sure that they will accept California lien sale documents for registration in your state.
URL:https://jbauctioneers.net/event/otay-mesa-auto-auction-20220511/
LOCATION:Western Towing\, 738 Heritage Rd.\, San Diego\, CA\, 92154\, United States
END:VEVENT
BEGIN:VEVENT
DTSTART;TZID=America/Los_Angeles:20220517T103000
DTEND;TZID=America/Los_Angeles:20220517T143000
DTSTAMP:20260424T072604
CREATED:20220430T053030Z
LAST-MODIFIED:20220514T145800Z
UID:12839-1652783400-1652797800@jbauctioneers.net
SUMMARY:OCEANSIDE - AUTO AUCTION
DESCRIPTION:Presented By:Auctions the 1st and 3rd Tuesdays of each monthPUBLIC AUTO AUCTIONUp to 80 Selected Vehicles\nTuesday May 17th @ 10:30am1060 Airport Rd. (in the Oceanside location towing yard)Oceanside 92058Phone. 760-722-6686For a map and directions\, click here\nHere are some photos of vehicles available at this week’s S&R Towing auction.Vehicles posted are subject to change without notice.Click on any of the images below to see the larger picture.*** RUNNERS ***\n\n\n\n\nno images were found \n\n\n*** NON-RUNNERS ***\n\n\n\nno images were found \n\n\n\nTo download a copy of the list in Adobe pdf format\, Click here\n\n\n\n\n\n\n\n	Auction #Call #YearMakeModelPlateODOExp DateT/SVIN\n\n\n\n\n	1709002005HondaAccordAAK7559OOS1HGCM56885A004375\n\n\n	2680011973GMC8 LugNOTKY2432506864----\n\n\n	3717162002BMW3 Series4ZAK984WBAET37462NG84470\n\n\n	4704382004ChevroletTahoe5KHB7081GNEC13T84R313671\n\n\n	5695162003BMW5 Series5WQN100WBADT43453G027931\n\n\n	6724122000AcuraTL4KFF202T19UUA5665YA025801\n\n\n	7728601996HondaAccord8DDJ123T1HGCD5524TA090200\n\n\n	8660942011MazdaMazda 36RPD960JM1BL1VG5B1425626\n\n\n	9705192000LexusGS 3004JPM557JT8BD68S3Y0095847\n\n\n	10709022005ChevroletEquinox27541A22CNDL63F056164113\n\n\n	11708332007ToyotaCorolla5WKX4191NXBR32E87Z771569\n\n\n	12719331997Toyota4Runner4ETX944TJT3GN86R5V0034418\n\n\n	13703701994DodgeRam 25008X44793S1B7KF26W2RS725325\n\n\n	14716682005HondaAccord5LLY332T1HGCM66575A040621\n\n\n	15709831991NissanTruck94106W11N6HD16S1MC394843\n\n\n	16695442000ChevroletExpress Van7YVJ9911GBFG15R8Y1136664\n\n\n	17717282015ToyotaCorolla7TUW188T2T1BURHE5FC368822\n\n\n	18687902006ChevroletTrailblazer8GJU8841GNDT13S562197392\n\n\n	19711172000MercedesCLK4306XPB608WDBLJ70G8YF162241\n\n\n	20714282002HyundaiSonata6VDN986SKMHWF35H12A609891\n\n\n	21714201999HondaCivic8TVN5552HGEJ6612XH564679\n\n\n	22715842005FordExplorer5PXY3091FMZU63E85ZA29279\n\n\n	2373926PT2002JaguarX-Type6NZZ720SAJEA51D42XC35033\n\n\n	24673072003BMWX55EWC2045UXFB33553LH50592\n\n\n	25736362004MitsubishiEndeavor5FQX396T4A4MM31S74E008945\n\n\n	26713382000ChevroletCamaro4NEP7042G1FP22K6Y2141139\n\n\n	27712101998VolvoV707SYC886TYV1LW5573W2502670\n\n\n	28675591993EagleVision3AOE340JS2E3ED56T9PH545378\n\n\n	29738842001ToyotaSienna4TLB197T4T3ZF13C61U404645\n\n\n	30723282005NissanSentra5PXH217T3N1CB51D25L539447\n\n\n	31708992014FordFocus8VFC2951FADP3F24EL163432\n\n\n	32716962007ChevroletMalibu5UIK2491G1ZT58F97F117709\n\n\n	33740372006ToyotaHighlander7YZV570JTEDW21A360002901\n\n\n	34679402003NissanXterraTS ACT5N1ED28T73C643254\n\n\n	35710462000HondaCivic7FSM970JHMEJ6672YS002454\n\n\n	36731472014ToyotaPrius7MPR201TJTDKDTB32E1560495\n\n\n	37695182007ToyotaCorolla5WYN2581NXBR32E27Z857573\n\n\n	38711022010FordEdge8XEX6752FMDK3GC3ABA03354\n\n\n	39700402007GMCYukon8HEJ022248226Nov-221GKFC13017R262445\n\n\n	40677501995ChevroletSuburban175885May-221GNFK16K4SJ386283\n\n\n	41672092002FordMustang4YPV953Jul-211FAFP40482F106573\n\n\n	42708702001HondaAccord5NMR146199375Jul-20SJHMCG660X1C024727\n\n\n	43740931995NissanAltima8BUU89753229Mar-22T1N4BU31D2SC228766\n\n\n	44680472006MazdaRx-87KAU90492253Apr-21JM1FE173760203946\n\n\n	45699062006DodgeCharger5TAK362193982Feb-182B3KA43R26H364398\n\n\n	46705822009SaturnAura6MXE486170588Jun-221G8ZX57799F223368\n\n\n	47674272005HondaCivic8LGA025179600Mar-202HGES26855H576504\n\n\n	48705972001DodgeDakota74896M1216365Aug-221B7HL2AN11S298063\n\n\n	49544042010InfinitiG3781578JN1CV6AR8AM460339\n\n\n	50672012006MitsubishiEclipse7ZTY326223703Jun-214A3AK24F86E005738\n\n\n	51688742004FordRanger61184R1153399Sep-211FTYR10D94PA95432\n\n\n	52703542002ChevroletTrailblazer5MWS620601001Jun-211GNDS13S622118440\n\n\n	53710211999FordE-2507G93852182485Mar-221FTNE24L1XHB15578\n\n\n	54739232007MercedesS5506XEK963136537Aug-15WDDNG71X87A121066\n\n\n	55739822004JeepGrand Cherokee8FOY01414117Jan-22T1J4GX48S94C412438\n\n\n	56739252006SaturnVue1TAMB0313391Dec-205GZCZ53436S843121\n\n\n	57741201998Dodge8Y82121Sep-19T1B7FL26PXWS592246\n\n\n	58740982005AudiS49ASP691155296Oct-22TWUARL48H25K900073\n\n\n\n\n\n\n\n\n\nTERMS AND CONDITIONS\n\nBuyers fees: Dealers & Dismantlers $35.00\nGeneral Public $65.00\n$200.00 cash deposit required to bid\nAll vehicles must be paid for in full CASH ONLY at the conclusion of the auction\nAll vehicles must be removed by Friday following the auction\nLien sale vehicles sold to the general public are sold as is with all vaults and defects\, you are required to pay all DMV back registration and obtain a smog certificate before receiving your title from the DMV\, sales tax for your purchase will be paid directly to the DMV upon submission of the lien sale packet you will receive at the conclusion of the auction. Out of state buyers\, check with your local DMV to be sure that they will accept California lien sale documents for registration in your state.\nFor more info call direct 760-722-6686
URL:https://jbauctioneers.net/event/oceanside-auto-auction-20220517/
LOCATION:S&R Towing\, 1060 Airport Rd.\, Oceanside\, CA\, 92058\, United States
END:VEVENT
BEGIN:VEVENT
DTSTART;TZID=America/Los_Angeles:20220525T123500
DTEND;TZID=America/Los_Angeles:20220525T123500
DTSTAMP:20260424T072604
CREATED:20220430T045621Z
LAST-MODIFIED:20220519T214247Z
UID:12834-1653482100-1653482100@jbauctioneers.net
SUMMARY:OTAY MESA - AUTO AUCTION
DESCRIPTION:Presented By: PUBLIC AUTO AUCTIONUp to 70 Lien Sale VehiclesWednesday May 25th @ 12:35pm(Preview 12:00pm) Auctions held Wednesdays*** NEW LOCATION ***Otay Valley Rd & Heritage Rd\, Chula Vista(Look for signs to the new facility from this location\, actual site is up the hill on 738 Heritage Rd.)Phone: 619-694-7809For a map and directions\, click here Here are some photos of vehicles available at this week’s Western Towing Auto Auction.Click on any of the images below to see the larger picture.\n\n\n\nno images were found \n\n\n\nTo download a copy of the list in Adobe pdf format\, Click here.\n\n\n\n\n\n\n	NOCONTROLYEAR/MAKEMODELREF NOLS/T\n\n\n\n\n	122-131607 NISSANPATHFINDER274380LS\n\n\n	221-282714 TOYOTAPRIUS246966LS\n\n\n	322-135103 TOYOTACOROLLA274453LS\n\n\n	422-138103 NISSANALTIMA275038LS\n\n\n	522-124703 HONDAACCORD273392LS\n\n\n	622-131002 ACURAMDX274139LS\n\n\n	722-123700 NISSANMAXIMA273204LS\n\n\n	821-387402 FORDRANGER258092LS\n\n\n	922-132709 MITSUBISHIGALANT274261LS\n\n\n	1022-114904 TOYOTACAMRY271953LS\n\n\n	1121-387911 CHEVROLETSILVERADO258115LS\n\n\n	1222-132307 BUICKLUCERNE274451LS\n\n\n	1322-132900 CHEVROLETCHEYENNE274383LS\n\n\n	1422-133300 MAZDAMIATA MX5274264LS\n\n\n	1522-131107 MERCURYGRD MARQUIS274280LS\n\n\n	1622-131398 MERCEDESS-CLASS274370LS\n\n\n	1722-130804 LINCOLNLS274157LS\n\n\n	1822-132207 CADILLACCTS274411LS\n\n\n	1922-128996 TOYOTATERCEL273891LS\n\n\n	2022-115204 JEEPGRD CHEROKEE272024LS\n\n\n	2122-102001 HONDAACCORD270696LS\n\n\n	2222-131404 HONDAACCORD274547LS\n\n\n	2322-108711 DODGEGRD CARAVAN271423LS\n\n\n	2422-138393 SATURNSW2275000LS\n\n\n	2522-057109 TOYOTACAMRY265430LS\n\n\n	2622-137001 HONDACIVIC274906LS\n\n\n	2722-027205 CHEVROLETCOLORADO262252LS\n\n\n	2821-388401 CHEVROLETSILVERADO258107LS\n\n\n	2922-099707 BUICKLUCERNE270334LS\n\n\n	3021-387802 FORDRANGER258093LS\n\n\n	3121-314613 CHRYSLER300250652LS\n\n\n	3221-398407 TOYOTACAMRY258910LS\n\n\n	3322-143512 NISSANROGUE275476LS\n\n\n	3421-388393 FORDRANGER258111LS\n\n\n	3522-129209 BMWX5274054LS\n\n\n	3622-003604 CHEVROLETSILVERADO259738LS\n\n\n	3722-129507 HONDAELEMENT274055LS\n\n\n	3822-133409 SUBARULEGACY274408LS\n\n\n	3922-029416 CHEVROLETCAMARO262149LS\n\n\n	4022-126196 FORDWINDSTAR273497LS\n\n\n	4122-126400 HONDAACCORD273670LS\n\n\n	4222-129092 HONDAACCORD274061LS\n\n\n	4322-135605 MERCURYMARINER274748LS\n\n\n	4422-132595 GEOMETRO274509LS\n\n\n	4522-133096 CHEVROLETBLAZER274404LS\n\n\n	4622-108590 MERCEDES300E271446LS\n\n\n	4722-134901 JEEPCHEROKEE274679LS\n\n\n	4822-137198 FORDF150274864LS\n\n\n	4922-130601 MITSUBISHIMONTERO274146LS\n\n\n	5022-135299 CHEVROLETEXPRESS VAN274629LS\n\n\n	51N/A10 FORDFUSIONN/ATITLE\n\n\n\n\n\n\n\nTERMS AND CONDITIONS\n\nCash Only – All Sales are Final\n$200.00 refundable cash deposit to bid\nRefunds are available anytime during auction\nAll cars must be paid for and picked up by 4pm on Thursday ( no exceptions )\nAdditional deposits are required on vehicle’s over $1000.00\nLien sale vehicles sold to the general public are sold as is with all vaults and defects\, you are required to pay all DMV back registration and obtain a smog certificate before receiving your title from the DMV\, sales tax for your purchase will be paid directly to the DMV upon submission of the lien sale packet you will receive at the conclusion of the auction. Out of state buyers\, check with your local DMV to be sure that they will accept California lien sale documents for registration in your state.
URL:https://jbauctioneers.net/event/otay-mesa-auto-auction-20220525/
LOCATION:Western Towing\, 738 Heritage Rd.\, San Diego\, CA\, 92154\, United States
END:VEVENT
END:VCALENDAR