BEGIN:VCALENDAR
VERSION:2.0
PRODID:-//Joe Bradley Auctioneers - ECPv6.15.20//NONSGML v1.0//EN
CALSCALE:GREGORIAN
METHOD:PUBLISH
X-WR-CALNAME:Joe Bradley Auctioneers
X-ORIGINAL-URL:https://jbauctioneers.net
X-WR-CALDESC:Events for Joe Bradley Auctioneers
REFRESH-INTERVAL;VALUE=DURATION:PT1H
X-Robots-Tag:noindex
X-PUBLISHED-TTL:PT1H
BEGIN:VTIMEZONE
TZID:America/Los_Angeles
BEGIN:DAYLIGHT
TZOFFSETFROM:-0800
TZOFFSETTO:-0700
TZNAME:PDT
DTSTART:20210314T100000
END:DAYLIGHT
BEGIN:STANDARD
TZOFFSETFROM:-0700
TZOFFSETTO:-0800
TZNAME:PST
DTSTART:20211107T090000
END:STANDARD
BEGIN:DAYLIGHT
TZOFFSETFROM:-0800
TZOFFSETTO:-0700
TZNAME:PDT
DTSTART:20220313T100000
END:DAYLIGHT
BEGIN:STANDARD
TZOFFSETFROM:-0700
TZOFFSETTO:-0800
TZNAME:PST
DTSTART:20221106T090000
END:STANDARD
BEGIN:DAYLIGHT
TZOFFSETFROM:-0800
TZOFFSETTO:-0700
TZNAME:PDT
DTSTART:20230312T100000
END:DAYLIGHT
BEGIN:STANDARD
TZOFFSETFROM:-0700
TZOFFSETTO:-0800
TZNAME:PST
DTSTART:20231105T090000
END:STANDARD
END:VTIMEZONE
BEGIN:VEVENT
DTSTART;TZID=America/Los_Angeles:20220803T123500
DTEND;TZID=America/Los_Angeles:20220803T123500
DTSTAMP:20260424T031845
CREATED:20220623T154627Z
LAST-MODIFIED:20220802T010259Z
UID:13484-1659530100-1659530100@jbauctioneers.net
SUMMARY:OTAY MESA - AUTO AUCTION
DESCRIPTION:Presented By: PUBLIC AUTO AUCTIONUp to 70 Lien Sale VehiclesWednesday August 3rd  @ 12:35pm(Preview 12:00pm) Auctions held Wednesdays*** NEW LOCATION ***Otay Valley Rd & Heritage Rd\, Chula Vista(Look for signs to the new facility from this location\, actual site is up the hill on 738 Heritage Rd.)Phone: 619-694-7809For a map and directions\, click here Here are some photos of vehicles available at this week’s Western Towing Auto Auction.Click on any of the images below to see the larger picture.\n\n\n\nno images were found \n\n\n\nTo download a copy of the list in Adobe pdf format\, Click here.\n\n\n\n\n\n\n	NOCONTROLYEAR/MAKEMODELREF NOLS/T\n\n\n\n\n	122-207211 BMW328i283179LS\n\n\n	222-208601 NISSANALTIMA283541LS\n\n\n	322-215104 VOLVOXC90283906LS\n\n\n	422-211006 CHRYSLRPT CRUISER283568LS\n\n\n	522-187699 HONDACIVIC280949LS\n\n\n	622-200804 CHRYSLERSEBRING282412LS\n\n\n	722-194198 HYUNDAIELANTRA281779LS\n\n\n	822-182306 KIASPECTRA280216LS\n\n\n	922-076197 ACURAINTEGRA267732LS\n\n\n	1022-165704 CHEVROLETTAHOE278341LS\n\n\n	1122-203398 HONDACIVIC282495LS\n\n\n	1222-210196 FORDEXPLORER283416LS\n\n\n	1322-213698 MERCEDESE320283682LS\n\n\n	1422-201099 MITSUBISHIECLIPSE282883LS\n\n\n	1522-207903 JAGUARS-TYPE283173LS\n\n\n	1622-197698 HONDAACCORD282152LS\n\n\n	1722-197499 CHEVROLETMONTE CARLO282149LS\n\n\n	1822-149904 BMW530i276290LS\n\n\n	1922-185005 CHRYSLERPT CRUISER280561LS\n\n\n	2022-199598 TOYOTAAVALON282385LS\n\n\n	2122-213401 HONDAACCORD283530LS\n\n\n	2222-213506 NISSANALTIMA283629LS\n\n\n	2322-208504 HONDAACCORD283542LS\n\n\n	2422-150397 FORDF150276391LS\n\n\n	2522-211196 HONDAACCORD283294LS\n\n\n	2622-197805 SATURNION282125LS\n\n\n	2722-178410 TOYOTASIENNA279598LS\n\n\n	2822-187004 FORDRANGER280772LS\n\n\n	2922-150404 HONDAACCORD276481LS\n\n\n	3022-194606 TOYOTACOROLLA281747LS\n\n\n	3122-175007 MINI COOPER279118LS\n\n\n	3222-199707 HONDACIVIC282351LS\n\n\n	3322-180207 MITSUBISHIECLIPSE279857LS\n\n\n	3422-145401 FORDEXPEDITION275605LS\n\n\n	3522-109807 BMW328i271496LS\n\n\n	3622-207301 FORDFOCUS283175LS\n\n\n	3722-194504 VOLVOS60281857LS\n\n\n	3822-201299 FORDEXPEDITION282912LS\n\n\n	3922-208002 HONDAACCORD283307LS\n\n\n	4022-203105 TOYOTACAMRY282920LS\n\n\n	4122-184403 FORDMUSTANG280255LS\n\n\n	4222-180801 TOYOTA4RUNNER279790LS\n\n\n	4322-208706 HONDAACCORD283440LS\n\n\n	4422-205298 TOYOTACAMRY282964LS\n\n\n	4522-178708 BMW328i279584LS\n\n\n	4622-208905 NISSANSENTRA283277LS\n\n\n	4722-164707 AUDIA4278107LS\n\n\n	4822-177899 DODGERAM 1500279484LS\n\n\n	4922-208800 HONDAACCORD283303LS\n\n\n	5022-186595 CHEVROLETG20 VAN280706LS\n\n\n\n\n\n\n\nTERMS AND CONDITIONS\n\nCash Only – All Sales are Final\n$200.00 refundable cash deposit to bid\nRefunds are available anytime during auction\nAll cars must be paid for and picked up by 4pm on Thursday ( no exceptions )\nAdditional deposits are required on vehicle’s over $1000.00\nLien sale vehicles sold to the general public are sold as is with all vaults and defects\, you are required to pay all DMV back registration and obtain a smog certificate before receiving your title from the DMV\, sales tax for your purchase will be paid directly to the DMV upon submission of the lien sale packet you will receive at the conclusion of the auction. Out of state buyers\, check with your local DMV to be sure that they will accept California lien sale documents for registration in your state.
URL:https://jbauctioneers.net/event/otay-mesa-auto-auction-20220803/
LOCATION:Western Towing\, 738 Heritage Rd.\, San Diego\, CA\, 92154\, United States
END:VEVENT
BEGIN:VEVENT
DTSTART;TZID=America/Los_Angeles:20220809T103000
DTEND;TZID=America/Los_Angeles:20220809T143000
DTSTAMP:20260424T031845
CREATED:20220623T154420Z
LAST-MODIFIED:20220806T164027Z
UID:13478-1660041000-1660055400@jbauctioneers.net
SUMMARY:OCEANSIDE - AUTO AUCTION
DESCRIPTION:Presented By:Auctions the 1st and 3rd Tuesdays of each monthPUBLIC AUTO AUCTIONUp to 80 Selected Vehicles\nTuesday August 9th @ 10:30am1060 Airport Rd. (in the Oceanside location towing yard)Oceanside 92058Phone. 760-722-6686For a map and directions\, click here\nHere are some photos of vehicles available at this week’s S&R Towing auction.Vehicles posted are subject to change without notice.Click on any of the images below to see the larger picture.*** RUNNERS ***\n\n\n\n\nno images were found \n\n\n*** NON-RUNNERS ***\n\n\n\nno images were found \n\n\n\nTo download a copy of the list in Adobe pdf format\, Click here\n\n\n\n\n\n\n\n	INVOICE #YEARMAKEMODELPLATEEXPVINODOMTIT/SAL\n\n\n\n\n	1738302008FordCrown Victoria7LSR2162FAFP74V88X109264S\n\n\n	2779302000ToyotaAvalon4LLM4664T1BF28B6YU066576T\n\n\n	3778432004HondaCivic8ZPJ5021HGEM21924L026978T\n\n\n	4746222004ToyotaSienna8SKR2335TDZA23C84S199517\n\n\n	5764431997MitsubshiMontero3WSV718JA4MR41R9VJ010422T\n\n\n	6765781999ChevroletAstro7BJU0151GNDM19W7XB100265\n\n\n	7763672006BMW325i5WPS139WBAVB13516K001097\n\n\n	8785222003AcuraCL7DWT54219UYA424X3A002992S / T\n\n\n	9788922004ToyotaTacoma7N497985TEGN92N34Z424002T\n\n\n	10763642011ChevroletAveo6SCE842KL1TD6DE9BB173072\n\n\n	11762202006BuickLaCrosse8VFZ4732G4WC582661257516\n\n\n	12760832013FordFiesta7BCZ5943FADP4BJ3DM220767T\n\n\n	13769031986AcuraIntegra3VPV635JH4DA3350GS003467\n\n\n	14771582003FordExplorer5CNS1501FMYU60EX3UB88573\n\n\n	15681332007SaturnVue5XDL4815GZCZ33Z07S859777\n\n\n	16792761996FordExplorer4DMW5721FMDU35P9TUC74934\n\n\n	17720801998DodgeRam 25001B7KF2363WJ189927\n\n\n	18736411991ChevroletCorvette3EVW5831G1YY2383M5117338\n\n\n	19767292015ToyotaPrius c7MMX565JTDKDTB31F1101010T\n\n\n	20760932007LexusIS 2506AYS269JTHBK262972054448\n\n\n	21793032015ToyotaCorolla7TUW188 \n\n\n	22796072007ToyotaCorolla5WYN258 1NXBR32E27Z857573\n\n\n	23772851999HondaAccord6XZW7631HGCG1657XA025193\n\n\n	24772012008ToyotaSienna7TDE7705TDZK23C38S120919\n\n\n	25766082009NissanAltima6JNZ3871N4BL24E59C114823\n\n\n	26775612006HondaCivic8CZE446JHMFA16806S005978S\n\n\n	27761432012NissanSentra7EBX6583N1AB6AP0CL734614\n\n\n	28756432002KiaSpectra5AEU081KNAFB121825202569\n\n\n	29775522009ToyotaCorolla7TCZ135JTDBL40E499051769S\n\n\n	30751332002MerzS-ClassN/PWDBNG75J22A295545\n\n\n	31758352002MerzS-Class1243843WDBNG75J42A250610\n\n\n	32792161990LexusES2502ROE220JT8VV22T6L0099310\n\n\n	33788222005SubaruForester5UTH878JF1SG63615H713852\n\n\n	34749312006ChevroletCobalt8JCP2601G1AL15F567776633\n\n\n	35783471996JeepCherokee5HMM9751J4FT68S3TL164396T\n\n\n	36727952001ToyotaCamry Solara4SNG0682T1CG22P01C501816\n\n\n	37783262006AcuraTL6ZJJ39819UUA66296A017958S\n\n\n	3877306FordfiestaAHL42469BFBT09N578033947\n\n\n	39731802008NissanAltima6E1W755T\n\n\n	40773052005Chrysler3008RLWO842C3JA63H45H525379\n\n\n	41763461988LincolnMark VII2GNJ1731LNBM93E8JY666546\n\n\n	42766472000MercurySable4NMR6921MEFM59S0YG645247S\n\n\n	43702341992Toyota4Runner6YVC492Mar-22JT3VN29V5N000955049\,074\n\n\n	44771072004NissanMaxima1MACHO Jun-211N4BA41E94C824533172\,243\n\n\n	45713102006HondaAccord6JNG262 May-221HGCM56766A124572116\,292S\n\n\n	46773082000ToyotaCamry4NIA981 Sep-20JT2BF28K2Y0278363233\,277\n\n\n	47750932001Lexusis3005MWU942 May-20JTHBD182710022652391\,598\n\n\n	48755932014DodgeDart7EHH521 Mar-211C3CDFBB1ED701220131\,903\n\n\n	49689772003MerzE-Class6EOY023 Dec-19WDBUF65J93A153073123\,000\n\n\n	50707592000BMW3 SeriesMar-21WBAAM5349YKG17868248\,116JUNK\n\n\n	51740052003HondaAccord5BBC291 Jan-21JHMCM56613C031169284\,566\n\n\n	52720962001HondaAccord4UBK229 Aug-213HGCG66541G711763162\,090\n\n\n	53720882002ToyotaSequoia4XRV339 Apr-205TDZT34A02S098210111\,451\n\n\n	54665412005AcuraTLOct-2019UUA66255A004106180\,350\n\n\n	55749832007ChevroletTahoe8TDF518 Oct-221GNFC13007J399376190\,298S\n\n\n	56752612006MercuryMilan5TYS779 Apr-193MEHM08116R63081692\,165\n\n\n	57731831998FordClub Wagon68406S2 Jul-211FMRE1167WHB20515156\,814\n\n\n	58762982002SubaruImpreza4TYJ563 Aug-20JF1GD296X2G512709194\,688\n\n\n	59771881996FordEconoline64065R1 Aug-181FDLE40G7THB6868838\,511\n\n\n	60751192002FordF-25075573N2 Aug-201FTNX20L92ED55004309\,203\n\n\n	61735151995DodgeRam 15005D65070 Jul-221B7HC16X7SS344744263\,146\n\n\n	62786552005FordF-65065926W1 Nov-223FRNF65E75V117071137\,715T\n\n\n\n\n\n\n\n\nTERMS AND CONDITIONS\n\nBuyers fees: Dealers & Dismantlers $35.00\nGeneral Public $65.00\n$200.00 cash deposit required to bid\nAll vehicles must be paid for in full CASH ONLY at the conclusion of the auction\nAll vehicles must be removed by Friday following the auction\nLien sale vehicles sold to the general public are sold as is with all vaults and defects\, you are required to pay all DMV back registration and obtain a smog certificate before receiving your title from the DMV\, sales tax for your purchase will be paid directly to the DMV upon submission of the lien sale packet you will receive at the conclusion of the auction. Out of state buyers\, check with your local DMV to be sure that they will accept California lien sale documents for registration in your state.\nFor more info call direct 760-722-6686
URL:https://jbauctioneers.net/event/oceanside-auto-auction-20220809/
LOCATION:S&R Towing\, 1060 Airport Rd.\, Oceanside\, CA\, 92058\, United States
END:VEVENT
BEGIN:VEVENT
DTSTART;TZID=America/Los_Angeles:20220817T123500
DTEND;TZID=America/Los_Angeles:20220817T123500
DTSTAMP:20260424T031845
CREATED:20220603T210510Z
LAST-MODIFIED:20220812T041203Z
UID:13207-1660739700-1660739700@jbauctioneers.net
SUMMARY:OTAY MESA - AUTO AUCTION
DESCRIPTION:Presented By: PUBLIC AUTO AUCTIONUp to 70 Lien Sale VehiclesWednesday August 17th  @ 12:35pm(Preview 12:00pm) Auctions held Wednesdays*** NEW LOCATION ***Otay Valley Rd & Heritage Rd\, Chula Vista(Look for signs to the new facility from this location\, actual site is up the hill on 738 Heritage Rd.)Phone: 619-694-7809For a map and directions\, click here Here are some photos of vehicles available at this week’s Western Towing Auto Auction.Click on any of the images below to see the larger picture.\n\n\n\nno images were found \n\n\n\nTo download a copy of the list in Adobe pdf format\, Click here.\n\n\n\n\n\n\n	NOCONTROLYEAR/MAKEMODELREF NOLS/T\n\n\n\n\n	122-220704 HONDAACCORD284198LS\n\n\n	222-219996 TOYOTACOROLLA284100LS\n\n\n	322-219603 HYUNDAIELANTRA284401LS\n\n\n	422-032707 HONDAFIT262750LS\n\n\n	522-217697 MERCURYGRD MARQUIS284446LS\n\n\n	622-150404 HONDAACCORD276481LS\n\n\n	722-205894 BMW318i283107LS\n\n\n	822-230605 TOYOTASIENNA284989LS\n\n\n	922-225605 MITSUBISHIGALANT284688LS\n\n\n	1022-215006 NISSANPATHFINDER283941LS\n\n\n	1122-230999 CADILLACEL DORADO285176LS\n\n\n	1222-230804 DODGESTRATUS285164LS\n\n\n	1322-232102 KIASPECTRA285427LS\n\n\n	1422-231705 NISSANALTIMA285480LS\n\n\n	1522-188102 HONDACIVIC280908LS\n\n\n	1622-229607 HONDAODYSSEY285029LS\n\n\n	1722-219101 TOYOTACAMRY284083LS\n\n\n	1822-235110 HYUNDAISONATA285555LS\n\n\n	1922-231996 BMW328i285471LS\n\n\n	2022-232309 PONTIACVIBE285445LS\n\n\n	2122-201403 TOYOTACOROLLA282479LS\n\n\n	2222-182801 CHRYSLERPT CRUISER280306LS\n\n\n	2322-218506 TOYOTACAMRY284118LS\n\n\n	2422-218907 BMW535i283795LS\n\n\n	2522-216807 CHRYSLERASPEN284235LS\n\n\n	2622-220099 TOYOTASIENNA284126LS\n\n\n	2722-220396 TOYOTACAMRY284392LS\n\n\n	2822-219299 TOYOTACOROLLA284130LS\n\n\n	2922-214500 TOYOTACOROLLA283898LS\n\n\n	3022-219301 NISSANQUEST284139LS\n\n\n	3122-229500 HONDAACCORD285020LS\n\n\n	3222-224708 NISSANALTIMA284636LS\n\n\n	3322-232405 KIAOPTIMA285482LS\n\n\n	3422-216903 HONDAODYSSEY284000LS\n\n\n	3522-228393 TOYOTACAMRY285296LS\n\n\n	3622-226904 BUICKRENDEZVOUS285316LS\n\n\n	3722-228603 BUICKCENTURY285338LS\n\n\n	3822-231002 HONDAACCORD285191LS\n\n\n	3922-232201 TOYOTACAMRY285442LS\n\n\n	4022-228500 TOYOTASIENNA285301LS\n\n\n	4122-228208 FORDFOCUS285073LS\n\n\n	4222-213407 KIARONDO283627LS\n\n\n	4322-224305 HONDAACCORD284612LS\n\n\n	4422-228496 HONDAACCORD285298LS\n\n\n	4522-225795 HONDAACCORD283433LS\n\n\n	4622-217208 FORDESCAPE284232LS\n\n\n	4722-213804 FORDF150283691LS\n\n\n	4822-177899 DODGERAM279484LS\n\n\n	4922-224600 CHEVROLETSILVERADO284635LS\n\n\n	5022-186595 CHEVROLETVAN280706LS\n\n\n\n\n\n\n\nTERMS AND CONDITIONS\n\nCash Only – All Sales are Final\n$200.00 refundable cash deposit to bid\nRefunds are available anytime during auction\nAll cars must be paid for and picked up by 4pm on Thursday ( no exceptions )\nAdditional deposits are required on vehicle’s over $1000.00\nLien sale vehicles sold to the general public are sold as is with all vaults and defects\, you are required to pay all DMV back registration and obtain a smog certificate before receiving your title from the DMV\, sales tax for your purchase will be paid directly to the DMV upon submission of the lien sale packet you will receive at the conclusion of the auction. Out of state buyers\, check with your local DMV to be sure that they will accept California lien sale documents for registration in your state.
URL:https://jbauctioneers.net/event/otay-mesa-auto-auction-20220817/
LOCATION:Western Towing\, 738 Heritage Rd.\, San Diego\, CA\, 92154\, United States
END:VEVENT
BEGIN:VEVENT
DTSTART;TZID=America/Los_Angeles:20220823T103000
DTEND;TZID=America/Los_Angeles:20220823T143000
DTSTAMP:20260424T031845
CREATED:20220802T010832Z
LAST-MODIFIED:20220820T145853Z
UID:13871-1661250600-1661265000@jbauctioneers.net
SUMMARY:OCEANSIDE - AUTO AUCTION
DESCRIPTION:Presented By:Auctions the 1st and 3rd Tuesdays of each monthPUBLIC AUTO AUCTIONUp to 80 Selected Vehicles\nTuesday August 23rd @ 10:30am1060 Airport Rd. (in the Oceanside location towing yard)Oceanside 92058Phone. 760-722-6686For a map and directions\, click here\nHere are some photos of vehicles available at this week’s S&R Towing auction.Vehicles posted are subject to change without notice.Click on any of the images below to see the larger picture.*** RUNNERS ***\n\n\n\n\nno images were found \n\n\n*** NON-RUNNERS ***\n\n\n\nno images were found \n\n\n\nTo download a copy of the list in Adobe pdf format\, Click here\n\n\n\n\n\n\n\n	Invoice#YearMakeModelPlateExpVin#OdomTit/Sal\n\n\n\n\n	1779192007Mazda37SYF955JM1BK32F571687678\n\n\n	2795152008MitsubishiRaider96654K21Z7HC22K18S572493T\n\n\n	3750512007LincolnTown Car8UQS2371LNHM84W97Y622527sal\n\n\n	4784702004BMW3 Series7PES928WBABD33454JY98105\n\n\n	5801402003HondaPilot4YDA0862HKYF18543H503013JS\n\n\n	6787332002ToyotaSequoia4XTD2355TDZT34A52S113820T\n\n\n	7779612001FordF-1506V098671FTRX18L41NB67263T\n\n\n	9775932018HyundaiElantra8HQC0645NPD84LF9JH284752\n\n\n	10770002002FordF-1507L109691FTRW07652KE27083\n\n\n	11746752005VolkswagonTouregNEV4087WVGBG67L65D055880OOS\n\n\n	12777702004NissanAltima5GGT2601N4AL11D94C166188\n\n\n	13752102000ToyotaTundra94909G35TBBT4811YS044790\n\n\n	14723802009HyundaiSonataWLA9LB5NPEU46F29H507124OOS\n\n\n	15778982003ToyotaSequoia6LHA5085TDZT38A53S200287\n\n\n	16793222005MazdaRX-88SME360JM1FE173450146359T/SAL\n\n\n	17745511997FordRangerDP886UB1FTCR14UXVPB55241\n\n\n	19761941998Mercedes-BenzE3207CNY988WDBJF65F5WA520425\n\n\n	20761831996Volvo8505UBR017YV1LW5543T2206761\n\n\n	21778742005FordFocus5NGG0171FAFP34N85W290432\n\n\n	22779872009HyundaiSonata7YOA0275NPEU46C69H557112\n\n\n	23715552004SuzukiForenza5KIB294KL5JJ52Z44K031455\n\n\n	24775892006HondaCivic7DFN2342HGFG12846H566795\n\n\n	25781752017ChevroletCruze8SOV6411G1BC5SM0H7269768\n\n\n	26752812005LexusES3308KIM732JTHBA30G255079409T\n\n\n	27753961999ToyotaCorolla4FLY4701NXBR12E3XZ206845\n\n\n	28739002000HondaAccord4NJZ1581HGCG2259YA039514\n\n\n	29746241992HondaAccord0JHMCB7647NC036394\n\n\n	30748212005NissanMaxima8CDC4671N4BA41E85C805005SAL\n\n\n	31782982003ToyotaCorolla8SEZ2861NXBR32E83Z051280T\n\n\n	32784382005ToyotaRAV45MDJ067JTEGD20V150056414\n\n\n	33761841995ChevroletCamaroCSG92702G1FP22K9S2203284\n\n\n	34708662001FordTaurus4SJS7851FAHP56S41A123872\n\n\n	35807451999LexusES3004GOW947JT8BF28G3X0221878\n\n\n	36766751999BuickLeSabre4FVR3851G4HR52K3XH465626\n\n\n	37719682007HyundaiAzera7WXF268KMHFC46FX7A179815T/SAL\n\n\n	38734761999LexusRX 3004ECH426JT6GF10U7X0027042\n\n\n	39779462002CadillacEscalade4ZKR4811GYEK63N02R289996\n\n\n	40785651996SubaruLegacy8AIZ6154S3BK4259T6934064T\n\n\n	41604041986JeepCherokeeUJA9911JCHX7812GT130308\n\n\n	42782022005SaturnIonU457L1G8AF52F15Z129279\n\n\n	43691651991FordF-1504J879941FTDF15Y0MPA33453T/OOS\n\n\n	44779412005Chrysler3005KRN5032C3JA53G55H569683\n\n\n	45761191998NissanAltima3XTA7961N4DL01D0WC168082\n\n\n	4680747J2005LexusRX3305MVN06120-AprJTJGA31U850055895206\,730\n\n\n	4780748J2008LincolnMKXDP663ZS21-Apr2LMDU68C88BJ30271\n\n\n	48749792008Mercedes-BenzC3008HQW24024-FebWDDGF54XX8R017547149\,910JUNK\n\n\n	49759531995ChevroletBlazer3LVM71422-Apr1GNCS13W2S2194994211\,882\n\n\n	50736372008FordFocus6YIC04322-Mar1FAHP33N88W117346176\,821\n\n\n	51701112003ToyotaCamry6GEZ74920-Nov4T1BE32K53U778880248\,390\n\n\n	52757602001ChevroletSUBURBAN 15005MPY804Mar-183GNEC16T41G211324231\,652\n\n\n	53726651999FordMustang8JRS323Jan-201FAFP45X8XF102498157\,071\n\n\n	54769681999DodgeDakota01B7GG22Y0XS254931137\,817\n\n\n	55768202001HondaCR-V8REJ559Feb-21JHLRD284X1S002054\n\n\n	56749202007KiaSorentoWCJ050KNDJD736675703536174\,842\n\n\n	57768172007NissanAltima6ACL98423-Jun1N4CL21E17C207943149\,510\n\n\n	58752952004JaguarX-TYPE5PAA52820-JulSAJEA51C04WD94793155\,175\n\n\n	59759552002GMCSonoma07098N119-Nov1GTCS145628201456132\,296\n\n\n	60778352005SubaruLegacyV04027723-Jun4S3BL616657222739281\,045\n\n\n	61732381999ChevroletSilverado 150056767T122-Oct1GCEK19T2XZ162270304\,230\n\n\n	62757672003LincolnNavigator6FAS52621-Sep5LMFU27R83LJ00664218\,021\n\n\n	63731652017NissanAltima8MBL92022-Aug1N4AL3AP1HC262778149\,115\n\n\n	64767361995HondaAccord6MPN06722-Sep1HGCD5639SA166497263\,775\n\n\n\n\n\n\n\n\nTERMS AND CONDITIONS\n\nBuyers fees: Dealers & Dismantlers $35.00\nGeneral Public $65.00\n$200.00 cash deposit required to bid\nAll vehicles must be paid for in full CASH ONLY at the conclusion of the auction\nAll vehicles must be removed by Friday following the auction\nLien sale vehicles sold to the general public are sold as is with all vaults and defects\, you are required to pay all DMV back registration and obtain a smog certificate before receiving your title from the DMV\, sales tax for your purchase will be paid directly to the DMV upon submission of the lien sale packet you will receive at the conclusion of the auction. Out of state buyers\, check with your local DMV to be sure that they will accept California lien sale documents for registration in your state.\nFor more info call direct 760-722-6686
URL:https://jbauctioneers.net/event/oceanside-auto-auction-20220823/
LOCATION:S&R Towing\, 1060 Airport Rd.\, Oceanside\, CA\, 92058\, United States
END:VEVENT
BEGIN:VEVENT
DTSTART;TZID=America/Los_Angeles:20220824T123500
DTEND;TZID=America/Los_Angeles:20220824T123500
DTSTAMP:20260424T031845
CREATED:20220730T132734Z
LAST-MODIFIED:20220820T020415Z
UID:13861-1661344500-1661344500@jbauctioneers.net
SUMMARY:OTAY MESA - AUTO AUCTION
DESCRIPTION:Presented By: PUBLIC AUTO AUCTIONUp to 70 Lien Sale VehiclesWednesday August 24th  @ 12:35pm(Preview 12:00pm) Auctions held Wednesdays*** NEW LOCATION ***Otay Valley Rd & Heritage Rd\, Chula Vista(Look for signs to the new facility from this location\, actual site is up the hill on 738 Heritage Rd.)Phone: 619-694-7809For a map and directions\, click here Here are some photos of vehicles available at this week’s Western Towing Auto Auction.Click on any of the images below to see the larger picture.\n\n\n\nno images were found \n\n\n\nTo download a copy of the list in Adobe pdf format\, Click here.\n\n\n\n\n\n\n	NOCONTROLYEAR/MAKEMODELREF NOLS/T\n\n\n\n\n	122-181910 BMW535i280272LS\n\n\n	222-218308 MAZDA3284398LS\n\n\n	322-234602 PONTIACAZTEK285463LS\n\n\n	422-237896 FORDASPIRE285809LS\n\n\n	522-234901 BMW530i285582LS\n\n\n	622-235291 MERCEDES420SEL285696LS\n\n\n	722-219702 MITSUBISHIMONTERO284534LS\n\n\n	822-235795 FORDCONTOUR285679LS\n\n\n	922-240402 TOYOTASIENNA285946LS\n\n\n	1022-230406 CHEVROLETAVEO284912LS\n\n\n	1122-237403 CHEVROLETBLAZER285841LS\n\n\n	1222-238103 SATURNL200285812LS\n\n\n	1322-224900 NISSANFRONTIER284602LS\n\n\n	1422-214608 HONDAPILOT283915LS\n\n\n	1522-237701 ISUZURODEO285802LS\n\n\n	1622-124598 FORDF150273332LS\n\n\n	1722-235502 CHRYSLERCONCORDE285720LS\n\n\n	1822-216710 HYUNDAIELANTRA283997LS\n\n\n	1922-228099 FORDWINDSTAR285021LS\n\n\n	2022-229205 NISSANALTIMA284907LS\n\n\n	2122-243201 HONDACIVIC286191LS\n\n\n	22N/A13 FORDFIESTA31ATITLE\n\n\n	23N/A12 FORDFIESTA9ATITLE\n\n\n	2422-150397 FORDF150276391LS\n\n\n	2522-238005 TOYOTAPRIUS285686LS\n\n\n	2622-235308 DODGEGRD CARAVAN285703LS\n\n\n	2722-235899 TOYOTACAMRY285730LS\n\n\n	2822-239702 HONDACIVIC285975LS\n\n\n	2922-240804 HONDAACCORD285974LS\n\n\n	3022-240004 CHEVROLETCAVALIER286090LS\n\n\n	3122-227900 TOYOTATUNDRA284940LS\n\n\n	3222-239404 FORDMUSTANG286081LS\n\n\n	3322-237996 LEXUSES300285798LS\n\n\n	3422-237306 BMW530i285786LS\n\n\n	3522-239898 TOYOTARAV4286168LS\n\n\n	3622-186604 PONTIACGRD PRIX280658LS\n\n\n	3722-241105 NISSANFRONTIER285917LS\n\n\n	3822-199902 ACURAMDX282347LS\n\n\n	3922-243002 FORDTAURUS286324LS\n\n\n	4022-242813 DODGEDART286020LS\n\n\n	4122-241200 BMW740i285976LS\n\n\n	4222-213707 KIARONDO283627LS\n\n\n	4322-239502 FORDTAURUS286186LS\n\n\n	4422-242403 HYUNDAISONATA286319LS\n\n\n	4522-150404 HONDAACCORD276481LS\n\n\n	4622-244800 CHEVROLETCAMARO286560LS\n\n\n	4721-100999 FORDRANGER228971LS\n\n\n	4822-229007 NISSANALTIMA285227LS\n\n\n	4922-242396 CHEVOLETASTROVAN285930LS\n\n\n	5022-224800 FORDECONOLINE284644LS\n\n\n	51N/A98 FORDF150N/ATITLE\n\n\n\n\n\n\n\nTERMS AND CONDITIONS\n\nCash Only – All Sales are Final\n$200.00 refundable cash deposit to bid\nRefunds are available anytime during auction\nAll cars must be paid for and picked up by 4pm on Thursday ( no exceptions )\nAdditional deposits are required on vehicle’s over $1000.00\nLien sale vehicles sold to the general public are sold as is with all vaults and defects\, you are required to pay all DMV back registration and obtain a smog certificate before receiving your title from the DMV\, sales tax for your purchase will be paid directly to the DMV upon submission of the lien sale packet you will receive at the conclusion of the auction. Out of state buyers\, check with your local DMV to be sure that they will accept California lien sale documents for registration in your state.
URL:https://jbauctioneers.net/event/otay-mesa-auto-auction-20220824/
LOCATION:Western Towing\, 738 Heritage Rd.\, San Diego\, CA\, 92154\, United States
END:VEVENT
BEGIN:VEVENT
DTSTART;TZID=America/Los_Angeles:20220831T123500
DTEND;TZID=America/Los_Angeles:20220831T123500
DTSTAMP:20260424T031845
CREATED:20220730T132648Z
LAST-MODIFIED:20220826T230347Z
UID:13862-1661949300-1661949300@jbauctioneers.net
SUMMARY:OTAY MESA - AUTO AUCTION
DESCRIPTION:Presented By: PUBLIC AUTO AUCTIONUp to 70 Lien Sale VehiclesWednesday August 31st  @ 12:35pm(Preview 12:00pm) Auctions held Wednesdays*** NEW LOCATION ***Otay Valley Rd & Heritage Rd\, Chula Vista(Look for signs to the new facility from this location\, actual site is up the hill on 738 Heritage Rd.)Phone: 619-694-7809For a map and directions\, click here Here are some photos of vehicles available at this week’s Western Towing Auto Auction.Click on any of the images below to see the larger picture.\n\n\n\nno images were found \n\n\n\nTo download a copy of the list in Adobe pdf format\, Click here.\n\n\n\n\n\n\n	NOCONTROLYEAR/MAKEMODELREF#LS/T\n\n\n\n\n	122-252397 TOYOTAAVALON287171LS\n\n\n	222-250000 HONDAACCORD286916LS\n\n\n	322-248290 HONDAACCORD287089LS\n\n\n	422-245790 LINCOLNMARK 8286705LS\n\n\n	522-245805 BUICKCENTURY286702LS\n\n\n	622-240602 FORDEXPLORER285962LS\n\n\n	722-245503 OLDSMOBILEALERO286574LS\n\n\n	822-245498 TOYOTACOROLLA286570LS\n\n\n	922-243689 TOYOTACAMRY286452LS\n\n\n	1022-245901 TOYOTAECHO286706LS\n\n\n	1122-228898 MERCEDESM-CLASS285037LS\n\n\n	1222-227401 BMW325i285171LS\n\n\n	1322-249910 NISSANALTIMA286820LS\n\n\n	1422-202605 LINCOLNTOWNCAR282763LS\n\n\n	1522-193301 FORDEXPEDITION281523LS\n\n\n	1622-209202 LEXUSES300283552LS\n\n\n	1722-217901 VOLKSWAGENBEETLE284395LS\n\n\n	1822-227596 HONDAACCORD285172LS\n\n\n	1922-227105 TOYOTAPRIUS284915LS\n\n\n	2022-245195 HONDAACCORD286572LS\n\n\n	2122-193501 BMWX5281471LS\n\n\n	2222-239201 FORDEXPLORER285941LS\n\n\n	2322-217794 NISSANSENTRA284270LS\n\n\n	2422-198807 TOYOTACAMRY282260LS\n\n\n	2522-249401 BMW325i286822LS\n\n\n	2622-249199 LEXUSRX300286918LS\n\n\n	2722-180606 ACURAMDX279816LS\n\n\n	2822-219299 TOYOTACOROLLA284130LS\n\n\n	2922-192407 HONDACIVIC281289LS\n\n\n	3022-147603 HONDACRV276133LS\n\n\n	3121-174611 BMW328i236224LS\n\n\n	3222-248112 CHRYSLER200287049LS\n\n\n	3322-249601 MITSUBISHIECLIPSE287129LS\n\n\n	3422-252503 JAGUARS-TYPE287177LS\n\n\n	3522-198913 CHEVROLETCRUZE282248LS\n\n\n	3622-246302 FORDTAURUS286648LS\n\n\n	3722-250605 HONDAELEMENT286811LS\n\n\n	3822-220808 HYUNDAIELANTRA284363LS\n\n\n	3922-229806 VOLKSWAGENJETTA284901LS\n\n\n	4022-237101 CHEVROLETBLAZER285834LS\n\n\n	4122-250991 MERCEDES300CE286915LS\n\n\n	4222-250495 HONDAPRELUDE286674LS\n\n\n	4322-251112 FORDFOCUS286969LS\n\n\n	4422-079006 NISSANXTERRA267931LS\n\n\n	4522-248404 FORDF150286785LS\n\n\n	4622-248703 TOYOTAAVALON287086LS\n\n\n	4722-248303 TOYOTACAMRY286783LS\n\n\n	4822-139405 VOLKSWAGENJETTA275123LS\n\n\n	4922-248600 DODGEDAKOTA287077LS\n\n\n	5022-188502 GMCSAVANNA280903LS\n\n\n	5022-188502 GMCSAVANNA280903LS\n\n\n\n\n\n\n\nTERMS AND CONDITIONS\n\nCash Only – All Sales are Final\n$200.00 refundable cash deposit to bid\nRefunds are available anytime during auction\nAll cars must be paid for and picked up by 4pm on Thursday ( no exceptions )\nAdditional deposits are required on vehicle’s over $1000.00\nLien sale vehicles sold to the general public are sold as is with all vaults and defects\, you are required to pay all DMV back registration and obtain a smog certificate before receiving your title from the DMV\, sales tax for your purchase will be paid directly to the DMV upon submission of the lien sale packet you will receive at the conclusion of the auction. Out of state buyers\, check with your local DMV to be sure that they will accept California lien sale documents for registration in your state.
URL:https://jbauctioneers.net/event/otay-mesa-auto-auction-20220831/
LOCATION:Western Towing\, 738 Heritage Rd.\, San Diego\, CA\, 92154\, United States
END:VEVENT
END:VCALENDAR